BEGIN:VCALENDAR
VERSION:2.0
PRODID:-//American Camp Association New England - ECPv6.15.20//NONSGML v1.0//EN
CALSCALE:GREGORIAN
METHOD:PUBLISH
X-ORIGINAL-URL:https://www.acanewengland.org
X-WR-CALDESC:Events for American Camp Association New England
REFRESH-INTERVAL;VALUE=DURATION:PT1H
X-Robots-Tag:noindex
X-PUBLISHED-TTL:PT1H
BEGIN:VTIMEZONE
TZID:America/New_York
BEGIN:DAYLIGHT
TZOFFSETFROM:-0500
TZOFFSETTO:-0400
TZNAME:EDT
DTSTART:20220313T070000
END:DAYLIGHT
BEGIN:STANDARD
TZOFFSETFROM:-0400
TZOFFSETTO:-0500
TZNAME:EST
DTSTART:20221106T060000
END:STANDARD
BEGIN:DAYLIGHT
TZOFFSETFROM:-0500
TZOFFSETTO:-0400
TZNAME:EDT
DTSTART:20230312T070000
END:DAYLIGHT
BEGIN:STANDARD
TZOFFSETFROM:-0400
TZOFFSETTO:-0500
TZNAME:EST
DTSTART:20231105T060000
END:STANDARD
BEGIN:DAYLIGHT
TZOFFSETFROM:-0500
TZOFFSETTO:-0400
TZNAME:EDT
DTSTART:20240310T070000
END:DAYLIGHT
BEGIN:STANDARD
TZOFFSETFROM:-0400
TZOFFSETTO:-0500
TZNAME:EST
DTSTART:20241103T060000
END:STANDARD
BEGIN:DAYLIGHT
TZOFFSETFROM:-0500
TZOFFSETTO:-0400
TZNAME:EDT
DTSTART:20250309T070000
END:DAYLIGHT
BEGIN:STANDARD
TZOFFSETFROM:-0400
TZOFFSETTO:-0500
TZNAME:EST
DTSTART:20251102T060000
END:STANDARD
END:VTIMEZONE
BEGIN:VEVENT
DTSTART;TZID=America/New_York:20240119T130000
DTEND;TZID=America/New_York:20240119T140000
DTSTAMP:20260421T060558
CREATED:20240108T194221Z
LAST-MODIFIED:20240109T182016Z
UID:11294-1705669200-1705672800@www.acanewengland.org
SUMMARY:Coffee & Camp Chat 1/19 @ 1pm SPECIAL TIME
DESCRIPTION:THIS CHAT WILL BE A SPECIAL AFTERNOON CHAT DUE TO SCHEDULING CONFLICTS.\nSAME PLACE\, SAME VIBES\, SPECIAL TIME FOR THIS DAY\nTopic for 1/19: Program Innovation: What’s new at your camp or what programs are you looking to start? \nSend any questions you’d like to address around this topic to bud@acanewengland.org and we’ll include them in the conversation. \nCoffee & Camp Chat is a bi-weekly discussion among summer camp people! Sip your favorite beverage as we share insights\, swap stories\, and discuss trends in camping. Cozy into your Friday with fellow camp folk while we brew ideas\, forge connections\, and remind each other why there’s no place like camp! \nACCESS: C&CC is open to everyone in camping. However\, we host these gatherings through the New England Camp Community (ACA\, New England’s members platform). If you are not currently an ACA\, New England member and you’d like to join us for Coffee & Camp Chat\, please reach out to bud@acanewengland.org. He’ll help you with your one-time setup\, so you can join us for all future chats. \nHOW TO JOIN: \nHow to Find and Access Events (Video with Narration) \nHow to Find and Access Events (Step by Step Guide) \nFOR NEW ENGLAND MEMBERS: If it’s your first time logging into the New England Camp Community\, and you need help\, please refer to our NE Camp Community page or email bud@acanewengland.org.
URL:https://www.acanewengland.org/event/coffee-camp-chat-1-19/
LOCATION:Tradewing
CATEGORIES:Education,Coffee & Camp Chat
ATTACH;FMTTYPE=image/png:https://www.acanewengland.org/wp-content/uploads/2023/09/Coffee-and-Camp-Chat-Season-4-Graphic-e1695913467356.png
ORGANIZER;CN="ACA%2C New England":MAILTO:camp@acanewengland.org
END:VEVENT
BEGIN:VEVENT
DTSTART;TZID=America/New_York:20240108T143000
DTEND;TZID=America/New_York:20240108T153000
DTSTAMP:20260421T060558
CREATED:20231208T184607Z
LAST-MODIFIED:20231208T184607Z
UID:11177-1704724200-1704727800@www.acanewengland.org
SUMMARY:Hot Topics w/EPIC\, New England - January 2024
DESCRIPTION:Got Hot Topics you want to address? Questions you want to ask? Stories you want to share? email bud@acanewengland.org and we’ll get them on the agenda. \nThroughout the “off season”\, EPIC New England hosts monthly drop-ins for Emerging Professionals In Camping to connect and share thoughts\, questions\, information\, etc. around the topics that currently affect them in camping. \nWhile hosted by EPIC\, these conversations are open to anyone (EPIC\, full-time\, seasonal\, veteran\, etc.) who has insights or questions around the Hot Topic of the day. \nACCESS: “Hot Topics” is open to everyone in camping. However\, we host these gatherings through the New England Camp Community (ACA\, New England’s members platform). If you are not currently an ACA\, New England member and you’d like to join EPIC for Hot Topics\, please reach out to bud@acanewengland.org. He’ll help you with your one-time setup\, so you can join us for all future chats. \nHOW TO JOIN: \nHow to Find and Access Events (Video with Narration) \nHow to Find and Access Events (Step by Step Guide) \nFOR NEW ENGLAND MEMBERS: If it’s your first time logging into the New England Camp Community\, and you need help\, please refer to our NE Camp Community page or email bud@acanewengland.org. \n\nEPIC\, New England\nEmerging Professionals In Camping (EPIC) is a kindred group within the American Camp Association for counselors\, staff\, and other camp professionals to connect and grow their careers in camping. \nIn January 2019\, a group of emerging professionals in New England camping gathered at the ACA\, New England office in Lexington\, MA. Since then\, EPIC\, New England has continued to provide support\, connections\, and opportunities for anyone making that move into a camp career or taking another step towards their goals in the industry. \nIf you are someone passionate about a career in camping or a current camp pro looking for more growth and development\, you are EPIC.
URL:https://www.acanewengland.org/event/hot-topics-w-epic-new-england-january-2024/
LOCATION:Tradewing
CATEGORIES:Education,Emerging Professionals In Camping
ATTACH;FMTTYPE=image/jpeg:https://www.acanewengland.org/wp-content/uploads/2023/09/EPIC-Hot-Topics-e1695912931319.jpg
ORGANIZER;CN="EPIC%2C New England":MAILTO:camp@acanewengland.org
END:VEVENT
BEGIN:VEVENT
DTSTART;TZID=America/New_York:20240105T100000
DTEND;TZID=America/New_York:20240105T110000
DTSTAMP:20260421T060558
CREATED:20231221T195340Z
LAST-MODIFIED:20240104T193828Z
UID:11251-1704448800-1704452400@www.acanewengland.org
SUMMARY:Coffee & Camp Chat - 1/5/24
DESCRIPTION:Topic for 1/5/24:Now that it’s 2024\, what’s next? \nSend any questions you’d like to address around this topic to bud@acanewengland.org and we’ll include them in the conversation. \nCoffee & Camp Chat is a bi-weekly discussion among summer camp people! Sip your favorite beverage as we share insights\, swap stories\, and discuss trends in camping. Cozy into your Friday with fellow camp folk while we brew ideas\, forge connections\, and remind each other why there’s no place like camp! \nACCESS: C&CC is open to everyone in camping. However\, we host these gatherings through the New England Camp Community (ACA\, New England’s members platform). If you are not currently an ACA\, New England member and you’d like to join us for Coffee & Camp Chat\, please reach out to bud@acanewengland.org. He’ll help you with your one-time setup\, so you can join us for all future chats. \nHOW TO JOIN: \nHow to Find and Access Events (Video with Narration) \nHow to Find and Access Events (Step by Step Guide) \nFOR NEW ENGLAND MEMBERS: If it’s your first time logging into the New England Camp Community\, and you need help\, please refer to our NE Camp Community page or email bud@acanewengland.org.
URL:https://www.acanewengland.org/event/coffee-camp-chat-1-5-24/
LOCATION:Tradewing
CATEGORIES:Education,Coffee & Camp Chat
ATTACH;FMTTYPE=image/png:https://www.acanewengland.org/wp-content/uploads/2023/09/Coffee-and-Camp-Chat-Season-4-Graphic-e1695913467356.png
ORGANIZER;CN="Bud Copeland":MAILTO:bud@acanewengland.org
END:VEVENT
BEGIN:VEVENT
DTSTART;TZID=America/New_York:20231222T100000
DTEND;TZID=America/New_York:20231222T110000
DTSTAMP:20260421T060558
CREATED:20231208T183840Z
LAST-MODIFIED:20231208T183840Z
UID:11175-1703239200-1703242800@www.acanewengland.org
SUMMARY:Coffee & Camp Chat - 12/22
DESCRIPTION:Topic for 12/22: Summer staff management. How do we onboard\, train\, empower\, support\, and engage summer staff while also holding them accountable? \nSend any questions you’d like to address around this topic to bud@acanewengland.org and we’ll include them in the conversation. \nCoffee & Camp Chat is a bi-weekly discussion among summer camp people! Sip your favorite beverage as we share insights\, swap stories\, and discuss trends in camping. Cozy into your Friday with fellow camp folk while we brew ideas\, forge connections\, and remind each other why there’s no place like camp! \nACCESS: C&CC is open to everyone in camping. However\, we host these gatherings through the New England Camp Community (ACA\, New England’s members platform). If you are not currently an ACA\, New England member and you’d like to join us for Coffee & Camp Chat\, please reach out to bud@acanewengland.org. He’ll help you with your one-time setup\, so you can join us for all future chats. \nHOW TO JOIN: \nHow to Find and Access Events (Video with Narration) \nHow to Find and Access Events (Step by Step Guide) \nFOR NEW ENGLAND MEMBERS: If it’s your first time logging into the New England Camp Community\, and you need help\, please refer to our NE Camp Community page or email bud@acanewengland.org.
URL:https://www.acanewengland.org/event/coffee-camp-chat-12-22/
LOCATION:Tradewing
CATEGORIES:Education,Coffee & Camp Chat
ATTACH;FMTTYPE=image/png:https://www.acanewengland.org/wp-content/uploads/2023/09/Coffee-and-Camp-Chat-Season-4-Graphic-e1695913467356.png
ORGANIZER;CN="Bud Copeland":MAILTO:bud@acanewengland.org
END:VEVENT
BEGIN:VEVENT
DTSTART;TZID=America/New_York:20231109T100000
DTEND;TZID=America/New_York:20231109T110000
DTSTAMP:20260421T060558
CREATED:20231030T135155Z
LAST-MODIFIED:20231101T134207Z
UID:10831-1699524000-1699527600@www.acanewengland.org
SUMMARY:Coffee & Camp Chat - 11/9
DESCRIPTION:NOTE: This C&CC is on a THURSDAY. We are closed\, Friday (11/10) in observance of Veteran’s Day.\nStarting Point for 11/9: Staffing – on the heels of the ACA Staffing Summit\, let’s dig into staffing. Do folks have takeaways from the Staffing Summit? Where do we hire? How do we hire? When do we hire? How do we onboard? How do we staff programs? What do we pay staff? How do we calculate compensation?  \nCoffee & Camp Chat is a bi-weekly discussion among summer camp people! Sip your favorite beverage as we share insights\, swap stories\, and discuss trends in camping. Cozy into your Friday with fellow camp folk while we brew ideas\, forge connections\, and remind each other why there’s no place like camp! \nACCESS: C&CC is open to everyone in camping. However\, we host these gatherings through the New England Camp Community (ACA\, New England’s members platform). If you are not currently an ACA\, New England member and you’d like to join us for Coffee & Camp Chat\, please reach out to bud@acanewengland.org. He’ll help you with your one-time setup\, so you can join us for all future chats. \nHOW TO JOIN: \nHow to Find and Access Events (Video with Narration) \nHow to Find and Access Events (Step by Step Guide) \nFOR NEW ENGLAND MEMBERS: If it’s your first time logging into the New England Camp Community\, and you need help\, please refer to our NE Camp Community page or email bud@acanewengland.org. \n 
URL:https://www.acanewengland.org/event/coffee-camp-chat-11-9/
LOCATION:Tradewing
CATEGORIES:Education,Coffee & Camp Chat
ATTACH;FMTTYPE=image/png:https://www.acanewengland.org/wp-content/uploads/2023/09/Coffee-and-Camp-Chat-Season-4-Graphic-e1695913467356.png
ORGANIZER;CN="Bud Copeland":MAILTO:bud@acanewengland.org
END:VEVENT
BEGIN:VEVENT
DTSTART;TZID=America/New_York:20231106T143000
DTEND;TZID=America/New_York:20231106T153000
DTSTAMP:20260421T060558
CREATED:20231013T173806Z
LAST-MODIFIED:20231101T134247Z
UID:10770-1699281000-1699284600@www.acanewengland.org
SUMMARY:Hot Topics with EPIC\, New England
DESCRIPTION:TOPIC FOR NOVEMBER: Staffing – on the heels of the ACA Staffing Summit\, let’s dig into staffing. Do folks have takeaways from the Staffing Summit? Where do we hire? How do we hire? When do we hire? How do we onboard? How do we staff programs? What do we pay staff? How do we calculate compensation? \nThroughout the “off season”\, EPIC New England hosts monthly drop-ins for Emerging Professionals In Camping to connect and share thoughts\, questions\, information\, etc. around the topics that currently affect them in camping. \nWhile hosted by EPIC\, these conversations are open to anyone (EPIC\, full-time\, seasonal\, veteran\, etc.) who has insights or questions around the Hot Topic of the day. \nACCESS: “Hot Topics” is open to everyone in camping. However\, we host these gatherings through the New England Camp Community (ACA\, New England’s members platform). If you are not currently an ACA\, New England member and you’d like to join EPIC for Hot Topics\, please reach out to bud@acanewengland.org. He’ll help you with your one-time setup\, so you can join us for all future chats. \nHOW TO JOIN: \nHow to Find and Access Events (Video with Narration) \nHow to Find and Access Events (Step by Step Guide) \nFOR NEW ENGLAND MEMBERS: If it’s your first time logging into the New England Camp Community\, and you need help\, please refer to our NE Camp Community page or email bud@acanewengland.org. \n\nEPIC\, New England \nEmerging Professionals In Camping (EPIC) is a kindred group within the American Camp Association for counselors\, staff\, and other camp professionals to connect and grow their careers in camping. \nIn January 2019\, a group of emerging professionals in New England camping gathered at the ACA\, New England office in Lexington\, MA. Since then\, EPIC\, New England has continued to provide support\, connections\, and opportunities for anyone making that move into a camp career or taking another step towards their goals in the industry. \nIf you are someone passionate about a career in camping or a current camp pro looking for more growth and development\, you are EPIC.
URL:https://www.acanewengland.org/event/hot-topics-with-epic-new-england/
LOCATION:Tradewing
CATEGORIES:Education,Emerging Professionals In Camping
ATTACH;FMTTYPE=image/jpeg:https://www.acanewengland.org/wp-content/uploads/2023/09/EPIC-Hot-Topics-e1695912931319.jpg
ORGANIZER;CN="Bud Copeland":MAILTO:bud@acanewengland.org
END:VEVENT
BEGIN:VEVENT
DTSTART;TZID=America/New_York:20231027T143000
DTEND;TZID=America/New_York:20231027T150000
DTSTAMP:20260421T060558
CREATED:20231013T174827Z
LAST-MODIFIED:20231013T174946Z
UID:10773-1698417000-1698418800@www.acanewengland.org
SUMMARY:What is EPIC\, New England?
DESCRIPTION:Join the leadership for Emerging Professionals in Camping\, New England for an introduction and overview of the year ahead. \n\n\n \n\n\nWhat is EPIC\, New England? Where is it? Who is it for? How can engaging with EPIC? And why is getting involved with EPIC good for you and your camp?\n\n\n \n\n\nThe first half of this session will be recorded\, so if you can’t make it\, still RSVP so we can send you the recording link. \n\n\n \n\n\nThe second portion is reserved for Q&A. If none arise\, we’ll host an impromptu Hot Topics to finish our Friday.
URL:https://www.acanewengland.org/event/what-is-epic-new-england/
LOCATION:Tradewing
CATEGORIES:Education,Emerging Professionals In Camping
ATTACH;FMTTYPE=image/png:https://www.acanewengland.org/wp-content/uploads/2023/10/EPIC_New_England_logo_transparent_background_300pxW.png
ORGANIZER;CN="Bud Copeland":MAILTO:bud@acanewengland.org
END:VEVENT
BEGIN:VEVENT
DTSTART;TZID=America/New_York:20231027T100000
DTEND;TZID=America/New_York:20231027T110000
DTSTAMP:20260421T060558
CREATED:20231013T191919Z
LAST-MODIFIED:20231020T134619Z
UID:10778-1698400800-1698404400@www.acanewengland.org
SUMMARY:Coffee & Camp Chat - 10/27
DESCRIPTION:Starting Point for 10/27: Summer Self-Care for YOU! We’ve spent a few chats talking about how we care for others. This time\, let’s look at how we’re taking care of ourselves throughout the “camp season”. \nCoffee & Camp Chat is a bi-weekly discussion among summer camp people! Sip your favorite beverage as we share insights\, swap stories\, and discuss trends in camping. Cozy into your Friday with fellow camp folk while we brew ideas\, forge connections\, and remind each other why there’s no place like camp! \nACCESS: C&CC is open to everyone in camping. However\, we host these gatherings through the New England Camp Community (ACA\, New England’s members platform). If you are not currently an ACA\, New England member and you’d like to join us for Coffee & Camp Chat\, please reach out to bud@acanewengland.org. He’ll help you with your one-time setup\, so you can join us for all future chats. \nHOW TO JOIN: \nHow to Find and Access Events (Video with Narration) \nHow to Find and Access Events (Step by Step Guide) \nFOR NEW ENGLAND MEMBERS: If it’s your first time logging into the New England Camp Community\, and you need help\, please refer to our NE Camp Community page or email bud@acanewengland.org.
URL:https://www.acanewengland.org/event/coffee-camp-chat-10-27/
LOCATION:Tradewing
CATEGORIES:Education,Coffee & Camp Chat
ATTACH;FMTTYPE=image/png:https://www.acanewengland.org/wp-content/uploads/2023/09/Coffee-and-Camp-Chat-Season-4-Graphic-e1695913467356.png
ORGANIZER;CN="Bud Copeland":MAILTO:bud@acanewengland.org
END:VEVENT
BEGIN:VEVENT
DTSTART;TZID=America/New_York:20231013T100000
DTEND;TZID=America/New_York:20231013T110000
DTSTAMP:20260421T060558
CREATED:20230929T135732Z
LAST-MODIFIED:20231006T150505Z
UID:10683-1697191200-1697194800@www.acanewengland.org
SUMMARY:Coffee & Camp Chat - Season 4
DESCRIPTION:Coffee & Camp Chat is a bi-weekly discussion among summer camp people! Sip your favorite beverage as we share insights\, swap stories\, and discuss trends in camping. Cozy into your Friday with fellow camp folk while we brew ideas\, forge connections\, and remind each other why there’s no place like camp! \nTopic for 10/13: MESH Supports at Camp – In light of our recent “Learnings from the Field”\, let’s start by talking about Mental\, Emotional\, and Social Health for campers and staff. \nACCESS: C&CC is open to everyone in camping. However\, we host these gatherings through the New England Camp Community (ACA\, New England’s members platform). If you are not currently an ACA\, New England member and you’d like to join us for Coffee & Camp Chat\, please reach out to bud@acanewengland.org. He’ll help you with your one-time setup\, so you can join us for all future chats. \nHOW TO JOIN: \nHow to Find and Access Events (Video with Narration) \nHow to Find and Access Events (Step by Step Guide) \nFOR NEW ENGLAND MEMBERS: If it’s your first time logging into the New England Camp Community\, and you need help\, please refer to our NE Camp Community page or email bud@acanewengland.org.
URL:https://www.acanewengland.org/event/coffee-camp-chat-season-4-3/
LOCATION:Tradewing
CATEGORIES:Education,Coffee & Camp Chat
ATTACH;FMTTYPE=image/png:https://www.acanewengland.org/wp-content/uploads/2023/09/Coffee-and-Camp-Chat-Season-4-Graphic-e1695913467356.png
ORGANIZER;CN="Bud Copeland":MAILTO:bud@acanewengland.org
END:VEVENT
BEGIN:VEVENT
DTSTART;TZID=America/New_York:20231002T143000
DTEND;TZID=America/New_York:20231002T153000
DTSTAMP:20260421T060558
CREATED:20230925T200718Z
LAST-MODIFIED:20230926T150657Z
UID:10649-1696257000-1696260600@www.acanewengland.org
SUMMARY:Hot Topics w/EPIC New England
DESCRIPTION:Throughout the “off season”\, EPIC New England hosts monthly drop-ins for Emerging Professionals In Camping to connect and share thoughts\, questions\, information\, etc. around the topics that currently affect them in camping. \nWhile hosted by EPIC\, these conversations are open to anyone (EPIC\, full-time\, seasonal\, veteran\, etc.) who has insights or questions around the Hot Topic of the day. \nTopic for 9/29: Staff Culture: what role does it play and what role do we play in staff culture at camp? \nACCESS: “Hot Topics” is open to everyone in camping. However\, we host these gatherings through the New England Camp Community (ACA\, New England’s members platform). If you are not currently an ACA\, New England member and you’d like to join EPIC for Hot Topics\, please reach out to bud@acanewengland.org. He’ll help you with your one-time setup\, so you can join us for all future chats. \nHOW TO JOIN: \nHow to Find and Access Events (Video with Narration) \nHow to Find and Access Events (Step by Step Guide) \nFOR NEW ENGLAND MEMBERS: If it’s your first time logging into the New England Camp Community\, and you need help\, please refer to our NE Camp Community page or email bud@acanewengland.org. \n\nEPIC\, New England \nEmerging Professionals In Camping (EPIC) is a kindred group within the American Camp Association for counselors\, staff\, and other camp professionals to connect and grow their careers in camping. \nIn January 2019\, a group of emerging professionals in New England camping gathered at the ACA\, New England office in Lexington\, MA. Since then\, EPIC\, New England has continued to provide support\, connections\, and opportunities for anyone making that move into a camp career or taking another step towards their goals in the industry. \nIf you are someone passionate about a career in camping or a current camp pro looking for more growth and development\, you are EPIC.
URL:https://www.acanewengland.org/event/hot-topics-w-epic-new-england/
LOCATION:Tradewing
CATEGORIES:Education,Emerging Professionals In Camping
ATTACH;FMTTYPE=image/jpeg:https://www.acanewengland.org/wp-content/uploads/2023/09/EPIC-Hot-Topics-e1695912931319.jpg
ORGANIZER;CN="Bud Copeland":MAILTO:bud@acanewengland.org
END:VEVENT
BEGIN:VEVENT
DTSTART;TZID=America/New_York:20230929T100000
DTEND;TZID=America/New_York:20230929T110000
DTSTAMP:20260421T060558
CREATED:20230915T194412Z
LAST-MODIFIED:20230925T153531Z
UID:10570-1695981600-1695985200@www.acanewengland.org
SUMMARY:Coffee & Camp Chat - Season 4
DESCRIPTION:Coffee & Camp Chat is a bi-weekly discussion among summer camp people! Sip your favorite beverage as we share insights\, swap stories\, and discuss trends in camping. Cozy into your Friday with fellow camp folk while we brew ideas\, forge connections\, and remind each other why there’s no place like camp! \nTopic for 9/29: Staff Culture and Expectations \nACCESS: C&CC is open to everyone in camping. However\, we host these gatherings through the New England Camp Community (ACA\, New England’s members platform). If you are not currently an ACA\, New England member and you’d like to join us for Coffee & Camp Chat\, please reach out to bud@acanewengland.org. He’ll help you with your one-time setup\, so you can join us for all future chats. \nHOW TO JOIN: \nHow to Find and Access Events (Video with Narration) \nHow to Find and Access Events (Step by Step Guide) \nFOR NEW ENGLAND MEMBERS: If it’s your first time logging into the New England Camp Community\, and you need help\, please refer to our NE Camp Community page or email bud@acanewengland.org.
URL:https://www.acanewengland.org/event/coffee-camp-chat-season-4-2/
LOCATION:Tradewing
CATEGORIES:Education,Coffee & Camp Chat
ATTACH;FMTTYPE=image/png:https://www.acanewengland.org/wp-content/uploads/2023/09/Coffee-and-Camp-Chat-Season-4-Graphic-e1695913467356.png
ORGANIZER;CN="Bud Copeland":MAILTO:bud@acanewengland.org
END:VEVENT
END:VCALENDAR