BEGIN:VCALENDAR
VERSION:2.0
PRODID:-//American Camp Association New England - ECPv6.15.20//NONSGML v1.0//EN
CALSCALE:GREGORIAN
METHOD:PUBLISH
X-WR-CALNAME:American Camp Association New England
X-ORIGINAL-URL:https://www.acanewengland.org
X-WR-CALDESC:Events for American Camp Association New England
REFRESH-INTERVAL;VALUE=DURATION:PT1H
X-Robots-Tag:noindex
X-PUBLISHED-TTL:PT1H
BEGIN:VTIMEZONE
TZID:America/New_York
BEGIN:DAYLIGHT
TZOFFSETFROM:-0500
TZOFFSETTO:-0400
TZNAME:EDT
DTSTART:20230312T070000
END:DAYLIGHT
BEGIN:STANDARD
TZOFFSETFROM:-0400
TZOFFSETTO:-0500
TZNAME:EST
DTSTART:20231105T060000
END:STANDARD
BEGIN:DAYLIGHT
TZOFFSETFROM:-0500
TZOFFSETTO:-0400
TZNAME:EDT
DTSTART:20240310T070000
END:DAYLIGHT
BEGIN:STANDARD
TZOFFSETFROM:-0400
TZOFFSETTO:-0500
TZNAME:EST
DTSTART:20241103T060000
END:STANDARD
BEGIN:DAYLIGHT
TZOFFSETFROM:-0500
TZOFFSETTO:-0400
TZNAME:EDT
DTSTART:20250309T070000
END:DAYLIGHT
BEGIN:STANDARD
TZOFFSETFROM:-0400
TZOFFSETTO:-0500
TZNAME:EST
DTSTART:20251102T060000
END:STANDARD
END:VTIMEZONE
BEGIN:VEVENT
DTSTART;TZID=America/New_York:20241111T190000
DTEND;TZID=America/New_York:20241111T210000
DTSTAMP:20260420T165204
CREATED:20241018T132239Z
LAST-MODIFIED:20241106T212438Z
UID:12484-1731351600-1731358800@www.acanewengland.org
SUMMARY:CCA November Program: Teen Staff Panel
DESCRIPTION:The Connecticut Camping Association is inviting folks to a thought-provoking discussion where young staff share their perspectives on what they need in today’s work environment. This panel will focus on their insights\, challenges\, and suggestions for creating a supportive and fulfilling workplace. \nCCA has decided to offer a virtual option as well. There is a check box in the jot form to let them know if you will be joining online. 
URL:https://www.acanewengland.org/event/cca-november-program-teen-staff-panel/
LOCATION:The Hartford Stage Rehearsal Studio\, 942 Main St\, Hartford\, CT\, 06103
CATEGORIES:Education
ATTACH;FMTTYPE=image/png:https://www.acanewengland.org/wp-content/uploads/2024/10/CCA-Logo-1.png
END:VEVENT
END:VCALENDAR