BEGIN:VCALENDAR
VERSION:2.0
PRODID:-//American Camp Association New England - ECPv6.15.20//NONSGML v1.0//EN
CALSCALE:GREGORIAN
METHOD:PUBLISH
X-ORIGINAL-URL:https://www.acanewengland.org
X-WR-CALDESC:Events for American Camp Association New England
REFRESH-INTERVAL;VALUE=DURATION:PT1H
X-Robots-Tag:noindex
X-PUBLISHED-TTL:PT1H
BEGIN:VTIMEZONE
TZID:America/New_York
BEGIN:DAYLIGHT
TZOFFSETFROM:-0500
TZOFFSETTO:-0400
TZNAME:EDT
DTSTART:20230312T070000
END:DAYLIGHT
BEGIN:STANDARD
TZOFFSETFROM:-0400
TZOFFSETTO:-0500
TZNAME:EST
DTSTART:20231105T060000
END:STANDARD
BEGIN:DAYLIGHT
TZOFFSETFROM:-0500
TZOFFSETTO:-0400
TZNAME:EDT
DTSTART:20240310T070000
END:DAYLIGHT
BEGIN:STANDARD
TZOFFSETFROM:-0400
TZOFFSETTO:-0500
TZNAME:EST
DTSTART:20241103T060000
END:STANDARD
BEGIN:DAYLIGHT
TZOFFSETFROM:-0500
TZOFFSETTO:-0400
TZNAME:EDT
DTSTART:20250309T070000
END:DAYLIGHT
BEGIN:STANDARD
TZOFFSETFROM:-0400
TZOFFSETTO:-0500
TZNAME:EST
DTSTART:20251102T060000
END:STANDARD
END:VTIMEZONE
BEGIN:VEVENT
DTSTART;VALUE=DATE:20240909
DTEND;VALUE=DATE:20240911
DTSTAMP:20260420T165204
CREATED:20240612T155707Z
LAST-MODIFIED:20240905T150807Z
UID:12013-1725840000-1726012799@www.acanewengland.org
SUMMARY:New England Overnight Camp Tours - Maine
DESCRIPTION:ONLINE REGISTRATION HAS CLOSED. Please call ACA\, New England at 781-541-6080 to see if we can accommodate you for this program.\nACA\, New England is excited to head to Maine for this year’s Fall Overnight Camp Tours September 9 & 10!\nThese tours offer attendees a chance to visit six overnight camps in two days including:\n\nCamp Caribou\nHidden Valley Camp\nMedomak Family Camp & Retreat Center\nCamp Kingswood\nCamp Agawam\nKingsley Pines\n\nThis is a great opportunity to see a variety of camp properties\, experience how other organizations run their programs and facilities\, re-energize by networking with peers\, discuss lessons learned and hot topics from the past summer\, and gain new ideas as your off-season planning begins. \nThe $179/member; $199/non-member registration includes two lunches. Travel\, lodging\, breakfast\, and dinner are not included. \nDay One (Monday\, September 9): We will kick off at Camp Caribou at 10:30am with a tour followed by lunch\, then head over to Hidden Valley Camp\, and finish with a tour of Medomak Family Camp & Retreat Center by about 5 pm. Then\, join us for a happy hour at The Pub at Baxter in Lewiston\, ME to relax at the end of the day (ACANE will provide snacks). \nDay Two (Tuesday\, September 10): The day will begin at 9am at Camp Kingswood\, followed by a tour at Camp Agawam\, and lunch & a tour at Kingsley Pines. We will be wrapping up around 3:00 pm on the second day. \nHOTEL INFORMATION:  \n\nWe have a block of rooms secured for the night of Monday\, September 9 at:\n\nHampton Inn Oxford\, Oxford\, ME – $129/night + tax for double queen room OR king room. Breakfast and parking is included. Please use this link to book directly or call the hotel at 207-539-6055 and mention the ACA Camp Tours group. (Group rate available until August 26\, 2024.) (approx. 30mins from the Pub at Baxter in Lewiston & 40 minutes to Camp Kingswood)\nMicrotel Inn & Suites\, Windham\, ME – $197.70/night + tax for double queen room; $227.92/night + tax for single queen suite with a pull-out sofa. To book\, call hotel directly at 207-893-8870 and mention ACA New England group. (Group rate available until August 1\, 2024.) – free parking and breakfast included (approx. 40 minutes from The Pub at Baxter in Lewiston & 30 minutes to Camp Kingswood)\n\n\nYou can also choose to stay at one of the many other smaller hotels or AirBnBs in the area.\nShould you plan to come up early and want to stay somewhere Sunday night\, September 8\, we recommend looking in the Waterville area\, which is 15-20 minutes from Camp Caribou.\n\nWhile this event highlights overnight camp properties\, folks from all types of camps are welcome to attend!  \nThank you to Chalmers Camp Insurance  and IENA for their generous sponsorship of this event! \n(Want to see even more camps? Check out our Day Camp Tours opportunity in Connecticut on September 24 too! And\, spoiler alert\, YMCA Camp Woodstock offers both day and overnight programming.) \nQuestions? Reach out to Kerry\, ACA New England Director of Education and Professional Development\, at kerry@acanewengland.org or 781-541-6080 ext. 104. \nRegistrations are non-refundable\, but may be transferred to another eligible individual prior to the start of the event.
URL:https://www.acanewengland.org/event/new-england-resident-camp-tours-maine/
LOCATION:Maine Camps
CATEGORIES:Education
ATTACH;FMTTYPE=image/png:https://www.acanewengland.org/wp-content/uploads/2024/06/Fall-Overnight-Camp-Tours-Maine-4-e1719239349274.png
ORGANIZER;CN="Kerry Salvo":MAILTO:kerry@acanewengland.org
END:VEVENT
END:VCALENDAR