BEGIN:VCALENDAR
VERSION:2.0
PRODID:-//American Camp Association New England - ECPv6.15.20//NONSGML v1.0//EN
CALSCALE:GREGORIAN
METHOD:PUBLISH
X-ORIGINAL-URL:https://www.acanewengland.org
X-WR-CALDESC:Events for American Camp Association New England
REFRESH-INTERVAL;VALUE=DURATION:PT1H
X-Robots-Tag:noindex
X-PUBLISHED-TTL:PT1H
BEGIN:VTIMEZONE
TZID:America/New_York
BEGIN:DAYLIGHT
TZOFFSETFROM:-0500
TZOFFSETTO:-0400
TZNAME:EDT
DTSTART:20210314T070000
END:DAYLIGHT
BEGIN:STANDARD
TZOFFSETFROM:-0400
TZOFFSETTO:-0500
TZNAME:EST
DTSTART:20211107T060000
END:STANDARD
BEGIN:DAYLIGHT
TZOFFSETFROM:-0500
TZOFFSETTO:-0400
TZNAME:EDT
DTSTART:20220313T070000
END:DAYLIGHT
BEGIN:STANDARD
TZOFFSETFROM:-0400
TZOFFSETTO:-0500
TZNAME:EST
DTSTART:20221106T060000
END:STANDARD
BEGIN:DAYLIGHT
TZOFFSETFROM:-0500
TZOFFSETTO:-0400
TZNAME:EDT
DTSTART:20230312T070000
END:DAYLIGHT
BEGIN:STANDARD
TZOFFSETFROM:-0400
TZOFFSETTO:-0500
TZNAME:EST
DTSTART:20231105T060000
END:STANDARD
END:VTIMEZONE
BEGIN:VEVENT
DTSTART;TZID=America/New_York:20220323T083000
DTEND;TZID=America/New_York:20220323T180000
DTSTAMP:20260421T055553
CREATED:20211129T150943Z
LAST-MODIFIED:20211129T185241Z
UID:6386-1648024200-1648058400@www.acanewengland.org
SUMMARY:New Camp Director Workshop
DESCRIPTION:This is “Boot Camp” for new camp directors or those planning a camp career. In a small\, supportive atmosphere\, we will discuss the many tools you’ll need for running a successful day or resident camp. Learn from the pros about everything from staff hiring and training to working with parents\, from dealing with children to handling the everyday situations and issues that are an inevitable part of your life at camp. A team of experienced directors and consultants will lead workshops and provide invaluable materials and hands-on training scenarios. \nA boxed lunch is included with this registration. Please select your meal choice on the last page of the registration process. \nACA Members $80 / Non-members $105 \n\nWe extend our sincere gratitude to this Workshop’s sponsor: \nChalmers Camp Insurance
URL:https://www.acanewengland.org/event/new-camp-director-workshop-3/
LOCATION:DoubleTree by Hilton Manchester Downtown\, 700 Elm St\, Manchester\, NH\, 03101
CATEGORIES:Education,New Camp Director Workshop
ATTACH;FMTTYPE=image/jpeg:https://www.acanewengland.org/wp-content/uploads/2020/01/ACA-NE-New-Camp-Director-Workshop-e1699971490567.jpg
END:VEVENT
END:VCALENDAR