BEGIN:VCALENDAR
VERSION:2.0
PRODID:-//American Camp Association New England - ECPv6.15.20//NONSGML v1.0//EN
CALSCALE:GREGORIAN
METHOD:PUBLISH
X-ORIGINAL-URL:https://www.acanewengland.org
X-WR-CALDESC:Events for American Camp Association New England
REFRESH-INTERVAL;VALUE=DURATION:PT1H
X-Robots-Tag:noindex
X-PUBLISHED-TTL:PT1H
BEGIN:VTIMEZONE
TZID:America/New_York
BEGIN:DAYLIGHT
TZOFFSETFROM:-0500
TZOFFSETTO:-0400
TZNAME:EDT
DTSTART:20220313T070000
END:DAYLIGHT
BEGIN:STANDARD
TZOFFSETFROM:-0400
TZOFFSETTO:-0500
TZNAME:EST
DTSTART:20221106T060000
END:STANDARD
BEGIN:DAYLIGHT
TZOFFSETFROM:-0500
TZOFFSETTO:-0400
TZNAME:EDT
DTSTART:20230312T070000
END:DAYLIGHT
BEGIN:STANDARD
TZOFFSETFROM:-0400
TZOFFSETTO:-0500
TZNAME:EST
DTSTART:20231105T060000
END:STANDARD
BEGIN:DAYLIGHT
TZOFFSETFROM:-0500
TZOFFSETTO:-0400
TZNAME:EDT
DTSTART:20240310T070000
END:DAYLIGHT
BEGIN:STANDARD
TZOFFSETFROM:-0400
TZOFFSETTO:-0500
TZNAME:EST
DTSTART:20241103T060000
END:STANDARD
END:VTIMEZONE
BEGIN:VEVENT
DTSTART;TZID=America/New_York:20230622T090000
DTEND;TZID=America/New_York:20230622T170000
DTSTAMP:20260420T105241
CREATED:20230425T164917Z
LAST-MODIFIED:20230425T164917Z
UID:9917-1687424400-1687453200@www.acanewengland.org
SUMMARY:NE New Camp Director Workshop 6/22/23
DESCRIPTION:Are you a new camp director or planning a career in camp ? \nJoin us for a FAST PACED day focused on the many topics of running camp.  Staff training\, supervision\, hiring\, firing\, and so many more! \nCome prepared to fill your brain and notebook with lots of useful information. \nA team of experienced directors and consultants will lead workshops and provide invaluable materials and hands-on training scenarios. \nMembers: $80\nNon-members: $105 \nInquire about FREE membership with bud@acanewengland.\nPLEASE NOTE: If you are taking this training to fulfill the Massachusetts Camp Licensing requirements for directors\, please note you ALSO need to attend the training with the Department of Public Health.  This training will be held in conjunction with Massachusetts Camping Association. \nDPH Spring Education Sessions for Camps\nApril 28 – Becket\, MA (REGISTER HERE)\nMay 1 – Waltham\, MA (REGISTER HERE)
URL:https://www.acanewengland.org/event/ncdw62223/
LOCATION:Berkshire Partners Blue Hill Boys & Girls Club\, 15 Talbot Ave\, Dorchester\, MA\, 02124
CATEGORIES:Education,New Camp Director Workshop
ATTACH;FMTTYPE=image/jpeg:https://www.acanewengland.org/wp-content/uploads/2020/01/ACA-NE-New-Camp-Director-Workshop-e1699971490567.jpg
ORGANIZER;CN="Elizabeth Snell":MAILTO:elizabeth@acanewengland.org
END:VEVENT
END:VCALENDAR