BEGIN:VCALENDAR
VERSION:2.0
PRODID:-//American Camp Association New England - ECPv6.15.20//NONSGML v1.0//EN
CALSCALE:GREGORIAN
METHOD:PUBLISH
X-ORIGINAL-URL:https://www.acanewengland.org
X-WR-CALDESC:Events for American Camp Association New England
REFRESH-INTERVAL;VALUE=DURATION:PT1H
X-Robots-Tag:noindex
X-PUBLISHED-TTL:PT1H
BEGIN:VTIMEZONE
TZID:America/New_York
BEGIN:DAYLIGHT
TZOFFSETFROM:-0500
TZOFFSETTO:-0400
TZNAME:EDT
DTSTART:20210314T070000
END:DAYLIGHT
BEGIN:STANDARD
TZOFFSETFROM:-0400
TZOFFSETTO:-0500
TZNAME:EST
DTSTART:20211107T060000
END:STANDARD
BEGIN:DAYLIGHT
TZOFFSETFROM:-0500
TZOFFSETTO:-0400
TZNAME:EDT
DTSTART:20220313T070000
END:DAYLIGHT
BEGIN:STANDARD
TZOFFSETFROM:-0400
TZOFFSETTO:-0500
TZNAME:EST
DTSTART:20221106T060000
END:STANDARD
BEGIN:DAYLIGHT
TZOFFSETFROM:-0500
TZOFFSETTO:-0400
TZNAME:EDT
DTSTART:20230312T070000
END:DAYLIGHT
BEGIN:STANDARD
TZOFFSETFROM:-0400
TZOFFSETTO:-0500
TZNAME:EST
DTSTART:20231105T060000
END:STANDARD
END:VTIMEZONE
BEGIN:VEVENT
DTSTART;TZID=America/New_York:20220602T140000
DTEND;TZID=America/New_York:20220602T150000
DTSTAMP:20260420T165745
CREATED:20220209T194833Z
LAST-MODIFIED:20220502T144226Z
UID:7074-1654178400-1654182000@www.acanewengland.org
SUMMARY:Current Trends in Stress and Anxiety: Spotting and Supporting It
DESCRIPTION:Now that the live session date has passed\, you can still register to receive the recording\, which can be viewed through June 2\, 2022.\nACA\, New England Spring E-Session Series \nAttending the New England Camp Conference? Receive 20% off any of the following e-session registrations – email Kerry for the promo code. \nBuy four\, get one free! Register for four e-sessions\, and email Kerry to get a fifth session for free (you can use this all for yourself or mix and match staff from your camp \n  \nCurrent Trends in Stress and Anxiety: Spotting and Supporting It\nCOVID is triggering anxiety in individuals that were previously successfully managing their emotions\, in turn\, our more vulnerable individuals to experience significant challenges managing their anxiety. We will start with an overview of anxiety\, separating fact vs. fiction\, followed by concrete approaches for how camp staff could proactively support anxiety management\, do so in the moment (responsively)\, while also managing their own emotions to avoid reacting in unproductive ways. \nThursday\, April 28\, 2:00 – 3:00 pm ET\, E-Session on Zoom \nCost: $25 for individual ACA members; $40 for non-members \nThis session will be recorded and shared with registered attendees who are unable to join live to watch for 30 days. \n\nAbout the Presenters:\n \nElise Wulff\, MGH Aspire \nElise Wulff has over 10 years of experience collaborating with and supporting the neurodiverse population\, their families\, and professionals in both public and private settings. A veteran of the specialized camp world\, Elise helps programs develop\, implement\, and refine staff training modules for such topics as inclusion practices\, behavior management\, social skills development\, stress management\, and self-awareness strategies in the camp setting. Elise combines her teaching experience with research-supported social-emotional interventions to help camps reach their own goals of supporting the Whole Camper. In addition\, Elise oversees year-round programming that includes groups\, parent coaching\, professional development\, curriculum design. \n 
URL:https://www.acanewengland.org/event/current-trends-in-stress-and-anxiety-spotting-and-supporting-it/
LOCATION:ACA\, New England Spring E-Session Series
CATEGORIES:Spring E-Session Series
ATTACH;FMTTYPE=image/png:https://www.acanewengland.org/wp-content/uploads/2022/04/THE-RECORDING.png
ORGANIZER;CN="Kerry Salvo":MAILTO:kerry@acanewengland.org
END:VEVENT
BEGIN:VEVENT
DTSTART;VALUE=DATE:20220516
DTEND;VALUE=DATE:20220517
DTSTAMP:20260420T165745
CREATED:20220209T173319Z
LAST-MODIFIED:20220414T131910Z
UID:7065-1652659200-1652745599@www.acanewengland.org
SUMMARY:ICYMI: Values-Based Programming: Aligning your camp's program with your organization's values
DESCRIPTION:Now that the live session date has passed\, you can still register to receive the recording\, which can be viewed through Monday\, May 16\, 2022.\nACA\, New England Spring E-Session Series \nAttending the New England Camp Conference? Receive 20% off any of the following e-session registrations – email Kerry for the promo code. \nBuy four\, get one free! Register for four e-sessions\, and email Kerry to get a fifth session for free (you can use this all for yourself or mix and match staff from your camp). \nValues-Based Programming: Aligning your camp’s program with your organization’s values\nOrganizational values describe the qualities of the environment that will allow your camp to achieve its mission and vision. In this session\, you’ll learn how to take your camp programming to the next level by aligning it with your organizational values. We’ll discuss how (and when) to craft aspirational vision statements. You’ll learn how (and when) to identify and create organizational values. And you’ll learn how to use values-based programming to drive meaningful and lasting change. We’ll key in on strategies to overcome the mightiest obstacles to change. Are you ready to innovate your program? \nWednesday\, April 13\, 2:00 – 3:00 pm ET\, E-Session on Zoom \nCost: $25 for individual ACA members; $40 for non-members \nThis session will be recorded and shared with registered attendees who are unable to join live to watch for 30 days. \nNow that the live session date has passed\, you can still register to receive the recording\, which can be viewed through Monday\, May 16\, 2022.\n\nAbout the Presenters:\nAaron Proietti\, Founder\, Today’s Innovator \nAaron Proietti is the author of the book Today’s Innovator\, and founder of a coaching and training company of the same name. He is an innovation expert with seventeen years of experience innovating in complex organizations. Aaron views innovation not as an activity\, but as a core business competency that must be developed\, led\, and nurtured within both the individual and the organization. Aaron has spoken at numerous conferences on topics related to innovation leadership\, innovation strategy\, customer-centricity\, culture change\, and technology trends. Through Today’s Innovator’s Shout.Camp program\, Aaron and team advises camps on strategy\, future visioning\, program design\, and more.
URL:https://www.acanewengland.org/event/values-based-programming-aligning-your-camps-program-with-your-organizations-values/
LOCATION:ACA\, New England Spring E-Session Series
CATEGORIES:Education,Spring E-Session Series
ATTACH;FMTTYPE=image/png:https://www.acanewengland.org/wp-content/uploads/2022/04/THE-RECORDING.png
ORGANIZER;CN="Kerry Salvo":MAILTO:kerry@acanewengland.org
END:VEVENT
BEGIN:VEVENT
DTSTART;VALUE=DATE:20220509
DTEND;VALUE=DATE:20220510
DTSTAMP:20260420T165745
CREATED:20220408T041707Z
LAST-MODIFIED:20220408T201150Z
UID:7047-1652054400-1652140799@www.acanewengland.org
SUMMARY:ICYMI: Emotional First Aid: Stress & Trauma Response Training - ACA\, New England Spring E-Session Series (The Recording)
DESCRIPTION:Now that the live session date has passed\, you can still register to receive the recording\, which can be viewed through Monday\, May 9\, 2022.\nACA\, New England Spring E-Session Series \nAttending the New England Camp Conference? Receive 20% off any of the following e-session registrations – email Kerry for the promo code. \nBuy four\, get one free! Register for four e-sessions\, and email Kerry to get a fifth session for free (you can use this all for yourself or mix and match staff from your camp). \nEmotional First Aid: Stress & Trauma Response Training\nOur Emotional First Aid (EFA) and After Care embodied practices bring ‘emergency room care for emotions’ to your providers\, and our after care practices help to create a culture to mitigate stress and bystander trauma. EFA will provide practitioners with simple tools and practices to take care of one’s self while we care for others. \nIn this workshop providers will learn how to reduce stress\, build systems that support recovery\, and get simple tools to use daily- at work and at home- to lower the burnout and burden of camp counselors. \nWednesday\, April 6\, 2:30 – 4:00 pm ET\, E-Session on Zoom \nCost: $25 for individual ACA members; $40 for non-members \nThis session will be recorded and shared with registered attendees who are unable to join live to watch for 30 days. \nNow that the live session date has passed\, you can still register to receive the recording\, which can be viewed through Monday\, May 9\, 2022.\n\nAbout the Presenters:\nChristi Garner\, LMFT\, Trauma & Recovery Director\, Shakti Rising \nChristi has been working on the frontlines with trauma and recovery for over two decades\, as a therapist\, trauma informed yoga teacher and trainer. Facilitating resilience training for first responders\, military service members\, and health care professionals she brings together neuroscience\, trauma informed leadership\, and mindfulness to focus on post traumatic growth. \n  \n  \n  \n  \n  \nShannon Thompson\, founder & Visionary Director\, Shakti Rising \nShannon has over 30 years of experience in strategic planning\, emergent design\, community engagement\, and policy and practices for trauma recovery.
URL:https://www.acanewengland.org/event/emotional-first-aid-stress-trauma-response-training-aca-new-england-spring-e-session-series/
LOCATION:ACA\, New England Spring E-Session Series
CATEGORIES:Education,Spring E-Session Series
ATTACH;FMTTYPE=image/png:https://www.acanewengland.org/wp-content/uploads/2022/04/THE-RECORDING.png
ORGANIZER;CN="Kerry Salvo":MAILTO:kerry@acanewengland.org
END:VEVENT
END:VCALENDAR