BEGIN:VCALENDAR
VERSION:2.0
PRODID:-//American Camp Association New England - ECPv6.15.20//NONSGML v1.0//EN
CALSCALE:GREGORIAN
METHOD:PUBLISH
X-WR-CALNAME:American Camp Association New England
X-ORIGINAL-URL:https://www.acanewengland.org
X-WR-CALDESC:Events for American Camp Association New England
REFRESH-INTERVAL;VALUE=DURATION:PT1H
X-Robots-Tag:noindex
X-PUBLISHED-TTL:PT1H
BEGIN:VTIMEZONE
TZID:America/New_York
BEGIN:DAYLIGHT
TZOFFSETFROM:-0500
TZOFFSETTO:-0400
TZNAME:EDT
DTSTART:20190310T070000
END:DAYLIGHT
BEGIN:STANDARD
TZOFFSETFROM:-0400
TZOFFSETTO:-0500
TZNAME:EST
DTSTART:20191103T060000
END:STANDARD
BEGIN:DAYLIGHT
TZOFFSETFROM:-0500
TZOFFSETTO:-0400
TZNAME:EDT
DTSTART:20200308T070000
END:DAYLIGHT
BEGIN:STANDARD
TZOFFSETFROM:-0400
TZOFFSETTO:-0500
TZNAME:EST
DTSTART:20201101T060000
END:STANDARD
BEGIN:DAYLIGHT
TZOFFSETFROM:-0500
TZOFFSETTO:-0400
TZNAME:EDT
DTSTART:20210314T070000
END:DAYLIGHT
BEGIN:STANDARD
TZOFFSETFROM:-0400
TZOFFSETTO:-0500
TZNAME:EST
DTSTART:20211107T060000
END:STANDARD
BEGIN:DAYLIGHT
TZOFFSETFROM:-0500
TZOFFSETTO:-0400
TZNAME:EDT
DTSTART:20220313T070000
END:DAYLIGHT
BEGIN:STANDARD
TZOFFSETFROM:-0400
TZOFFSETTO:-0500
TZNAME:EST
DTSTART:20221106T060000
END:STANDARD
BEGIN:DAYLIGHT
TZOFFSETFROM:-0500
TZOFFSETTO:-0400
TZNAME:EDT
DTSTART:20230312T070000
END:DAYLIGHT
BEGIN:STANDARD
TZOFFSETFROM:-0400
TZOFFSETTO:-0500
TZNAME:EST
DTSTART:20231105T060000
END:STANDARD
BEGIN:DAYLIGHT
TZOFFSETFROM:-0500
TZOFFSETTO:-0400
TZNAME:EDT
DTSTART:20240310T070000
END:DAYLIGHT
BEGIN:STANDARD
TZOFFSETFROM:-0400
TZOFFSETTO:-0500
TZNAME:EST
DTSTART:20241103T060000
END:STANDARD
BEGIN:DAYLIGHT
TZOFFSETFROM:-0500
TZOFFSETTO:-0400
TZNAME:EDT
DTSTART:20250309T070000
END:DAYLIGHT
BEGIN:STANDARD
TZOFFSETFROM:-0400
TZOFFSETTO:-0500
TZNAME:EST
DTSTART:20251102T060000
END:STANDARD
END:VTIMEZONE
BEGIN:VEVENT
DTSTART;TZID=America/New_York:20240406T080000
DTEND;TZID=America/New_York:20240407T170000
DTSTAMP:20260420T152859
CREATED:20240216T183611Z
LAST-MODIFIED:20240216T183747Z
UID:11536-1712390400-1712509200@www.acanewengland.org
SUMMARY:SOLO Wilderness First Aid (THREE OFFERINGS)
DESCRIPTION:Do you like to spend time outdoors? Accidents happen; if you or someone in your group got hurt\, would you know what to do? People get hurt\, sick\, or lost.  Many back country emergencies are preventable and even when bad things happen\, sometimes the wrong care can make things worse. \nWilderness First Aid is the perfect course for the outdoor enthusiast or trip leader who wants more than basic level of first aid training for short trips with family\, friends\, and outdoor groups. The 16 hour long (two-day) program focuses on the skills of: Response and Assessment\, Musculoskeletal Injuries\, Environmental Emergencies\, Survival Skills\, Soft Tissue Injuries\, and Medical Emergencies. \nThose who complete the course and pass the written and practical skills will receive a Wilderness First Aid certification from SOLO which is valid for 2 years. \nOptional CPR Training \nAn optional  Adult CPR Certification Course will be offered on Saturday evening for an additional fee of $50.00 for those who would like to get certified.  While certification is recommended; it is not required. \nCertification Received:  Participants successfully completing the course will receive \nThis 2-day course is being offered three times: 4/6-7\, 4/27-28\, 5/25-26
URL:https://www.acanewengland.org/event/solo-wilderness-first-aid/
LOCATION:Function Hall @ Wasserman Park\, 116 Naticook Rd\, Merrimack\, NH\, United States
CATEGORIES:Education,Training - Non-ACA
ATTACH;FMTTYPE=image/webp:https://www.acanewengland.org/wp-content/uploads/2024/02/solo.webp
ORGANIZER;CN="Matt Casparius":MAILTO:mcasparius@merrimacknh.gov
END:VEVENT
BEGIN:VEVENT
DTSTART;TZID=America/New_York:20201115T080000
DTEND;TZID=America/New_York:20201116T170000
DTSTAMP:20260420T152859
CREATED:20200928T174019Z
LAST-MODIFIED:20201015T161406Z
UID:4191-1605427200-1605546000@www.acanewengland.org
SUMMARY:Wilderness First Aid Training
DESCRIPTION:Do you like to spend time outdoors? Accidents happen; if you or someone in your group got hurt\, would you know what to do? People get hurt\, sick\, or lost. Many back country emergencies are preventable and even when bad things happen\, sometimes the wrong care can make things worse. \nWilderness First Aid is the perfect course for the outdoor enthusiast or trip leader who wants more than basic level of first aid training for short trips with family\, friends\, and outdoor groups. The 16 hour long (two-day) program focuses on the skills of: Response and Assessment\, Musculoskeletal Injuries\, Environmental Emergencies\, Survival Skills\, Soft Tissue Injuries\, and Medical Emergencies. \nThose who complete the course and pass the written and practical skills will receive a Wilderness First Aid certification from SOLO which is valid for 2 years. SOLO is among the leaders in Wilderness Medicine Training and certification. Coffee and snacks will be provided each day. This course will be held at Wasserman Park in Merrimack\, NH. \nDue to COVID 19; we are capping class sizes to no more than 12 people. Classroom space will be setup to allow for students to remain 6ft apart during didactic lessons. For practical work\, students are paired with one person\, and one person only. These people will work together during practical sessions/assessments and otherwise will be expected to remain separated during class. The pair will remain the same from day one through day two. We will not be teaching group scenarios and will also only discuss certain components\, such as patient lifting and moving. \nThe cost of this invaluable training is $160.00 per person. \nFor questions\, call Merrimack Parks & Recreation at 603-882-1046
URL:https://www.acanewengland.org/event/wilderness-first-aid-training/
CATEGORIES:Training
ATTACH;FMTTYPE=image/jpeg:https://www.acanewengland.org/wp-content/uploads/2019/11/OutdoorSkills-Mowglis-scaled-e1574277263546.jpg
ORGANIZER;CN="Matt Casparius":MAILTO:mcasparius@merrimacknh.gov
END:VEVENT
END:VCALENDAR