BEGIN:VCALENDAR
VERSION:2.0
PRODID:-//American Camp Association New England - ECPv6.15.20//NONSGML v1.0//EN
CALSCALE:GREGORIAN
METHOD:PUBLISH
X-ORIGINAL-URL:https://www.acanewengland.org
X-WR-CALDESC:Events for American Camp Association New England
REFRESH-INTERVAL;VALUE=DURATION:PT1H
X-Robots-Tag:noindex
X-PUBLISHED-TTL:PT1H
BEGIN:VTIMEZONE
TZID:America/New_York
BEGIN:DAYLIGHT
TZOFFSETFROM:-0500
TZOFFSETTO:-0400
TZNAME:EDT
DTSTART:20190310T070000
END:DAYLIGHT
BEGIN:STANDARD
TZOFFSETFROM:-0400
TZOFFSETTO:-0500
TZNAME:EST
DTSTART:20191103T060000
END:STANDARD
BEGIN:DAYLIGHT
TZOFFSETFROM:-0500
TZOFFSETTO:-0400
TZNAME:EDT
DTSTART:20200308T070000
END:DAYLIGHT
BEGIN:STANDARD
TZOFFSETFROM:-0400
TZOFFSETTO:-0500
TZNAME:EST
DTSTART:20201101T060000
END:STANDARD
BEGIN:DAYLIGHT
TZOFFSETFROM:-0500
TZOFFSETTO:-0400
TZNAME:EDT
DTSTART:20210314T070000
END:DAYLIGHT
BEGIN:STANDARD
TZOFFSETFROM:-0400
TZOFFSETTO:-0500
TZNAME:EST
DTSTART:20211107T060000
END:STANDARD
BEGIN:DAYLIGHT
TZOFFSETFROM:-0500
TZOFFSETTO:-0400
TZNAME:EDT
DTSTART:20220313T070000
END:DAYLIGHT
BEGIN:STANDARD
TZOFFSETFROM:-0400
TZOFFSETTO:-0500
TZNAME:EST
DTSTART:20221106T060000
END:STANDARD
BEGIN:DAYLIGHT
TZOFFSETFROM:-0500
TZOFFSETTO:-0400
TZNAME:EDT
DTSTART:20230312T070000
END:DAYLIGHT
BEGIN:STANDARD
TZOFFSETFROM:-0400
TZOFFSETTO:-0500
TZNAME:EST
DTSTART:20231105T060000
END:STANDARD
BEGIN:DAYLIGHT
TZOFFSETFROM:-0500
TZOFFSETTO:-0400
TZNAME:EDT
DTSTART:20240310T070000
END:DAYLIGHT
BEGIN:STANDARD
TZOFFSETFROM:-0400
TZOFFSETTO:-0500
TZNAME:EST
DTSTART:20241103T060000
END:STANDARD
BEGIN:DAYLIGHT
TZOFFSETFROM:-0500
TZOFFSETTO:-0400
TZNAME:EDT
DTSTART:20250309T070000
END:DAYLIGHT
BEGIN:STANDARD
TZOFFSETFROM:-0400
TZOFFSETTO:-0500
TZNAME:EST
DTSTART:20251102T060000
END:STANDARD
END:VTIMEZONE
BEGIN:VEVENT
DTSTART;TZID=America/New_York:20241104T143000
DTEND;TZID=America/New_York:20241104T153000
DTSTAMP:20260420T151004
CREATED:20241008T160025Z
LAST-MODIFIED:20241002T132526Z
UID:12400-1730730600-1730734200@www.acanewengland.org
SUMMARY:Hot Topics w/EPIC - November 2024
DESCRIPTION:Got Hot Topics you want to address? Questions you want to ask? Stories you want to share? email bud@acanewengland.org and we’ll get them on the agenda. \nThroughout the “off season”\, EPIC New England hosts monthly drop-ins for Emerging Professionals In Camping to connect and share thoughts\, questions\, information\, etc. around the topics that currently affect them in camping. \nWhile hosted by EPIC\, these conversations are open to anyone (EPIC\, full-time\, seasonal\, veteran\, etc.) who has insights or questions around the Hot Topic of the day. \n\nEPIC\, New England\nEmerging Professionals In Camping (EPIC) is a kindred group within the American Camp Association for counselors\, staff\, and other camp professionals to connect and grow their careers in camping. \nIn January 2019\, a group of emerging professionals in New England camping gathered at the ACA\, New England office in Lexington\, MA. Since then\, EPIC\, New England has continued to provide support\, connections\, and opportunities for anyone making that move into a camp career or taking another step towards their goals in the industry. \nIf you are someone passionate about a career in camping or a current camp pro looking for more growth and development\, you are EPIC.
URL:https://www.acanewengland.org/event/hot-topics-w-epic-november-2024/
LOCATION:Zoom
CATEGORIES:Education,Emerging Professionals In Camping
ATTACH;FMTTYPE=image/png:https://www.acanewengland.org/wp-content/uploads/2024/10/Hot-Topics-Graphic2-e1727806282972.png
ORGANIZER;CN="EPIC%2C New England":MAILTO:camp@acanewengland.org
END:VEVENT
BEGIN:VEVENT
DTSTART;TZID=America/New_York:20201218T150000
DTEND;TZID=America/New_York:20201218T160000
DTSTAMP:20260420T151004
CREATED:20201218T145703Z
LAST-MODIFIED:20201218T145732Z
UID:4745-1608303600-1608307200@www.acanewengland.org
SUMMARY:2020 EPIC\, New England Holiday Hang
DESCRIPTION:
URL:https://www.acanewengland.org/event/2020-epic-new-england-holiday-hang/
LOCATION:Zoom
CATEGORIES:Social/Networking
ATTACH;FMTTYPE=image/jpeg:https://www.acanewengland.org/wp-content/uploads/2019/11/OutdoorSkills-Mowglis-scaled-e1574277263546.jpg
ORGANIZER;CN="EPIC%2C New England":MAILTO:camp@acanewengland.org
END:VEVENT
END:VCALENDAR