BEGIN:VCALENDAR
VERSION:2.0
PRODID:-//American Camp Association New England - ECPv6.15.20//NONSGML v1.0//EN
CALSCALE:GREGORIAN
METHOD:PUBLISH
X-ORIGINAL-URL:https://www.acanewengland.org
X-WR-CALDESC:Events for American Camp Association New England
REFRESH-INTERVAL;VALUE=DURATION:PT1H
X-Robots-Tag:noindex
X-PUBLISHED-TTL:PT1H
BEGIN:VTIMEZONE
TZID:America/New_York
BEGIN:DAYLIGHT
TZOFFSETFROM:-0500
TZOFFSETTO:-0400
TZNAME:EDT
DTSTART:20240310T070000
END:DAYLIGHT
BEGIN:STANDARD
TZOFFSETFROM:-0400
TZOFFSETTO:-0500
TZNAME:EST
DTSTART:20241103T060000
END:STANDARD
BEGIN:DAYLIGHT
TZOFFSETFROM:-0500
TZOFFSETTO:-0400
TZNAME:EDT
DTSTART:20250309T070000
END:DAYLIGHT
BEGIN:STANDARD
TZOFFSETFROM:-0400
TZOFFSETTO:-0500
TZNAME:EST
DTSTART:20251102T060000
END:STANDARD
BEGIN:DAYLIGHT
TZOFFSETFROM:-0500
TZOFFSETTO:-0400
TZNAME:EDT
DTSTART:20260308T070000
END:DAYLIGHT
BEGIN:STANDARD
TZOFFSETFROM:-0400
TZOFFSETTO:-0500
TZNAME:EST
DTSTART:20261101T060000
END:STANDARD
BEGIN:DAYLIGHT
TZOFFSETFROM:-0500
TZOFFSETTO:-0400
TZNAME:EDT
DTSTART:20270314T070000
END:DAYLIGHT
BEGIN:STANDARD
TZOFFSETFROM:-0400
TZOFFSETTO:-0500
TZNAME:EST
DTSTART:20271107T060000
END:STANDARD
END:VTIMEZONE
BEGIN:VEVENT
DTSTART;TZID=America/New_York:20260112T130000
DTEND;TZID=America/New_York:20260112T140000
DTSTAMP:20260421T091913
CREATED:20251120T191727Z
LAST-MODIFIED:20251120T193915Z
UID:14942-1768222800-1768226400@www.acanewengland.org
SUMMARY:Emergency Preparedness at Camp: A Panel Discussion with Chalmers Camp Insurance
DESCRIPTION:Emergency action planning has become a critical focus across the camp community following the devastating flooding in Texas this past summer. This timely webinar brings camp professionals together to learn from peers who have navigated real-life emergencies and discover why a strong camp culture is just as essential as well-crafted policies. \nOur panel will share their experiences and highlight key emergency management resources to support programs before\, during\, and after a crisis. Whether you’re refining an existing plan or building one from the ground up\, this session will provide actionable insights to help you prepare with confidence. \nPanelists: \n\nJolly Corley\, Co-Director\, Camp Robindel\nTony Oyenarte\, Camp Director\, Camp Emerson\nTonya Roy\, Director of Quality Controls\, YMCA of the USA\nKatie Johnson\, Senior Risk Consultant\, Chalmers Camp Insurance\n\nWhen: January 12\, 2026 at 1:00pm EDT \nWhere: Zoom (link will be provided prior to the start of the session) \nCost: FREE \nClick Here to Register \n*This program is offered by Chalmers Camp Insurance as part of their partnership with ACA\, New England.*\nQuestions\, reach out Gillian Gold\, Events & Logistics Coordinator at gillian@acanewengland.org or 781-541-6080 ext. 106. \nUse of Images and Audio by ACA\, New England: Through my registration\, I give American Camp Association\, New England (ACANE) full rights and permissions with respect to any photographs\, video\, and audio recordings taken during the ACANE event. These images and recordings may be used by ACANE and its agents in any format or medium and for any lawful purpose.
URL:https://www.acanewengland.org/event/emergency-preparedness-at-camp-a-panel-discussion-with-chalmers-camp-insurance/
LOCATION:Zoom
CATEGORIES:Education
ATTACH;FMTTYPE=image/png:https://www.acanewengland.org/wp-content/uploads/2025/11/Chalmers-11226.png
END:VEVENT
BEGIN:VEVENT
DTSTART;TZID=America/New_York:20251106T130000
DTEND;TZID=America/New_York:20251106T140000
DTSTAMP:20260421T091913
CREATED:20250918T195114Z
LAST-MODIFIED:20251008T125129Z
UID:14642-1762434000-1762437600@www.acanewengland.org
SUMMARY:Reflecting on 2025 to Prepare for 2026 (A Chalmers Camp Insurance e-session)
DESCRIPTION:Most camps have had a chance to look back on the summer—and many are already deep into planning for 2026. But as teams settle back into the day-to-day rhythm of the off-season—staff hiring\, camper registration\, and marketing—some of those great reflections and ideas from 2025 can get pushed aside. This webinar is a chance to bring those insights back to the forefront. We’ll revisit key themes from the past season that camp leaders should keep top of mind as they shape the year ahead. \n*This program is offered by Chalmers Camp Insurance as part of their partnership with ACA\, New England.*
URL:https://www.acanewengland.org/event/camp-season-rewind-fast-forward-2/
LOCATION:Zoom
CATEGORIES:Education
ATTACH;FMTTYPE=image/png:https://www.acanewengland.org/wp-content/uploads/2025/09/Chalmers-Upcoming-Webinar-Reflecting-on-25.png
END:VEVENT
END:VCALENDAR