BEGIN:VCALENDAR
VERSION:2.0
PRODID:-//American Camp Association New England - ECPv6.15.20//NONSGML v1.0//EN
CALSCALE:GREGORIAN
METHOD:PUBLISH
X-WR-CALNAME:American Camp Association New England
X-ORIGINAL-URL:https://www.acanewengland.org
X-WR-CALDESC:Events for American Camp Association New England
REFRESH-INTERVAL;VALUE=DURATION:PT1H
X-Robots-Tag:noindex
X-PUBLISHED-TTL:PT1H
BEGIN:VTIMEZONE
TZID:America/New_York
BEGIN:DAYLIGHT
TZOFFSETFROM:-0500
TZOFFSETTO:-0400
TZNAME:EDT
DTSTART:20250309T070000
END:DAYLIGHT
BEGIN:STANDARD
TZOFFSETFROM:-0400
TZOFFSETTO:-0500
TZNAME:EST
DTSTART:20251102T060000
END:STANDARD
BEGIN:DAYLIGHT
TZOFFSETFROM:-0500
TZOFFSETTO:-0400
TZNAME:EDT
DTSTART:20260308T070000
END:DAYLIGHT
BEGIN:STANDARD
TZOFFSETFROM:-0400
TZOFFSETTO:-0500
TZNAME:EST
DTSTART:20261101T060000
END:STANDARD
BEGIN:DAYLIGHT
TZOFFSETFROM:-0500
TZOFFSETTO:-0400
TZNAME:EDT
DTSTART:20270314T070000
END:DAYLIGHT
BEGIN:STANDARD
TZOFFSETFROM:-0400
TZOFFSETTO:-0500
TZNAME:EST
DTSTART:20271107T060000
END:STANDARD
END:VTIMEZONE
BEGIN:VEVENT
DTSTART;TZID=America/New_York:20260505T130000
DTEND;TZID=America/New_York:20260505T143000
DTSTAMP:20260421T140425
CREATED:20260223T182730Z
LAST-MODIFIED:20260309T210008Z
UID:15592-1777986000-1777991400@www.acanewengland.org
SUMMARY:Strengthening Your Camp Aquatics in 2026
DESCRIPTION:Running a camp aquatics program in the 21st century requires more than traditional lifeguard skills\nit demands adaptable leadership\, modern training approaches\, and critical thinking skills. It also requires honest reflection: Has your camp avoided aquatics incidents because of intentional systems and preparation\, or simply because you’ve been lucky so far? \nIn this webinar\, Katie Johnson from Chalmers Camp Insurance will facilitate a panel of camp directors\, waterfront managers\, and aquatics safety specialists\, who will share real world lessons and up to date practices for 2026. Together\, we will explore how to build and support a rescue ready team\, integrate meaningful in service training throughout the season\, and navigate evolving expectations around supervision\, preparedness\, and staff development. \nPanelists include: Sarah Mackie Weeman (Smackie) from YMCA Camp Huckins; Dakota Brichetto from Camp Susan Curtis; Peter Christnacht from Copper Cannon Camp. \nWhether your program includes a pool\, a lakefront\, or both\, this session is designed for anyone responsible for creating a safe\, effective\, and forward thinking aquatics operation at camp.\n  \nDates & Rates\nWhen: Tuesday\, May 5\, 2026 from 1:00 – 2:30pm ET \nWhere: Zoom (meeting link to be sent prior to the start of the session) \nCost: Member 1st/2nd Person – $40/$30; Non-Member 1st/2nd Person – $55/$45 \nClick here to register!\n  \nAbout the Facilitator\n \nKatie Johnson\, M.S.\, is a Senior Risk Consultant at Chalmers Camp Insurance. With nearly 30 years in camps and youth-serving organizations—including 8 years with the American Camp Association—she blends risk expertise with a passion for transformative experiences. Driven by her passion for the magic of camp\, she empowers leaders to create strong safety foundations\, ensuring they can focus on inspiring growth\, connection\, and adventure in the communities they serve. \n  \n  \nAbout the Panelists\n \nDakota Brichetto has been involved with Camp Susan Curtis for 21 years\, seven of those years as a camper. As a camper Dakota knew that she wanted to be a lifeguard and worked hard to earn multiple waterfront related certifications\, including LGI and WSI. Dakota worked in a leadership role at the waterfront for seven summers creating a safe environment\, building programming\, adapting teachings for the at-risk youth population\, and mentoring and training staff to be successful. In addition to being a professional at the waterfront\, Dakota has begun to work as an Occupational Therapist at Camp Susan Curtis. \n  \nRyan Rosen has worked in camp aquatics since 1997\, beginning as a lifeguard and developing a deep commitment to safety\, instruction\, and leadership at the pool. Since 1999\, he has been certified as a Lifeguard Instructor (LGI) and Water Safety Instructor (WSI)\, training and mentoring lifeguards and swim instructors for more than two decades. Since 2011\, Ryan has owned Camp Kinneret\, a day camp outside of Los Angeles\, where he oversees all aspects of camp operations\, including a comprehensive aquatics program. In addition to leading his own team\, he has partnered with numerous camps to strengthen their swim instruction models\, lifeguard training systems\, and overall aquatic risk management practices. Ryan brings a practical\, camp-focused perspective centered on safety\, staff development\, and helping campers build confidence in the water. \n  \n \nPeter Christnacht enters his 22nd summer of leadership at Copper Cannon Camp in 2026\, marking 38 years in camp administration. He has directed programs nationwide\, driven by a deep belief in the positive impact of camp on youth. Peter holds a Master’s in Curriculum & Instruction from Northern Illinois University and a bachelor’s degree from Gonzaga University. A lifelong aquatics professional\, he has overseen pools\, lakes\, and pond waterfronts throughout his career and has maintained his Lifeguard Instructor certification since the late 80s\, including helping to pilot the 1988–89 American Red Cross Lifeguard Course updates. His decades of experience and insight into evolving staff and lifeguard expectations give him a unique perspective on camp aquatics. \n  \nSarah Mackie Weeman grew up in the pool at her local YMCA and has been working on or in the water ever since. She is the Summer Camp Director at YMCA Camp Huckins and\, among other duties\, is responsible for certifying and training the lifeguards as well as supporting the Waterfront Directors. Staying current with aquatics policies and standards keeps her on her toes! \n  \n  \n  \n___________________________________________________________________________________ \nQuestions\, reach out Gillian Gold\, Events & Logistics Manager at gillian@acanewengland.org or 781-541-6080 ext. 106. \nRegistration is non-refundable but may be transferred to another member of your organization prior to the start of the session.  \nUse of Images and Audio by ACA\, New England: Through my registration\, I give American Camp Association\, New England (ACANE) full rights and permissions with respect to any photographs\, video\, and audio recordings taken during the ACANE event. These images and recordings may be used by ACANE and its agents in any format or medium and for any lawful purpose.
URL:https://www.acanewengland.org/event/strengthening-your-camp-aquatics-in-2026/
LOCATION:Zoom
CATEGORIES:Education
ATTACH;FMTTYPE=image/jpeg:https://www.acanewengland.org/wp-content/uploads/2026/02/Strengthening-Your-Camp-Aquatics-graphic-450x450-1.jpg
ORGANIZER;CN="ACA%2C New England":MAILTO:camp@acanewengland.org
END:VEVENT
BEGIN:VEVENT
DTSTART;TZID=America/New_York:20260506T100000
DTEND;TZID=America/New_York:20260506T113000
DTSTAMP:20260421T140425
CREATED:20260321T145022Z
LAST-MODIFIED:20260323T175021Z
UID:15834-1778061600-1778067000@www.acanewengland.org
SUMMARY:Learnings from the Field: Operationalizing DEI at Camp Presentations
DESCRIPTION:ACA\, New England has been running an ongoing resource community this year\, facilitated by Simone Gamble of OAAARS\, for a group of camp professionals dedicated to exploring what operationalizing DEI at their camp looks like. As part of this group\, participants have been working on an ongoing project related to this work. Join us for an e-session to hear about four of the projects have been working on. \nEach presenter will share about their project and then field Q&A from attendees. The presenters and topics will include: \n\nSupporting our Staff with Improved DEI Trainings\, Abby Griffith\, Assistant Director of Admissions & Lilly Bianchi\, Assistant Director of Leader Hiring)\, Overland Summers\,\nDiscovering the True Value of Camp Empathy Interviews\, Julie Bernson\, Director of Learning\, The Trustees\nShared Language Guide: Addressing Race-Based Harm with Care\, Clarity\, and Consistency\, Rachel Roberts\, Director of Staff Experience\, Camp Starfish\nShared Language Guide: Addressing Race-Based Harm with Care\, Clarity\, and Consistency\, Shawn Moriarty\, Camp Director/ Lead Education Coordinator\, Moose Hill Wildlife Sanctuary\, Mass Audubon\n\nThis offering is free for ACA members and $25 for non-members. \nPlease plan to join us live for these sessions! If you cannot join live\, please register and email kerry@acanewengland.org to request a copy of the recording\, which will be viewable for 30 days following the event. \nRegistration fees are non-refundable\, but may be transferred to another attendee from your camp/organization by emailing kerry@acanewengland.org before the start of the program.
URL:https://www.acanewengland.org/event/learnings-from-the-field-operationalizing-dei-at-camp-presentations/
LOCATION:Zoom
CATEGORIES:Education
ATTACH;FMTTYPE=image/png:https://www.acanewengland.org/wp-content/uploads/2026/03/Learnings-from-the-Field-Operationalizing-DEI-at-Camp-Presentations-450x450-1-1.png
ORGANIZER;CN="ACA%2C New England":MAILTO:camp@acanewengland.org
END:VEVENT
BEGIN:VEVENT
DTSTART;TZID=America/New_York:20260508T100000
DTEND;TZID=America/New_York:20260508T110000
DTSTAMP:20260421T140425
CREATED:20250903T140604Z
LAST-MODIFIED:20260413T194627Z
UID:14411-1778234400-1778238000@www.acanewengland.org
SUMMARY:Coffee & Camp Chat
DESCRIPTION:Coffee & Camp Chat is a bi-weekly space for informal\, yet purposeful\, discussion among summer camp people! Sip your favorite beverage as we share insights\, swap stories\, and discuss trends in camping. Cozy into your Friday with fellow camp folk while we brew ideas\, forge new connections\, and remind each other why there’s no place like camp! \nFor more information or to suggest a topic for a future Chat\, email bud@acanewengland.org  \nCoffee & Camp Chat is free and open to everyone in camping!
URL:https://www.acanewengland.org/event/coffee-camp-chat-2026-05-01/
LOCATION:Zoom
CATEGORIES:Education,Coffee & Camp Chat
ATTACH;FMTTYPE=image/png:https://www.acanewengland.org/wp-content/uploads/2026/04/coffee-and-camp-chat-2026-updated-450x450-1.png
ORGANIZER;CN="ACA%2C New England":MAILTO:camp@acanewengland.org
END:VEVENT
END:VCALENDAR