BEGIN:VCALENDAR
VERSION:2.0
PRODID:-//American Camp Association New England - ECPv6.15.20//NONSGML v1.0//EN
CALSCALE:GREGORIAN
METHOD:PUBLISH
X-WR-CALNAME:American Camp Association New England
X-ORIGINAL-URL:https://www.acanewengland.org
X-WR-CALDESC:Events for American Camp Association New England
REFRESH-INTERVAL;VALUE=DURATION:PT1H
X-Robots-Tag:noindex
X-PUBLISHED-TTL:PT1H
BEGIN:VTIMEZONE
TZID:America/New_York
BEGIN:DAYLIGHT
TZOFFSETFROM:-0500
TZOFFSETTO:-0400
TZNAME:EDT
DTSTART:20240310T070000
END:DAYLIGHT
BEGIN:STANDARD
TZOFFSETFROM:-0400
TZOFFSETTO:-0500
TZNAME:EST
DTSTART:20241103T060000
END:STANDARD
BEGIN:DAYLIGHT
TZOFFSETFROM:-0500
TZOFFSETTO:-0400
TZNAME:EDT
DTSTART:20250309T070000
END:DAYLIGHT
BEGIN:STANDARD
TZOFFSETFROM:-0400
TZOFFSETTO:-0500
TZNAME:EST
DTSTART:20251102T060000
END:STANDARD
BEGIN:DAYLIGHT
TZOFFSETFROM:-0500
TZOFFSETTO:-0400
TZNAME:EDT
DTSTART:20260308T070000
END:DAYLIGHT
BEGIN:STANDARD
TZOFFSETFROM:-0400
TZOFFSETTO:-0500
TZNAME:EST
DTSTART:20261101T060000
END:STANDARD
END:VTIMEZONE
BEGIN:VEVENT
DTSTART;TZID=America/New_York:20251215T110000
DTEND;TZID=America/New_York:20251215T143000
DTSTAMP:20260421T004015
CREATED:20251119T184427Z
LAST-MODIFIED:20251119T184427Z
UID:14930-1765796400-1765809000@www.acanewengland.org
SUMMARY:Coffee & Camp Chat LIVE!
DESCRIPTION:It’s not a Friday\, but it is Coffee & Camp Chat!\nJoin EPIC New England and friends from Maine Summer Camps as they host a LIVE! edition of C&CC. The floor will be open to questions and topics about everything happening in summer camp: staffing\, enrollment\, programming\, inclusion\, accessibility\, food\, fun\, growth\, etc. \n\nPart I – Challenges we’re facing and talking through solutions\nPart II – Innovation at camp. What’s new at your camp and what’s coming next?\nPart III – What did we miss? Circling back to “parking lot” items or continuing previous unfinished business.\n\nWhen: Monday\, December 15\, 2025; 11am – 2:30pm EDT \nWhere: Queens Head Pub\, 271 Main Street; Bridgton\, ME 04009 \nCost: $15 for members of ACA or Maine Summer Camps; $20 for non-Members \n(fees go directly to providing food/refreshments) \n  \nGot questions? Feel free to contact bud@acanewengland.org \nCLICK HERE TO REGISTER!
URL:https://www.acanewengland.org/event/coffee-camp-chat-live/
LOCATION:Queen’s Head Pub\, 271 Main Street\, Bridgton\, ME\, 04009\, United States
CATEGORIES:Emerging Professionals In Camping,Coffee & Camp Chat
ATTACH;FMTTYPE=image/png:https://www.acanewengland.org/wp-content/uploads/2025/02/EPIC-graphic-e1763577731711.png
ORGANIZER;CN="EPIC%2C New England":MAILTO:camp@acanewengland.org
END:VEVENT
BEGIN:VEVENT
DTSTART;TZID=America/New_York:20251218T110000
DTEND;TZID=America/New_York:20251218T120000
DTSTAMP:20260421T004015
CREATED:20251205T192944Z
LAST-MODIFIED:20251211T213833Z
UID:15001-1766055600-1766059200@www.acanewengland.org
SUMMARY:PechaKucha Office Hours
DESCRIPTION:Programs drive camp — and new experiences make it unforgettable. Is your camp doing something awesome you want to share with fellow camp professionals? \nWelcome to Program Innovation Powered by PechaKucha!\nCamp is a shared experience\, join us in continuing that tradition!\nACA\, New England invites you to submit your program innovations to be included in our Saturday plenary. For full details and to submit your idea\, visit our submission form. From counselors to directors\, all levels of staff are encouraged to submit. Submissions are due by January 6\, 2026.  \nHave some questions? Have an idea and want to get some feedback? Pop into our “office hours” on Thursday\, December 18 from 11:00am to 12:00pm (eastern) to chat with members of our Conference Committee and learn more about how you can help shape innovation at summer camp! \nLearn more about PechaKucha here. \nReady to submit? Click here! \nClick here to register for the 2026 New England Camp Conference. \n*Note: all related expenses for conference registration and session preparation and delivery will be the responsibility of the presenter unless otherwise requested by the presenter and agreed upon with ACA\, New England. We do not want cost to be a barrier for first-time speakers or camp professionals looking to share a program innovation\, so please reach out if you have any questions about this. \nWant to chat with someone on the ACANE team? E-mail Gillian at gillian@acanewengland.org or call our office at 781-541-6080.
URL:https://www.acanewengland.org/event/pechakucha-office-hours/
CATEGORIES:Education,Pre-Conference
ATTACH;FMTTYPE=image/jpeg:https://www.acanewengland.org/wp-content/uploads/2025/12/PechaKucha-Office-Hours-graphic-1.jpg
ORGANIZER;CN="ACA%2C New England":MAILTO:camp@acanewengland.org
END:VEVENT
END:VCALENDAR