BEGIN:VCALENDAR
VERSION:2.0
PRODID:-//American Camp Association New England - ECPv6.15.20//NONSGML v1.0//EN
CALSCALE:GREGORIAN
METHOD:PUBLISH
X-ORIGINAL-URL:https://www.acanewengland.org
X-WR-CALDESC:Events for American Camp Association New England
REFRESH-INTERVAL;VALUE=DURATION:PT1H
X-Robots-Tag:noindex
X-PUBLISHED-TTL:PT1H
BEGIN:VTIMEZONE
TZID:America/New_York
BEGIN:DAYLIGHT
TZOFFSETFROM:-0500
TZOFFSETTO:-0400
TZNAME:EDT
DTSTART:20240310T070000
END:DAYLIGHT
BEGIN:STANDARD
TZOFFSETFROM:-0400
TZOFFSETTO:-0500
TZNAME:EST
DTSTART:20241103T060000
END:STANDARD
BEGIN:DAYLIGHT
TZOFFSETFROM:-0500
TZOFFSETTO:-0400
TZNAME:EDT
DTSTART:20250309T070000
END:DAYLIGHT
BEGIN:STANDARD
TZOFFSETFROM:-0400
TZOFFSETTO:-0500
TZNAME:EST
DTSTART:20251102T060000
END:STANDARD
BEGIN:DAYLIGHT
TZOFFSETFROM:-0500
TZOFFSETTO:-0400
TZNAME:EDT
DTSTART:20260308T070000
END:DAYLIGHT
BEGIN:STANDARD
TZOFFSETFROM:-0400
TZOFFSETTO:-0500
TZNAME:EST
DTSTART:20261101T060000
END:STANDARD
END:VTIMEZONE
BEGIN:VEVENT
DTSTART;TZID=America/New_York:20250926T090000
DTEND;TZID=America/New_York:20250926T153000
DTSTAMP:20260421T012743
CREATED:20240808T160531Z
LAST-MODIFIED:20250829T125540Z
UID:14363-1758877200-1758900600@www.acanewengland.org
SUMMARY:Youth Mental Health First Aid - Blended Learning
DESCRIPTION:Youth Mental Health First Aid\nCollaborative for Educational Services (CES) offers free Youth Mental Health First Aid – Blended Learning opportunities throughout the year. \nYouth Mental Health First Aid is designed to teach parents\, family members\, caregivers\, teachers\, school staff\, peers\, neighbors\, health and human services workers\, and other caring citizens how to help an adolescent (age 12-18) who is experiencing a mental health or addictions challenge or is in crisis. Youth Mental Health First Aid is primarily designed for adults who regularly interact with young people. The course introduces common mental health challenges for youth\, reviews typical adolescent development\, and teaches a 5-step action plan for how to help young people in both crisis and non-crisis situations. Topics covered include anxiety\, depression\, substance use\, disorders in which psychosis may occur\, disruptive behavior disorders (including AD/HD)\, and eating disorders. \nCES has invited ACA\, New England to share these classes with our members. Participants will complete 2 hours of self-paced online work in advance of the class\, followed by a 6.5 hour group online class that will be held live online. \nThere are courses planned on the following dates with the live\, online class being from 9:00 am – 3:15 pm: \n\nSeptember 26\n\nFor more information and to sign up\, visit here. \nPre-registration is required at least a week in advance to ensure you have time to complete the required pre-work before the live session. \nParticipants will need to be present for the full live\, online course with cameras and microphones on to receive credit for the training.
URL:https://www.acanewengland.org/event/youth-mental-health-first-aid-blended-learning-2025-09-26/2025-09-26/
LOCATION:Online
CATEGORIES:Education,Training - Non-ACA
ATTACH;FMTTYPE=image/png:https://www.acanewengland.org/wp-content/uploads/2024/12/Youth-Mental-Health-First-Aid-graphic-1-e1744219340114.png
END:VEVENT
BEGIN:VEVENT
DTSTART;TZID=America/New_York:20250926T100000
DTEND;TZID=America/New_York:20250926T110000
DTSTAMP:20260421T012743
CREATED:20250903T140604Z
LAST-MODIFIED:20250903T195256Z
UID:14397-1758880800-1758884400@www.acanewengland.org
SUMMARY:Coffee & Camp Chat
DESCRIPTION:Coffee & Camp Chat is a bi-weekly space for informal\, yet purposeful\, discussion among summer camp people! Sip your favorite beverage as we share insights\, swap stories\, and discuss trends in camping. Cozy into your Friday with fellow camp folk while we brew ideas\, forge new connections\, and remind each other why there’s no place like camp! \nFor more information or to suggest a topic for a future Chat\, email bud@acanewengland.org  \nCoffee & Camp Chat is free and open to everyone in camping!
URL:https://www.acanewengland.org/event/coffee-camp-chat-2025-09-26/
LOCATION:Zoom
CATEGORIES:Education,Coffee & Camp Chat
ATTACH;FMTTYPE=image/png:https://www.acanewengland.org/wp-content/uploads/2024/12/coffee-and-camp-chat-multi-mug-2025-e1735919622879.png
ORGANIZER;CN="ACA%2C New England":MAILTO:camp@acanewengland.org
END:VEVENT
END:VCALENDAR