BEGIN:VCALENDAR
VERSION:2.0
PRODID:-//American Camp Association New England - ECPv6.15.20//NONSGML v1.0//EN
CALSCALE:GREGORIAN
METHOD:PUBLISH
X-ORIGINAL-URL:https://www.acanewengland.org
X-WR-CALDESC:Events for American Camp Association New England
REFRESH-INTERVAL;VALUE=DURATION:PT1H
X-Robots-Tag:noindex
X-PUBLISHED-TTL:PT1H
BEGIN:VTIMEZONE
TZID:America/New_York
BEGIN:DAYLIGHT
TZOFFSETFROM:-0500
TZOFFSETTO:-0400
TZNAME:EDT
DTSTART:20240310T070000
END:DAYLIGHT
BEGIN:STANDARD
TZOFFSETFROM:-0400
TZOFFSETTO:-0500
TZNAME:EST
DTSTART:20241103T060000
END:STANDARD
BEGIN:DAYLIGHT
TZOFFSETFROM:-0500
TZOFFSETTO:-0400
TZNAME:EDT
DTSTART:20250309T070000
END:DAYLIGHT
BEGIN:STANDARD
TZOFFSETFROM:-0400
TZOFFSETTO:-0500
TZNAME:EST
DTSTART:20251102T060000
END:STANDARD
BEGIN:DAYLIGHT
TZOFFSETFROM:-0500
TZOFFSETTO:-0400
TZNAME:EDT
DTSTART:20260308T070000
END:DAYLIGHT
BEGIN:STANDARD
TZOFFSETFROM:-0400
TZOFFSETTO:-0500
TZNAME:EST
DTSTART:20261101T060000
END:STANDARD
END:VTIMEZONE
BEGIN:VEVENT
DTSTART;TZID=America/New_York:20250214T100000
DTEND;TZID=America/New_York:20250214T110000
DTSTAMP:20260423T040417
CREATED:20250107T175048Z
LAST-MODIFIED:20250204T195646Z
UID:13054-1739527200-1739530800@www.acanewengland.org
SUMMARY:Coffee & Camp Chat Special Edition - 2/14
DESCRIPTION:We have been hearing from several camps whose families are being affected by the recent presidential executive orders. Join us for a special edition of Coffee & Camp Chat where we will come together and discuss important issues affecting our camp families and what camps can do to support them. \nThough there aren’t many answers right now\, we want to provide a platform for initial conversations among camp professionals. ACA\, New England will have a moderator(s) to help guide this discussion\, including Nick Teich\, founder of Fairwinds Camp Consulting\, ACA\, New England Board Member\, and founder and longtime director of Harbor Camps. \nThis session is FREE and open to ACA members. We are asking attendees to pre-register so we know who to expect and can follow-up with folks\, if needed. Sign up here. (As is always the case with Coffee & Camp Chat\, the session will not be recorded as it is designed to encourage open dialogue among peers.) \nA zoom link will be emailed to registered participants prior to the session. \nQuestions\, reach out Gillian Gold\, Events & Logistics Coordinator at gillian@acanewengland.org or 781-541-6080 ext. 106. \nUse of Images and Audio by ACA\, New England: Through my registration\, I give American Camp Association\, New England (ACANE) full rights and permissions with respect to any photographs\, video\, and audio recordings taken during the ACANE event. These images and recordings may be used by ACANE and its agents in any format or medium and for any lawful purpose. \n 
URL:https://www.acanewengland.org/event/coffee-camp-chat-2-14/
LOCATION:Zoom
CATEGORIES:Education,Coffee & Camp Chat
ATTACH;FMTTYPE=image/png:https://www.acanewengland.org/wp-content/uploads/2025/01/Members-Only-CCC-21425-2-e1738698950495.png
ORGANIZER;CN="Bud Copeland":MAILTO:bud@acanewengland.org
END:VEVENT
END:VCALENDAR