BEGIN:VCALENDAR
VERSION:2.0
PRODID:-//American Camp Association New England - ECPv6.15.20//NONSGML v1.0//EN
CALSCALE:GREGORIAN
METHOD:PUBLISH
X-WR-CALNAME:American Camp Association New England
X-ORIGINAL-URL:https://www.acanewengland.org
X-WR-CALDESC:Events for American Camp Association New England
REFRESH-INTERVAL;VALUE=DURATION:PT1H
X-Robots-Tag:noindex
X-PUBLISHED-TTL:PT1H
BEGIN:VTIMEZONE
TZID:America/New_York
BEGIN:DAYLIGHT
TZOFFSETFROM:-0500
TZOFFSETTO:-0400
TZNAME:EDT
DTSTART:20230312T070000
END:DAYLIGHT
BEGIN:STANDARD
TZOFFSETFROM:-0400
TZOFFSETTO:-0500
TZNAME:EST
DTSTART:20231105T060000
END:STANDARD
BEGIN:DAYLIGHT
TZOFFSETFROM:-0500
TZOFFSETTO:-0400
TZNAME:EDT
DTSTART:20240310T070000
END:DAYLIGHT
BEGIN:STANDARD
TZOFFSETFROM:-0400
TZOFFSETTO:-0500
TZNAME:EST
DTSTART:20241103T060000
END:STANDARD
BEGIN:DAYLIGHT
TZOFFSETFROM:-0500
TZOFFSETTO:-0400
TZNAME:EDT
DTSTART:20250309T070000
END:DAYLIGHT
BEGIN:STANDARD
TZOFFSETFROM:-0400
TZOFFSETTO:-0500
TZNAME:EST
DTSTART:20251102T060000
END:STANDARD
END:VTIMEZONE
BEGIN:VEVENT
DTSTART;TZID=America/New_York:20240924T093000
DTEND;TZID=America/New_York:20240924T150000
DTSTAMP:20260423T004813
CREATED:20240612T155936Z
LAST-MODIFIED:20240919T151022Z
UID:12017-1727170200-1727190000@www.acanewengland.org
SUMMARY:New England Day Camp Tours - Connecticut
DESCRIPTION:ONLINE REGISTRATION HAS CLOSED. Please call ACA\, New England at 781-541-6080 to see if we can accommodate you for this program.\nACA\, New England is excited to offer a one-day Day Camp Tours program in Connecticut on September 24\, 2024!\nJoin us to explore the properties and facilities at: \n\nHoliday Hill Camp & Recreation Center (Mansfield Center\, CT)\, day camp\, weddings\, groups\, and events\nYMCA Camp Woodstock (Woodstock Valley\, CT)\, day and overnight camp\n\nThis is a great opportunity to see camps while also learning about their programming and operational strategies (e.g. transportation and drop-off/pick-up) and networking with your peers. Lunch will be included. \nWe will start at Holiday Hill (check-in begins at 9:30 am) with the tour beginning at 10:00 am and will finish at Camp Woodstock by 3:00 pm. \nRegistration includes lunch. Travel is not included (camps are approximately 30-minutes from each other). \n2024 host camps are located approximately 30-45 minutes from Hartford\, CT\, 1 hour from Springfield\, MA\, 1.5 hours from Boston\, MA\, 2 hours from Manchester\, NH\, and 3 hours from Portland\, ME. \nWhile this event highlights day camps\, folks from all types of camps are welcome to attend (and YMCA Camp Woodstock offers both day and overnight camp)!  \nThank you to LifeTRAVELED for their generous sponsorship of this event! \n \n(Want to see even more camps? Check out our Resident Camp Tours opportunity in Maine on September 9 & 10 too!) \nQuestions? Reach out to Kerry\, ACA New England Director of Education and Professional Development\, at kerry@acanewengland.org or 781-541-6080 ext. 104. \nRegistrations are non-refundable\, but may be transferred to another eligible individual prior to the start of the event.
URL:https://www.acanewengland.org/event/new-england-day-camp-tours-connecticut/
LOCATION:Connecticut Camps
CATEGORIES:Education
ATTACH;FMTTYPE=image/png:https://www.acanewengland.org/wp-content/uploads/2024/06/Day-Camp-Tours-CT-2024-Collage-Instagram-Post-2-e1718210888516.png
ORGANIZER;CN="Kerry Salvo":MAILTO:kerry@acanewengland.org
END:VEVENT
END:VCALENDAR