BEGIN:VCALENDAR
VERSION:2.0
PRODID:-//American Camp Association New England - ECPv6.15.20//NONSGML v1.0//EN
CALSCALE:GREGORIAN
METHOD:PUBLISH
X-WR-CALNAME:American Camp Association New England
X-ORIGINAL-URL:https://www.acanewengland.org
X-WR-CALDESC:Events for American Camp Association New England
REFRESH-INTERVAL;VALUE=DURATION:PT1H
X-Robots-Tag:noindex
X-PUBLISHED-TTL:PT1H
BEGIN:VTIMEZONE
TZID:America/New_York
BEGIN:DAYLIGHT
TZOFFSETFROM:-0500
TZOFFSETTO:-0400
TZNAME:EDT
DTSTART:20220313T070000
END:DAYLIGHT
BEGIN:STANDARD
TZOFFSETFROM:-0400
TZOFFSETTO:-0500
TZNAME:EST
DTSTART:20221106T060000
END:STANDARD
BEGIN:DAYLIGHT
TZOFFSETFROM:-0500
TZOFFSETTO:-0400
TZNAME:EDT
DTSTART:20230312T070000
END:DAYLIGHT
BEGIN:STANDARD
TZOFFSETFROM:-0400
TZOFFSETTO:-0500
TZNAME:EST
DTSTART:20231105T060000
END:STANDARD
BEGIN:DAYLIGHT
TZOFFSETFROM:-0500
TZOFFSETTO:-0400
TZNAME:EDT
DTSTART:20240310T070000
END:DAYLIGHT
BEGIN:STANDARD
TZOFFSETFROM:-0400
TZOFFSETTO:-0500
TZNAME:EST
DTSTART:20241103T060000
END:STANDARD
END:VTIMEZONE
BEGIN:VEVENT
DTSTART;TZID=America/New_York:20230531T123000
DTEND;TZID=America/New_York:20230531T150000
DTSTAMP:20260423T000945
CREATED:20230428T135251Z
LAST-MODIFIED:20230428T135323Z
UID:9932-1685536200-1685545200@www.acanewengland.org
SUMMARY:Adult and Pediatric First Aid/CPR/AED Blended Format
DESCRIPTION:The American Red Cross Adult and Pediatric First Aid/CPR/AED course equips students to recognize and care for a variety of first aid\, breathing\, and cardiac emergencies involving adults\, children and infants. This class is taught in a blended learning format and the online portion (accessed via mobile\, desktop or tablet) must be completed prior to attending the Instructor-led skills session. Upon successful completion\, a valid 2 year digital certificate for Adult and Pediatric First Aid/CPR/AED is issued. \nOnline portion MUST be completed prior to the start of the in-person skill session.  \nPrice:\nMember: $40\nNon-member: $50 \nNOT A MEMBER? ACA\, New England offers FREE membership to individuals joining for the first time. Follow these directions to signup with the promo code FREENE or contact bud@acanewengland.org
URL:https://www.acanewengland.org/event/redcrosstraining53223/
LOCATION:ACA New England Office\, 80 Westview St\, Lexington\, MA\, 02421
CATEGORIES:Training,Education,Pre-Summer Trainings, Licenses, and Workshops
ATTACH;FMTTYPE=image/jpeg:https://www.acanewengland.org/wp-content/uploads/2019/11/OutdoorSkills-Mowglis-scaled-e1574277263546.jpg
ORGANIZER;CN="Elizabeth Snell":MAILTO:elizabeth@acanewengland.org
END:VEVENT
BEGIN:VEVENT
DTSTART;VALUE=DATE:20230601
DTEND;VALUE=DATE:20230605
DTSTAMP:20260423T000945
CREATED:20230411T200744Z
LAST-MODIFIED:20230411T200744Z
UID:9836-1685577600-1685923199@www.acanewengland.org
SUMMARY:American Canoe Association\, Level I Introduction to Canoeing Instructor
DESCRIPTION:CANOE\n\n \nWe offer canoe instructor training through the American Canoe Association: Level 1 Introduction to Canoeing Instructor Certification Workshop (ICW\, ICE). Participants can choose to include a one day Introduction to Canoeing to help review paddle strokes before the intensive Instructor Workshop. This is strongly encouraged by the instructor. \nPlease note that all courses are physically demanding and occur in a fresh water lake. The temperatures in June can be extremely cold. We strongly recommend that you bring a wetsuit. Lifeguard Certification is highly recommended for anyone teaching children on the water. Refer to American Camp Association Accreditation Standards for appropriate water sport training requirements. \nInstructors:  American Canoe Association Instructor Trainers\, OLTOA Instructors \nAmerican Canoe  Association: Level 1 Canoe Instructor with Introduction to Canoeing \nPurpose: \n\nTo learn or review basic canoe strokes before moving into the instructor level course (includes Intro to Canoeing Skills Course on day 1.)  This is strongly recommended for all students and especially for those with minimal paddling experience.\nTo certify an individual to teach the American Canoe Association Level 1 Introduction to Canoeing curriculum\nTo gain knowledge of canoe safety\nTo strengthen teaching skills\nTo comply with ACA Accreditation Standards\n\nDate Options Intro and Instructor: \n\nJune 1-4\, 2023\n\nCost:  $495 \nPlease note that the Canoe Instructor training is a full time commitment\, including evening classes and coursework.  The training is scheduled to start at 9am on June 1 and finish by 5pm on June 4.  Room and Board at Wyonegonic is included in the cost. \nPrerequisites: \n\nPlease note that COVID-19 Vaccination is required by the Canoe Instructors\nMinimum Age 18 for American Canoe Association Instructor requirements\nExcellent physical condition and strong swimming skills\nCurrent First Aid and CPR certification\nWe recommend you review the following ACA Instructor Criteria for the Level 1 Introduction to Canoeing Instructor\n\nCertifications: American Canoe Association\, Level I Introduction to Canoeing Instructor
URL:https://www.acanewengland.org/event/american-canoe-association-level-i-introduction-to-canoeing-instructor-3/
LOCATION:Wyonegonic Camps\, 215 Wyonegonic Road\, Denmark\, ME\, 04022
CATEGORIES:Education,Training - Non-ACA
ATTACH;FMTTYPE=image/jpeg:https://www.acanewengland.org/wp-content/uploads/2019/11/OutdoorSkills-Mowglis-scaled-e1574277263546.jpg
ORGANIZER;CN="Wyonegonic Camps":MAILTO:https://wyonegonic.com/
END:VEVENT
BEGIN:VEVENT
DTSTART;VALUE=DATE:20230602
DTEND;VALUE=DATE:20230605
DTSTAMP:20260423T000945
CREATED:20230428T133051Z
LAST-MODIFIED:20230501T165924Z
UID:9923-1685664000-1685923199@www.acanewengland.org
SUMMARY:Lifeguard Instructor Training
DESCRIPTION:This course will train Lifeguarding Instructor candidates to teach American Red Cross Lifeguarding\nCourse will take place June 2\, 3 and 4th from 8am – 5pm each day. \n\n\n\n\n\n\n\n\nPrice:\nMembers: $400\nNon-members: $450 \nNOT A MEMBER? ACA\, New England offers FREE membership to individuals joining for the first time. Follow these directions to signup with the promo code FREENE or contact bud@acanewengland.org
URL:https://www.acanewengland.org/event/redcrosstraining6223/
LOCATION:YWCA of Newburyport\, 13 Market Street\, Newburyport\, MA\, 01950
CATEGORIES:Training,Education,Pre-Summer Trainings, Licenses, and Workshops
ATTACH;FMTTYPE=image/jpeg:https://www.acanewengland.org/wp-content/uploads/2019/11/OutdoorSkills-Mowglis-scaled-e1574277263546.jpg
ORGANIZER;CN="Elizabeth Snell":MAILTO:elizabeth@acanewengland.org
END:VEVENT
BEGIN:VEVENT
DTSTART;TZID=America/New_York:20230603T080000
DTEND;TZID=America/New_York:20230604T170000
DTSTAMP:20260423T000945
CREATED:20230425T142914Z
LAST-MODIFIED:20230425T142914Z
UID:9904-1685779200-1685898000@www.acanewengland.org
SUMMARY:WILDERNESS FIRST AID
DESCRIPTION:WILDERNESS FIRST AID (Wilderness Medical Associates) \nSaturday\, June 3rd (8:00 AM) – Sunday\, June 4th (5:00 PM) \nThis course trains counselors\, especially trip leaders\, in emergency first aid in wilderness environments. Basic ideas for medicine for the field\, emphasis on practical skills\, and realistic simulation exercises are included. This course includes Wilderness Medical Associates (WMA) Adult CPR. \nRequires-Minimum age: 18 (ages 16 & 17 may participate with written parental permission). REQUIRES ONLINE REGISTRATION WITH WMA. WINONA WILL PROVIDE LINK. SPECIAL NOTES: This course meets ACA mandatory Standard: HW-1C. \nPrice: $225 \n\nWINONA TRAINING CLINICS INFORMATION  \nCourse certifications document that a candidate successfully passed the requirements set forth by the American Red Cross (ARC)\, American Heart Association (AHA)\, the State of Maine\, U.S. Sailing Association or Wilderness Medical Associates. \nCertification is not a guarantee at our clinics. Instructors have sole responsibility in determining a candidate’s suitability for enrolling in a course and whether or not certification will be given or withheld\, according to the standards of the governing organization. Winona will abide by instructor decisions\, while assisting candidates to reach their goals. Most requirements for all courses are offered prior to\, after\, or within each course. Each course has a minimum number of participants required to conduct the course. \nNOTE: All swimming course (Lifeguard Instructor\, WSI) candidates are required to bring some type of wetsuit. This is in an effort to limit the problems caused by weather and pond temperature. Lifeguard and Lifeguard Instructors should also bring a mask and fins as they are a required part of the ARC Waterfront courses. All courses which have a CPR component will receive a new pocket mask as part of the course fees.
URL:https://www.acanewengland.org/event/wilderness-first-aid-2/
LOCATION:Winona Camps\, 35 Winona Rd\, Bridgton\, ME\, 04009
CATEGORIES:Education,Pre-Summer Trainings, Licenses, and Workshops
ATTACH;FMTTYPE=image/jpeg:https://www.acanewengland.org/wp-content/uploads/2019/11/OutdoorSkills-Mowglis-scaled-e1574277263546.jpg
ORGANIZER;CN="Winona Camps":MAILTO:information@winonacamps.com
END:VEVENT
END:VCALENDAR