BEGIN:VCALENDAR
VERSION:2.0
PRODID:-//American Camp Association New England - ECPv6.15.20//NONSGML v1.0//EN
CALSCALE:GREGORIAN
METHOD:PUBLISH
X-WR-CALNAME:American Camp Association New England
X-ORIGINAL-URL:https://www.acanewengland.org
X-WR-CALDESC:Events for American Camp Association New England
REFRESH-INTERVAL;VALUE=DURATION:PT1H
X-Robots-Tag:noindex
X-PUBLISHED-TTL:PT1H
BEGIN:VTIMEZONE
TZID:America/New_York
BEGIN:DAYLIGHT
TZOFFSETFROM:-0500
TZOFFSETTO:-0400
TZNAME:EDT
DTSTART:20210314T070000
END:DAYLIGHT
BEGIN:STANDARD
TZOFFSETFROM:-0400
TZOFFSETTO:-0500
TZNAME:EST
DTSTART:20211107T060000
END:STANDARD
BEGIN:DAYLIGHT
TZOFFSETFROM:-0500
TZOFFSETTO:-0400
TZNAME:EDT
DTSTART:20220313T070000
END:DAYLIGHT
BEGIN:STANDARD
TZOFFSETFROM:-0400
TZOFFSETTO:-0500
TZNAME:EST
DTSTART:20221106T060000
END:STANDARD
BEGIN:DAYLIGHT
TZOFFSETFROM:-0500
TZOFFSETTO:-0400
TZNAME:EDT
DTSTART:20230312T070000
END:DAYLIGHT
BEGIN:STANDARD
TZOFFSETFROM:-0400
TZOFFSETTO:-0500
TZNAME:EST
DTSTART:20231105T060000
END:STANDARD
END:VTIMEZONE
BEGIN:VEVENT
DTSTART;TZID=America/New_York:20221209T093000
DTEND;TZID=America/New_York:20221209T123000
DTSTAMP:20260423T063311
CREATED:20221007T183716Z
LAST-MODIFIED:20221007T183716Z
UID:8328-1670578200-1670589000@www.acanewengland.org
SUMMARY:Accreditation Process Workshop 12/9/22
DESCRIPTION:Formerly the Standards Course\, this workshop is designed for camp representatives who are preparing for accreditation visit. The course is appropriate for those who are new to the accreditation process AND those who have been part of an accreditation visit or completed standards training in the past. Every camp being visited must have at least one person who completes the workshop on behalf of the camp; that person must actively assist in preparation for the accreditation visit\, be on site a significant amount of time during the camp season and participate fully in the on-site accreditation visit.  This course will be held Virtually.
URL:https://www.acanewengland.org/event/accreditation-process-workshop-12-9-22/
LOCATION:Zoom
CATEGORIES:Education,Accreditation Process Workshop
ATTACH;FMTTYPE=image/jpeg:https://www.acanewengland.org/wp-content/uploads/2020/01/Accreditation-Process-Workshop-logo.jpg
ORGANIZER;CN="Elizabeth Snell":MAILTO:elizabeth@acanewengland.org
END:VEVENT
END:VCALENDAR