BEGIN:VCALENDAR
VERSION:2.0
PRODID:-//American Camp Association New England - ECPv6.15.20//NONSGML v1.0//EN
CALSCALE:GREGORIAN
METHOD:PUBLISH
X-WR-CALNAME:American Camp Association New England
X-ORIGINAL-URL:https://www.acanewengland.org
X-WR-CALDESC:Events for American Camp Association New England
REFRESH-INTERVAL;VALUE=DURATION:PT1H
X-Robots-Tag:noindex
X-PUBLISHED-TTL:PT1H
BEGIN:VTIMEZONE
TZID:America/New_York
BEGIN:DAYLIGHT
TZOFFSETFROM:-0500
TZOFFSETTO:-0400
TZNAME:EDT
DTSTART:20250309T070000
END:DAYLIGHT
BEGIN:STANDARD
TZOFFSETFROM:-0400
TZOFFSETTO:-0500
TZNAME:EST
DTSTART:20251102T060000
END:STANDARD
BEGIN:DAYLIGHT
TZOFFSETFROM:-0500
TZOFFSETTO:-0400
TZNAME:EDT
DTSTART:20260308T070000
END:DAYLIGHT
BEGIN:STANDARD
TZOFFSETFROM:-0400
TZOFFSETTO:-0500
TZNAME:EST
DTSTART:20261101T060000
END:STANDARD
BEGIN:DAYLIGHT
TZOFFSETFROM:-0500
TZOFFSETTO:-0400
TZNAME:EDT
DTSTART:20270314T070000
END:DAYLIGHT
BEGIN:STANDARD
TZOFFSETFROM:-0400
TZOFFSETTO:-0500
TZNAME:EST
DTSTART:20271107T060000
END:STANDARD
END:VTIMEZONE
BEGIN:VEVENT
DTSTART;TZID=America/New_York:20260213T100000
DTEND;TZID=America/New_York:20260213T110000
DTSTAMP:20260420T230116
CREATED:20250903T140604Z
LAST-MODIFIED:20260112T140832Z
UID:14405-1770976800-1770980400@www.acanewengland.org
SUMMARY:Coffee & Camp Chat
DESCRIPTION:Coffee & Camp Chat is a bi-weekly space for informal\, yet purposeful\, discussion among summer camp people! Sip your favorite beverage as we share insights\, swap stories\, and discuss trends in camping. Cozy into your Friday with fellow camp folk while we brew ideas\, forge new connections\, and remind each other why there’s no place like camp! \nFor more information or to suggest a topic for a future Chat\, email bud@acanewengland.org  \nCoffee & Camp Chat is free and open to everyone in camping!
URL:https://www.acanewengland.org/event/coffee-camp-chat-2026-02-13/
LOCATION:Zoom
CATEGORIES:Education,Coffee & Camp Chat
ATTACH;FMTTYPE=image/png:https://www.acanewengland.org/wp-content/uploads/2024/12/coffee-and-camp-chat-multi-mug-2025-e1735919622879.png
ORGANIZER;CN="ACA%2C New England":MAILTO:camp@acanewengland.org
END:VEVENT
BEGIN:VEVENT
DTSTART;TZID=America/New_York:20260227T100000
DTEND;TZID=America/New_York:20260227T110000
DTSTAMP:20260420T230116
CREATED:20250903T140604Z
LAST-MODIFIED:20260123T140427Z
UID:14406-1772186400-1772190000@www.acanewengland.org
SUMMARY:Coffee & Camp Chat
DESCRIPTION:Coffee & Camp Chat is a bi-weekly space for informal\, yet purposeful\, discussion among summer camp people! Sip your favorite beverage as we share insights\, swap stories\, and discuss trends in camping. Cozy into your Friday with fellow camp folk while we brew ideas\, forge new connections\, and remind each other why there’s no place like camp! \nFor more information or to suggest a topic for a future Chat\, email bud@acanewengland.org  \nCoffee & Camp Chat is free and open to everyone in camping!
URL:https://www.acanewengland.org/event/coffee-camp-chat-2026-02-27/
LOCATION:Zoom
CATEGORIES:Education,Coffee & Camp Chat
ATTACH;FMTTYPE=image/png:https://www.acanewengland.org/wp-content/uploads/2024/12/coffee-and-camp-chat-multi-mug-2025-e1735919622879.png
ORGANIZER;CN="ACA%2C New England":MAILTO:camp@acanewengland.org
END:VEVENT
BEGIN:VEVENT
DTSTART;TZID=America/New_York:20260227T113000
DTEND;TZID=America/New_York:20260227T130000
DTSTAMP:20260420T230116
CREATED:20251224T155652Z
LAST-MODIFIED:20260109T190100Z
UID:15194-1772191800-1772197200@www.acanewengland.org
SUMMARY:So\, You Think You're Ready\, But Are You? Proactive and Reactive Strategies in Emergency Response
DESCRIPTION:Emergencies don’t wait for the right moment — and neither should your readiness. This dynamic online session is designed specifically for summer camp directors and leadership teams who want to take their emergency preparedness to the next level.  Participants will explore how to move beyond checklists and drills to build a culture of readiness. Our focus will be on assessing your camp’s current level of preparedness and identifying critical gaps. Develop proactive prevention and mitigation strategies tailored to your camp’s environment.  Strengthen reactive response plans for medical\, environmental\, and behavioral crises.  You’ll learn how to identify risks before they escalate\, strengthen your camp’s crisis communication plan\, and effectively lead staff and campers through unexpected events — from medical emergencies and severe weather to behavioral crises and community-wide incidents. Whether you’re a seasoned director or new to the role\, this course will help you balance proactive planning with reactive leadership\, ensuring your camp is prepared not just to respond—but to recover and thrive. \n  \nAbout the Instructor:\n\nJonathan Bundt is the founder and owner of Masa Consulting Inc. and has worked in mental health\, public safety\, healthcare\, and emergency management for over 35 \nyears\, specializing in first responder care\,  disaster behavioral health\, workplace violence prevention\, crisis mitigation\, incident response\, and recovery.   He regularly provides consultation and training services to EMS\, police\, fire departments\,  the private sector\, hospitals\, and state/federal agencies. Jonathan has provided incident and post-incident consultations for more than 3\,000 local\, regional\, and national crisis\, disaster\, and violence events. He balances his background as a licensed mental health professional with 28 years of experience\, and he is a certified emergency manager and security professional. He also has a lifetime of experience as a camper and staff leader in the 70s and 80s. Then\, he transitioned to his professional career\, providing on-site and off-site support and consultative services for YMCA and Jewish Camps throughout the Midwest. \nWhen: Friday\, February 27\, 2026; 11:30am – 1:00pm (eastern) \nWhere: Zoom (meeting links will be sent prior to the start of the session) \nCost: 1st Person: Member $40; Non-member $55\, 2nd and Additional: Member: $30; Non-member $45 \nClick here to register!\nThis e-session will be recorded.  \nQuestions\, reach out Gillian Gold\, Events & Logistics Manager at gillian@acanewengland.org or 781-541-6080 ext. 106. \nUse of Images and Audio by ACA\, New England: Through my registration\, I give American Camp Association\, New England (ACANE) full rights and permissions with respect to any photographs\, video\, and audio recordings taken during the ACANE event. These images and recordings may be used by ACANE and its agents in any format or medium and for any lawful purpose.
URL:https://www.acanewengland.org/event/so-you-think-youre-ready-but-are-you-proactive-and-reactive-strategies-in-emergency-response/
LOCATION:Zoom
CATEGORIES:Education
ATTACH;FMTTYPE=image/png:https://www.acanewengland.org/wp-content/uploads/2025/12/So-You-Think-Youre-Ready-But-Are-You-Proactive-and-Reactive-Strategies-in-Emergency-Response-450x450-graphic-1.png
ORGANIZER;CN="ACA%2C New England":MAILTO:camp@acanewengland.org
END:VEVENT
END:VCALENDAR