BEGIN:VCALENDAR
VERSION:2.0
PRODID:-//American Camp Association New England - ECPv6.15.20//NONSGML v1.0//EN
CALSCALE:GREGORIAN
METHOD:PUBLISH
X-ORIGINAL-URL:https://www.acanewengland.org
X-WR-CALDESC:Events for American Camp Association New England
REFRESH-INTERVAL;VALUE=DURATION:PT1H
X-Robots-Tag:noindex
X-PUBLISHED-TTL:PT1H
BEGIN:VTIMEZONE
TZID:America/New_York
BEGIN:DAYLIGHT
TZOFFSETFROM:-0500
TZOFFSETTO:-0400
TZNAME:EDT
DTSTART:20230312T070000
END:DAYLIGHT
BEGIN:STANDARD
TZOFFSETFROM:-0400
TZOFFSETTO:-0500
TZNAME:EST
DTSTART:20231105T060000
END:STANDARD
BEGIN:DAYLIGHT
TZOFFSETFROM:-0500
TZOFFSETTO:-0400
TZNAME:EDT
DTSTART:20240310T070000
END:DAYLIGHT
BEGIN:STANDARD
TZOFFSETFROM:-0400
TZOFFSETTO:-0500
TZNAME:EST
DTSTART:20241103T060000
END:STANDARD
BEGIN:DAYLIGHT
TZOFFSETFROM:-0500
TZOFFSETTO:-0400
TZNAME:EDT
DTSTART:20250309T070000
END:DAYLIGHT
BEGIN:STANDARD
TZOFFSETFROM:-0400
TZOFFSETTO:-0500
TZNAME:EST
DTSTART:20251102T060000
END:STANDARD
END:VTIMEZONE
BEGIN:VEVENT
DTSTART;TZID=America/New_York:20241007T143000
DTEND;TZID=America/New_York:20241007T153000
DTSTAMP:20260422T201933
CREATED:20240930T160750Z
LAST-MODIFIED:20241002T132600Z
UID:12398-1728311400-1728315000@www.acanewengland.org
SUMMARY:Hot Topics w/EPIC - October 2024
DESCRIPTION:Got Hot Topics you want to address? Questions you want to ask? Stories you want to share? email bud@acanewengland.org and we’ll get them on the agenda. \nThroughout the “off season”\, EPIC New England hosts monthly drop-ins for Emerging Professionals In Camping to connect and share thoughts\, questions\, information\, etc. around the topics that currently affect them in camping. \nWhile hosted by EPIC\, these conversations are open to anyone (EPIC\, full-time\, seasonal\, veteran\, etc.) who has insights or questions around the Hot Topic of the day. \n\nEPIC\, New England\nEmerging Professionals In Camping (EPIC) is a kindred group within the American Camp Association for counselors\, staff\, and other camp professionals to connect and grow their careers in camping. \nIn January 2019\, a group of emerging professionals in New England camping gathered at the ACA\, New England office in Lexington\, MA. Since then\, EPIC\, New England has continued to provide support\, connections\, and opportunities for anyone making that move into a camp career or taking another step towards their goals in the industry. \nIf you are someone passionate about a career in camping or a current camp pro looking for more growth and development\, you are EPIC.
URL:https://www.acanewengland.org/event/hot-topics-w-epic-october-2024/
LOCATION:Zoom
CATEGORIES:Education,Emerging Professionals In Camping
ATTACH;FMTTYPE=image/png:https://www.acanewengland.org/wp-content/uploads/2024/10/Hot-Topics-Graphic2-e1727806282972.png
ORGANIZER;CN="EPIC%2C New England":MAILTO:camp@acanewengland.org
END:VEVENT
BEGIN:VEVENT
DTSTART;TZID=America/New_York:20241011T100000
DTEND;TZID=America/New_York:20241011T110000
DTSTAMP:20260422T201933
CREATED:20240930T180025Z
LAST-MODIFIED:20241001T171822Z
UID:12395-1728640800-1728644400@www.acanewengland.org
SUMMARY:Coffee & Camp Chat - 10/11
DESCRIPTION:Coffee & Camp Chat is a bi-weekly discussion among summer camp people! Sip your favorite beverage as we share insights\, swap stories\, and discuss trends in camping. Cozy into your Friday with fellow camp folk while we brew ideas\, forge connections\, and remind each other why there’s no place like camp! \nSend any questions you’d like to address to bud@acanewengland.org and we’ll include them in the conversation. \nACCESS: C&CC is open to everyone in camping! \n 
URL:https://www.acanewengland.org/event/coffee-camp-chat-10-11/
LOCATION:Zoom
CATEGORIES:Education,Coffee & Camp Chat
ATTACH;FMTTYPE=image/png:https://www.acanewengland.org/wp-content/uploads/2024/10/coffee-and-camp-chat-multi-mug-e1727803084591.png
ORGANIZER;CN="Bud Copeland":MAILTO:bud@acanewengland.org
END:VEVENT
BEGIN:VEVENT
DTSTART;TZID=America/New_York:20241022T090000
DTEND;TZID=America/New_York:20241022T180000
DTSTAMP:20260422T201933
CREATED:20240916T190801Z
LAST-MODIFIED:20241015T175056Z
UID:12348-1729587600-1729620000@www.acanewengland.org
SUMMARY:Accreditation Volunteer Course
DESCRIPTION:ACA New England needs YOU to join an amazing team of volunteers!\nJoin us for our next Accreditation Volunteer Course (formerly known as the Associate Visitors Course).\nDue to low enrollment\, the 10/22 offering has been cancelled. However\, there are lots more opportunities throughout the year (see the application below). \nThis course is a two part training: AVC PART 1 is a self-paced online pre-course and AVC PART 2 is a live session with trained facilitators. Participants must attend all learning sessions over the timeframe to successfully become an accreditation volunteer. This course requires active participation and engagement. \nACA’s accreditation program is the only national peer review program of its kind for the camp industry. Being an ACA accreditation volunteer (visitor) provides you with the experience to build your network\, polish your skills in observation and risk management\, and develop mentoring opportunities for both you and the camps you work with. As much as you give to this experience\, you’ll gain from new ideas\, perspectives\, and approaches to the mission-driven work of the camp industry. \nTo become an accreditation volunteer\, please complete these steps: \n\nSubmit an Accreditation Volunteer Application (online) \n\nOn the form\, you’ll indicate which Accreditation Volunteer Course Part II you want to take (formerly known as the Associate Visitors Course) – FREE\n\n\n\nOnce you are registered for the course\, you’ll be enrolled in the required online pre-course work (AVC PART 1 up to 8 hours) a month prior to your PART 2 course. This self-paced\, interactive online pre-course work includes the Accreditation Process Workshop so you are up to date as well as roles and responsibilities of an accreditation volunteer\, compliance demonstration\, scoring\, and mandatory standards. This online pre-work must be successfully completed in order to attend the Accreditation Volunteer Course PART 2. \nTo become an accreditation volunteer\, you must fully attend and participate in ALL parts of AVC PART 1 & AVC PART 2 (this is a live in-person session with trained facilitators. During this portion\, participants will be engaged in practicing and demonstrating essential skills needed in conducting accreditation visits along with conducting a mock accreditation visit). \nWant to become an accreditation volunteer/visitor\, but this AVC PART 2 date doesn’t work for your schedule? Complete the Accreditation Volunteer Application and choose from another live virtual or in-person course. \nAdditional steps (once 1 & 2 are done): \n\nReview the ACA Associate Visitor/Visitor Service Description.\nReview and be ready to sign the Volunteer Conflict of Interest and Code of Conduct.\nMake sure you are a current ACA individual member (contact us if you have questions about this. We also offer a discounted membership rate for visitors).
URL:https://www.acanewengland.org/event/accreditation-volunteer-course/
LOCATION:Brookwoods / Deer Run\, 34 Camp Brookwoods Rd\, Alton\, NH\, 03809
CATEGORIES:Education,Associate Visitor Course
ATTACH;FMTTYPE=image/png:https://www.acanewengland.org/wp-content/uploads/2024/09/AVC2024.png
ORGANIZER;CN="ACA%2C New England":MAILTO:camp@acanewengland.org
END:VEVENT
BEGIN:VEVENT
DTSTART;TZID=America/New_York:20241025T100000
DTEND;TZID=America/New_York:20241025T110000
DTSTAMP:20260422T201933
CREATED:20241011T160027Z
LAST-MODIFIED:20241001T172442Z
UID:12406-1729850400-1729854000@www.acanewengland.org
SUMMARY:Coffee & Camp Chat - 10/25
DESCRIPTION:Coffee & Camp Chat is a bi-weekly discussion among summer camp people! Sip your favorite beverage as we share insights\, swap stories\, and discuss trends in camping. Cozy into your Friday with fellow camp folk while we brew ideas\, forge connections\, and remind each other why there’s no place like camp! \nSend any questions you’d like to address to bud@acanewengland.org and we’ll include them in the conversation. \nACCESS: C&CC is open to everyone in camping! \n 
URL:https://www.acanewengland.org/event/coffee-camp-chat-10-25/
LOCATION:Zoom
CATEGORIES:Education,Coffee & Camp Chat
ATTACH;FMTTYPE=image/png:https://www.acanewengland.org/wp-content/uploads/2024/10/coffee-and-camp-chat-multi-mug-e1727803084591.png
ORGANIZER;CN="Bud Copeland":MAILTO:bud@acanewengland.org
END:VEVENT
BEGIN:VEVENT
DTSTART;VALUE=DATE:20241028
DTEND;VALUE=DATE:20241031
DTSTAMP:20260422T201933
CREATED:20241023T170402Z
LAST-MODIFIED:20241023T170458Z
UID:12509-1730073600-1730332799@www.acanewengland.org
SUMMARY:ACA Staffing Summit
DESCRIPTION:The 2024 Staffing Summit will feature critical learning\, speaker panels\, roundtables\, and engaging sessions spanning three days. The virtual delivery of the conference increases the benefits of convenience and value while preserving the great networking and timely information\, which are hallmarks of ACA conferences. We will share practical solutions addressing the staffing shortage\, innovative ways to recruit staff\, and best practices for staff retention. \nThe 2024 Staffing Summit will offer 45 sessions on out-of-the-box ways to connect with staff\, virtual job fairs and interviewing\, recruiting specialized staff\, and so much more. Session recordings will be available to attendees until December 1. Each day will have featured speakers\, keynote presentations from industry thought leaders\, and networking opportunities to share resources and ideas. Don’t miss one of the most important events of the season!
URL:https://www.acanewengland.org/event/aca-staffing-summit-2/
LOCATION:Online
CATEGORIES:Education
ATTACH;FMTTYPE=image/png:https://www.acanewengland.org/wp-content/uploads/2023/08/staffing-summit-23.png
ORGANIZER;CN="American Camp Association%2C Inc":MAILTO:membership@acacamps.org
END:VEVENT
END:VCALENDAR