BEGIN:VCALENDAR
VERSION:2.0
PRODID:-//American Camp Association New England - ECPv6.15.20//NONSGML v1.0//EN
CALSCALE:GREGORIAN
METHOD:PUBLISH
X-ORIGINAL-URL:https://www.acanewengland.org
X-WR-CALDESC:Events for American Camp Association New England
REFRESH-INTERVAL;VALUE=DURATION:PT1H
X-Robots-Tag:noindex
X-PUBLISHED-TTL:PT1H
BEGIN:VTIMEZONE
TZID:America/New_York
BEGIN:DAYLIGHT
TZOFFSETFROM:-0500
TZOFFSETTO:-0400
TZNAME:EDT
DTSTART:20220313T070000
END:DAYLIGHT
BEGIN:STANDARD
TZOFFSETFROM:-0400
TZOFFSETTO:-0500
TZNAME:EST
DTSTART:20221106T060000
END:STANDARD
BEGIN:DAYLIGHT
TZOFFSETFROM:-0500
TZOFFSETTO:-0400
TZNAME:EDT
DTSTART:20230312T070000
END:DAYLIGHT
BEGIN:STANDARD
TZOFFSETFROM:-0400
TZOFFSETTO:-0500
TZNAME:EST
DTSTART:20231105T060000
END:STANDARD
BEGIN:DAYLIGHT
TZOFFSETFROM:-0500
TZOFFSETTO:-0400
TZNAME:EDT
DTSTART:20240310T070000
END:DAYLIGHT
BEGIN:STANDARD
TZOFFSETFROM:-0400
TZOFFSETTO:-0500
TZNAME:EST
DTSTART:20241103T060000
END:STANDARD
END:VTIMEZONE
BEGIN:VEVENT
DTSTART;TZID=America/New_York:20230505T090000
DTEND;TZID=America/New_York:20230505T173000
DTSTAMP:20260422T210109
CREATED:20230315T205650Z
LAST-MODIFIED:20230411T135811Z
UID:9616-1683277200-1683307800@www.acanewengland.org
SUMMARY:New Camp Director Workshop
DESCRIPTION:Are you a new camp director or planning a career in camp ? \nJoin us for a FAST PACED day focused on the many topics of running camp.  Staff training\, supervision\, hiring\, firing\, and so many more! \nCome prepared to fill your brain and notebook with lots of useful information. \nA team of experienced directors and consultants will lead workshops and provide invaluable materials and hands-on training scenarios. \nMembers: $80\nNon-members: $105 \nInquire about FREE membership with bud@acanewengland.\nPLEASE NOTE: If you are taking this training to fulfill the Massachusetts Camp Licensing requirements for directors\, please note you ALSO need to attend the training with the Department of Public Health.  This training will be held in conjunction with Massachusetts Camping Association. \nDPH Spring Education Sessions for Camps\nApril 28 – Becket\, MA (REGISTER HERE)\nMay 1 – Waltham\, MA (REGISTER HERE) \n 
URL:https://www.acanewengland.org/event/ncdw0505523/
LOCATION:Cedar Hill Day Camp\, 265 Beaver St\, Waltham\, MA\, 02452
CATEGORIES:Education,New Camp Director Workshop
ATTACH;FMTTYPE=image/jpeg:https://www.acanewengland.org/wp-content/uploads/2020/01/ACA-NE-New-Camp-Director-Workshop-e1699971490567.jpg
ORGANIZER;CN="Elizabeth Snell":MAILTO:elizabeth@acanewengland.org
END:VEVENT
BEGIN:VEVENT
DTSTART;TZID=America/New_York:20230517T093000
DTEND;TZID=America/New_York:20230517T140000
DTSTAMP:20260422T210109
CREATED:20230428T134114Z
LAST-MODIFIED:20230428T134720Z
UID:9928-1684315800-1684332000@www.acanewengland.org
SUMMARY:Adult and Child CPR/AED/First Aid
DESCRIPTION:The American Red Cross Adult and Pediatric First Aid/CPR/AED course equips students to recognize and care for a variety of first aid\, breathing\, and cardiac emergencies involving adults\, children and infants. Upon successful completion\, a valid 2 year digital certificate for Adult and Pediatric First Aid/CPR/AED is issued. \nPrice:\nMember: $40\nNon-member: $50 \nNOT A MEMBER? ACA\, New England offers FREE membership to individuals joining for the first time. Follow these directions to signup with the promo code FREENE or contact bud@acanewengland.org
URL:https://www.acanewengland.org/event/redcrosstraining51723/
LOCATION:ACA New England Office\, 80 Westview St\, Lexington\, MA\, 02421
CATEGORIES:Training,Education,Pre-Summer Trainings, Licenses, and Workshops
ATTACH;FMTTYPE=image/jpeg:https://www.acanewengland.org/wp-content/uploads/2019/11/OutdoorSkills-Mowglis-scaled-e1574277263546.jpg
ORGANIZER;CN="Elizabeth Snell":MAILTO:elizabeth@acanewengland.org
END:VEVENT
BEGIN:VEVENT
DTSTART;TZID=America/New_York:20230519T090000
DTEND;TZID=America/New_York:20230519T100000
DTSTAMP:20260422T210109
CREATED:20230407T164130Z
LAST-MODIFIED:20230407T165653Z
UID:9812-1684486800-1684490400@www.acanewengland.org
SUMMARY:2023 ACA\, New England Annual Meeting
DESCRIPTION:Not everyone can make it to the New England Camp Conference. So\, to ensure as many people as possible can join\, we’ve scheduled the 2023 Annual Meeting online again. \nZoom Register through the button above or the link you just read\, and tell you colleagues as well. \nThis is your Association\, so we hope you can come\, participate\, ask questions\, and ultimately help us understand the wants\, needs\, and inquiries shaping the path ahead. \n\nState of the Association\nIntroduce New Board Members\nHear from Board Leadership\nCelebrate and Recognize ACA\, New England Award Winners.  \n\nCamps Brookwoods and Deer Run – Community Honor Recognition \nAlex Thomas – George Marcus Award for Standards Education \nStevie Faulk – Leadership & Service \nEmily Golinsky – Peter Kerns Award for the Advancement of Professional Development\n\n\nWhat’s Next for New England?\n\nMay 19\, 9am-10am\nShould you have questions regarding the Annual Meeting\, please reach out to Michele@acanewengland.org or President@acanewengland.org. \n  \n 
URL:https://www.acanewengland.org/event/annualmeeting23/
LOCATION:Zoom
CATEGORIES:Education
ATTACH;FMTTYPE=image/png:https://www.acanewengland.org/wp-content/uploads/2023/04/21-ACA-NE-logo-blue-1200px-e1695911125108.png
ORGANIZER;CN="Michele Rowcliffe":MAILTO:michele@acanewengland.org
END:VEVENT
BEGIN:VEVENT
DTSTART;TZID=America/New_York:20230523T140000
DTEND;TZID=America/New_York:20230523T150000
DTSTAMP:20260422T210109
CREATED:20221108T175520Z
LAST-MODIFIED:20221108T175520Z
UID:8555-1684850400-1684854000@www.acanewengland.org
SUMMARY:HOT TOPICS w/EPIC New England - May 2023
DESCRIPTION:Throughout the “off season”\, EPIC New England hosts monthly drop-ins for Emerging Professionals In Camping to connect and share thoughts\, questions\, information\, etc. around the topics that currently affect them in camping. \nFollow ACA\, New England on Instagram @acanewengland for details as each Hot Topics approaches. \n\nEmerging Professionals In Camping\n \nEmerging Professionals In Camping (EPIC) is a kindred group within the American Camp Association for counselors\, staff\, and other camp professionals to connect and grow their careers in camping. \nIn January 2019\, a group of emerging professionals in New England camping gathered at the ACA\, New England office in Lexington\, MA. Since then\, EPIC\, New England has continued to provide support\, connections\, and opportunities for anyone making that move into a camp career or taking another step towards their goals in the industry. \nIf you are someone passionate about a career in camping or a current camp pro looking for more growth and development\, you are EPIC.
URL:https://www.acanewengland.org/event/hottopicsmay23/
LOCATION:Zoom
CATEGORIES:Education,Emerging Professionals In Camping
ATTACH;FMTTYPE=image/jpeg:https://www.acanewengland.org/wp-content/uploads/2019/11/OutdoorSkills-Mowglis-scaled-e1574277263546.jpg
ORGANIZER;CN="Bud Copeland":MAILTO:bud@acanewengland.org
END:VEVENT
BEGIN:VEVENT
DTSTART;TZID=America/New_York:20230523T180000
DTEND;TZID=America/New_York:20230523T210000
DTSTAMP:20260422T210109
CREATED:20230428T133712Z
LAST-MODIFIED:20230428T134801Z
UID:9926-1684864800-1684875600@www.acanewengland.org
SUMMARY:Adult and Pediatric First Aid/CPR/AED Blended Format
DESCRIPTION:The American Red Cross Adult and Pediatric First Aid/CPR/AED course equips students to recognize and care for a variety of first aid\, breathing\, and cardiac emergencies involving adults\, children and infants. This class is taught in a blended learning format and the online portion (accessed via mobile\, desktop or tablet) must be completed prior to attending the Instructor-led skills session. Upon successful completion\, a valid 2 year digital certificate for Adult and Pediatric First Aid/CPR/AED is issued. \nOnline portion MUST be completed prior to the start of the in-person skill session.  \nPrice:\nMember: $40\nNon-member: $50 \nNOT A MEMBER? ACA\, New England offers FREE membership to individuals joining for the first time. Follow these directions to signup with the promo code FREENE or contact bud@acanewengland.org
URL:https://www.acanewengland.org/event/redcrosstraining52323/
LOCATION:ACA New England Office\, 80 Westview St\, Lexington\, MA\, 02421
CATEGORIES:Training,Education,Pre-Summer Trainings, Licenses, and Workshops
ATTACH;FMTTYPE=image/jpeg:https://www.acanewengland.org/wp-content/uploads/2019/11/OutdoorSkills-Mowglis-scaled-e1574277263546.jpg
ORGANIZER;CN="Elizabeth Snell":MAILTO:elizabeth@acanewengland.org
END:VEVENT
BEGIN:VEVENT
DTSTART;TZID=America/New_York:20230531T123000
DTEND;TZID=America/New_York:20230531T150000
DTSTAMP:20260422T210109
CREATED:20230428T135251Z
LAST-MODIFIED:20230428T135323Z
UID:9932-1685536200-1685545200@www.acanewengland.org
SUMMARY:Adult and Pediatric First Aid/CPR/AED Blended Format
DESCRIPTION:The American Red Cross Adult and Pediatric First Aid/CPR/AED course equips students to recognize and care for a variety of first aid\, breathing\, and cardiac emergencies involving adults\, children and infants. This class is taught in a blended learning format and the online portion (accessed via mobile\, desktop or tablet) must be completed prior to attending the Instructor-led skills session. Upon successful completion\, a valid 2 year digital certificate for Adult and Pediatric First Aid/CPR/AED is issued. \nOnline portion MUST be completed prior to the start of the in-person skill session.  \nPrice:\nMember: $40\nNon-member: $50 \nNOT A MEMBER? ACA\, New England offers FREE membership to individuals joining for the first time. Follow these directions to signup with the promo code FREENE or contact bud@acanewengland.org
URL:https://www.acanewengland.org/event/redcrosstraining53223/
LOCATION:ACA New England Office\, 80 Westview St\, Lexington\, MA\, 02421
CATEGORIES:Training,Education,Pre-Summer Trainings, Licenses, and Workshops
ATTACH;FMTTYPE=image/jpeg:https://www.acanewengland.org/wp-content/uploads/2019/11/OutdoorSkills-Mowglis-scaled-e1574277263546.jpg
ORGANIZER;CN="Elizabeth Snell":MAILTO:elizabeth@acanewengland.org
END:VEVENT
END:VCALENDAR