BEGIN:VCALENDAR
VERSION:2.0
PRODID:-//American Camp Association New England - ECPv6.15.20//NONSGML v1.0//EN
CALSCALE:GREGORIAN
METHOD:PUBLISH
X-ORIGINAL-URL:https://www.acanewengland.org
X-WR-CALDESC:Events for American Camp Association New England
REFRESH-INTERVAL;VALUE=DURATION:PT1H
X-Robots-Tag:noindex
X-PUBLISHED-TTL:PT1H
BEGIN:VTIMEZONE
TZID:America/New_York
BEGIN:DAYLIGHT
TZOFFSETFROM:-0500
TZOFFSETTO:-0400
TZNAME:EDT
DTSTART:20220313T070000
END:DAYLIGHT
BEGIN:STANDARD
TZOFFSETFROM:-0400
TZOFFSETTO:-0500
TZNAME:EST
DTSTART:20221106T060000
END:STANDARD
BEGIN:DAYLIGHT
TZOFFSETFROM:-0500
TZOFFSETTO:-0400
TZNAME:EDT
DTSTART:20230312T070000
END:DAYLIGHT
BEGIN:STANDARD
TZOFFSETFROM:-0400
TZOFFSETTO:-0500
TZNAME:EST
DTSTART:20231105T060000
END:STANDARD
BEGIN:DAYLIGHT
TZOFFSETFROM:-0500
TZOFFSETTO:-0400
TZNAME:EDT
DTSTART:20240310T070000
END:DAYLIGHT
BEGIN:STANDARD
TZOFFSETFROM:-0400
TZOFFSETTO:-0500
TZNAME:EST
DTSTART:20241103T060000
END:STANDARD
END:VTIMEZONE
BEGIN:VEVENT
DTSTART;TZID=America/New_York:20230113T130000
DTEND;TZID=America/New_York:20230113T153000
DTSTAMP:20260423T063014
CREATED:20221202T192230Z
LAST-MODIFIED:20230112T153018Z
UID:8749-1673614800-1673623800@www.acanewengland.org
SUMMARY:EPIC\, New England's POST-2022 Holiday Hang
DESCRIPTION:***Due to weather impacting most registrants’ travel\, this event was postponed from the original December 16 date. Registration is open again\, and we look forward to connecting with you and other EPICs in New England soon!*** \n\n2022 2023 EPIC\, New England POST-Holiday Hang\nPast Holiday Hangs have been online. However\, the EPIC\, New England Committee is meeting at the office in the morning. We figured this would be a great opportunity with a base of people together to see if any other EPICs were looking to connect. Folks are encouraged to arrive when they can and leave then they need to. Our main goal is making new and fostering current connections throughout the camp community. \n\nWe have refreshments.\nWe have networking conversation topics and games on the ready.\nWe have a space for you and a friend.\nThe goal of this is networking and camp chat. There’s no official program\, but there are some agenda items (fun stuff. Bring a positive vibe and a smile).\nWe want to gather EPICs and help people make connections.\n\n\nWhat: An opportunity to meet other Emerging Professionals in Camping and have fun\nWhere: ACA\, New England HQ – 80 Westview St. Lexington\, MA 02421\nWhen: 1/13 between 1pm – 3:30pm\nWhy: Camp people need one another\, and the EPIC network provides an incredible resource for folks who are active.\nHow: register through the button above or the link in this sentence (for free) \n\nGot questions\, comments\, requests\, etc. contact bud@acanewengland.org
URL:https://www.acanewengland.org/event/epicholidayhang22/
LOCATION:ACA New England Office\, 80 Westview St\, Lexington\, MA\, 02421
CATEGORIES:Education,Social/Networking,Emerging Professionals In Camping
ATTACH;FMTTYPE=image/png:https://www.acanewengland.org/wp-content/uploads/2022/12/2022-holiday-hang-update.png
ORGANIZER;CN="EPIC%2C New England":MAILTO:camp@acanewengland.org
END:VEVENT
BEGIN:VEVENT
DTSTART;TZID=America/New_York:20230118T103000
DTEND;TZID=America/New_York:20230118T120000
DTSTAMP:20260423T063014
CREATED:20221207T191441Z
LAST-MODIFIED:20230113T150230Z
UID:8814-1674037800-1674043200@www.acanewengland.org
SUMMARY:Child Mental Health
DESCRIPTION:*THIS COURSE HAS REACHED CAPACITY AND REGISTRATION IS NOW CLOSED! WE STILL HAVE SPACE IN THE 2/1 YOUTH SUICIDE PREVENTION SESSION. CLICK HERE FOR MORE INFO ON THAT PROGRAM.* \nChild Mental Health \nThrough activities\, role-play\, video\, and demonstrations\, participants will spend 90 mins gaining a baseline understanding of the difference between mental health and mental illness\, exploring the stigma of mental health\, learning how to recognize the signs and symptoms of a camper who may be developing a mental health challenge\, and creating a plan to help. \nEach e-session is limited to 25 camps/programs. Your camp’s registration will come with two seats. \nWe highly recommend you join us live for the most robust and engaging experience. If you are unable to do so\, the recording will be made available to registered attendees for 15 days following the live e-session. \nThis course will be presented by trainers from the Center for School Behavioral Health at Mental Health America of Greater Houston (the Center) as part of its Emotional Backpack Project. For more information about the Emotional Backpack project\, you can visit here. The Center serves as a “living laboratory” for incubating innovative\, cost-effective and replicable best practices to improve the behavioral health of students by facilitating collective action; providing highly specialized professional development opportunities\, technical assistance and community education; and conducting research\, advocacy\, and policy analysis. \nWe encourage you to join both this training and the Youth Suicide Prevention Training module on February 1\, however you do not need to attend both. They are offered independently of one another. \nAbout the trainers:  \nKeenisha Protho is a Licensed Master Social Worker in the state of Texas with 10 plus years of experience in the field of social work. Originally from Northwest Indiana\, Keenisha started her career as a contracted case manager working with families who lost their children to Child Protective Services to regain custody of their children in 2012. Keenisha received a Bachelor and Maters of Social Work from Indiana University. Over the years\, Keenisha has gained a wealth of knowledge in her experience as a Family Support Specialist\, CPS case worker\, Advocacy Coordinator\, Community Educator\, PRN therapist and Behavior Specialist. As a Professional Development Specialist\, Keenisha enjoys training school personnel and other youth interfacing staff and agencies on topics such as youth mental health and youth suicide prevention. \nSharifa J. Charles serves as a Professional Development Specialist for the Center for School Behavioral Health at Mental Health America – Greater Houston. She is charged with creating and providing high impact\, enriching and culturally sensitive mental and behavioral health professional development opportunities to school districts and community organizations throughout the city of Houston. To date\, she has provided mental and behavioral health trainings in over 25 districts\, countless youth serving organizations across the Greater Houston Area. Ms. Charles has also been deployed to Hurricane ravaged communities like Bay County Florida and the United States Virgin Islands to provide professional development trainings to counselors and first responders. Throughout her professional career\, Sharifa has proudly worked for or collaborated with countless CBOS\, government agencies and NGOs. She brings an extensive background in program implementation\, capacity building\, training and facilitation within diverse vulnerable populations throughout the City of Houston and beyond. \n  \nWhen: Wednesday\, January 18\, 2023\, 10:30 am – 12:00 pm ET \nWhere: Online\, via Zoom  \nCost: $60 for ACA\, New England members/ $85 for non-members. *Each registration comes with two seats for your camp/program. You can select the two participants during the check-out process. Registration of the first person from the camp/organization is based off of individual membership status. \nRegister: THIS COURSE HAS REACHED CAPACITY AND REGISTRATION IS NOW CLOSED! WE STILL HAVE SPACE IN THE 2/1 YOUTH SUICIDE PREVENTION SESSION. CLICK HERE FOR MORE INFO ON THAT PROGRAM. Please register first person at the FIRST PERSON rate and then the additional person as SECOND PERSON (no additional charge).  \nWe encourage you to join both this training and the Youth Suicide Prevention Training module on February 1\, however you do not need to attend both. They are offered independently of one another. \nRegistrations are non-refundable\, but may be transferred to another eligible individual from your camp/program prior to the start of the event. \nQuestions\, reach out to Kerry Salvo\, Director of Education and Professional Development at kerry@acanewengland.org or 781-541-6080 ext. 104.
URL:https://www.acanewengland.org/event/child-mental-health/
LOCATION:Zoom
CATEGORIES:Education
ATTACH;FMTTYPE=image/png:https://www.acanewengland.org/wp-content/uploads/2022/12/Mental-Health.png
ORGANIZER;CN="Kerry Salvo":MAILTO:kerry@acanewengland.org
END:VEVENT
BEGIN:VEVENT
DTSTART;TZID=America/New_York:20230118T110000
DTEND;TZID=America/New_York:20230118T150000
DTSTAMP:20260423T063014
CREATED:20221207T184538Z
LAST-MODIFIED:20221207T184538Z
UID:8808-1674039600-1674054000@www.acanewengland.org
SUMMARY:CCA Presents - Staff Training
DESCRIPTION:January CCA Program- Staffing\nJoin the Connecticut Camping Association in learning with Kim Aycock
URL:https://www.acanewengland.org/event/cca-presents-staff-training/
LOCATION:Hole in the Wall Gang Camp\, 565 Ashford Center Rd\, Ashford\, CT\, 06278
CATEGORIES:Education
ATTACH;FMTTYPE=image/jpeg:https://www.acanewengland.org/wp-content/uploads/2019/11/OutdoorSkills-Mowglis-scaled-e1574277263546.jpg
END:VEVENT
BEGIN:VEVENT
DTSTART;TZID=America/New_York:20230123T093000
DTEND;TZID=America/New_York:20230123T123000
DTSTAMP:20260423T063014
CREATED:20221221T194127Z
LAST-MODIFIED:20221221T194127Z
UID:8873-1674466200-1674477000@www.acanewengland.org
SUMMARY:Accreditation Process Workshop 1/23/23
DESCRIPTION:This course is designed to provide an overview of the ACA Accreditation Process. \nEvery camp being visited in 2023 must have at least one person who completes this course on behalf of the camp; that person must actively assist in preparation for the accreditation visit\, be engaged in on-site operations during the camp season\, and participate fully in the on-site accreditation visit. \nParticipants feel excited\, engaged\, and ready to manage the accreditation process for their camp. They know where to find and how to use information\, resources\, and technology provided by ACA. They can navigate the Accreditation Process Guide v.2019 to understand compliance and applicability of standards\, including how to maintain accreditation through the visit and non-visit years and the purpose and steps of preparing written documentation. \nThis course will be In Person \n*Multiple people from a camp are encouraged to take this course.
URL:https://www.acanewengland.org/event/accreditation-process-workshop-1-23-23/
LOCATION:Camp Ketcha\, 336 Black Point Rd\, Scarborough\, ME\, 04074
CATEGORIES:Education,Accreditation Process Workshop
ATTACH;FMTTYPE=image/png:https://www.acanewengland.org/wp-content/uploads/2022/10/Accreditation-Process-Workshop-2023-logo.png
ORGANIZER;CN="Elizabeth Snell":MAILTO:elizabeth@acanewengland.org
END:VEVENT
BEGIN:VEVENT
DTSTART;TZID=America/New_York:20230130T110000
DTEND;TZID=America/New_York:20230130T120000
DTSTAMP:20260423T063014
CREATED:20230104T191258Z
LAST-MODIFIED:20230117T103349Z
UID:8952-1675076400-1675080000@www.acanewengland.org
SUMMARY:What's the Buzz On Covid at Camp in 2023
DESCRIPTION:What’s the Buzz on COVID Preparations for Summer 2023? Peer Discussion Session \nAs you all prepare for summer 2023\, we know many of you continue to think about how you’ll handle COVID protocols and communicate that to your staff and families. Will you require vaccinations? Testing? What other non-pharmaceutical interventions (NPIs) are you considering? \nWe have heard it can be helpful to hear what other friends and colleagues are thinking about\, discuss timelines for decision-making\, and even problem-solve challenges as a group. \nSo\, come join us for an open forum discussion around how you and your camp are approaching COVID protocols for the upcoming camp season. ACA\, New England staff will be there to guide/facilitate the conversation\, but this will be a participant-led discussion. \nCome prepared to have your videos on\, ask questions\, and engage in dialogue with your peers. \nWhen: Monday\, January 30\, 11 am – 12 pm ET \nWhere: Zoom \nCost: FREE for ACA members; $25 for non-members \nRegistration Link\nBecause this session is based on real-time dialogue\, it will not be recorded. Please plan to join us live. \nQuestions? Contact Kerry Salvo\, Director of Education and Professional Development at ACA\, New England\, kerry@acanewengland.org or 781-541-6080. \nRegistrations are non-refundable\, but may be transferred to another participant from your camp/organization.
URL:https://www.acanewengland.org/event/covidatcamp2023/
LOCATION:Zoom
CATEGORIES:Education,What's the Buzz
ATTACH;FMTTYPE=image/jpeg:https://www.acanewengland.org/wp-content/uploads/2019/11/OutdoorSkills-Mowglis-scaled-e1574277263546.jpg
ORGANIZER;CN="Kerry Salvo":MAILTO:kerry@acanewengland.org
END:VEVENT
BEGIN:VEVENT
DTSTART;TZID=America/New_York:20230131T140000
DTEND;TZID=America/New_York:20230131T150000
DTSTAMP:20260423T063014
CREATED:20221108T173345Z
LAST-MODIFIED:20221108T173820Z
UID:8537-1675173600-1675177200@www.acanewengland.org
SUMMARY:HOT TOPICS w/EPIC New England - January 2023
DESCRIPTION:Throughout the “off season”\, EPIC New England hosts monthly drop-ins for Emerging Professionals In Camping to connect and share thoughts\, questions\, information\, etc. around the topics that currently affect them in camping. \nFollow ACA\, New England on Instagram @acanewengland for details as each Hot Topics approaches. \n\nEmerging Professionals In Camping\n \nEmerging Professionals In Camping (EPIC) is a kindred group within the American Camp Association for counselors\, staff\, and other camp professionals to connect and grow their careers in camping. \nIn January 2019\, a group of emerging professionals in New England camping gathered at the ACA\, New England office in Lexington\, MA. Since then\, EPIC\, New England has continued to provide support\, connections\, and opportunities for anyone making that move into a camp career or taking another step towards their goals in the industry. \nIf you are someone passionate about a career in camping or a current camp pro looking for more growth and development\, you are EPIC.
URL:https://www.acanewengland.org/event/hottopicsjanuary23/
LOCATION:Zoom
CATEGORIES:Education,Emerging Professionals In Camping
ATTACH;FMTTYPE=image/jpeg:https://www.acanewengland.org/wp-content/uploads/2019/11/OutdoorSkills-Mowglis-scaled-e1574277263546.jpg
ORGANIZER;CN="Bud Copeland":MAILTO:bud@acanewengland.org
END:VEVENT
END:VCALENDAR