BEGIN:VCALENDAR
VERSION:2.0
PRODID:-//American Camp Association New England - ECPv6.15.20//NONSGML v1.0//EN
CALSCALE:GREGORIAN
METHOD:PUBLISH
X-ORIGINAL-URL:https://www.acanewengland.org
X-WR-CALDESC:Events for American Camp Association New England
REFRESH-INTERVAL;VALUE=DURATION:PT1H
X-Robots-Tag:noindex
X-PUBLISHED-TTL:PT1H
BEGIN:VTIMEZONE
TZID:America/New_York
BEGIN:DAYLIGHT
TZOFFSETFROM:-0500
TZOFFSETTO:-0400
TZNAME:EDT
DTSTART:20220313T070000
END:DAYLIGHT
BEGIN:STANDARD
TZOFFSETFROM:-0400
TZOFFSETTO:-0500
TZNAME:EST
DTSTART:20221106T060000
END:STANDARD
BEGIN:DAYLIGHT
TZOFFSETFROM:-0500
TZOFFSETTO:-0400
TZNAME:EDT
DTSTART:20230312T070000
END:DAYLIGHT
BEGIN:STANDARD
TZOFFSETFROM:-0400
TZOFFSETTO:-0500
TZNAME:EST
DTSTART:20231105T060000
END:STANDARD
BEGIN:DAYLIGHT
TZOFFSETFROM:-0500
TZOFFSETTO:-0400
TZNAME:EDT
DTSTART:20240310T070000
END:DAYLIGHT
BEGIN:STANDARD
TZOFFSETFROM:-0400
TZOFFSETTO:-0500
TZNAME:EST
DTSTART:20241103T060000
END:STANDARD
END:VTIMEZONE
BEGIN:VEVENT
DTSTART;TZID=America/New_York:20230606T080000
DTEND;TZID=America/New_York:20230607T170000
DTSTAMP:20260423T194737
CREATED:20230425T141108Z
LAST-MODIFIED:20230425T142357Z
UID:9893-1686038400-1686157200@www.acanewengland.org
SUMMARY:U.S. SAILING COUNSELORS COURSE
DESCRIPTION:U.S. SAILING COUNSELORS COURSE \nTuesday\, June 6th (8:00 AM) – Wednesday\, June 7th (5:00 PM) \nThis course trains sailing counselors in proper techniques and gives an overview of a camp sailing program. Practical sailing skills will be covered in detail. Emphasis on skill practice and risk management. \nRequires-Minimum age: 17; swimming and rescue skills REGISTRATION REQUIRED DIRECTLY WITH US SAILING. WINONA WILL SUPPLY LINK AND REVIEW PROCESS. \nPrices: $200 (Direct to US Sailing) $50 (Meals/Lodging at Winona Camps) \n\nWINONA TRAINING CLINICS INFORMATION  \nCourse certifications document that a candidate successfully passed the requirements set forth by the American Red Cross (ARC)\, American Heart Association (AHA)\, the State of Maine\, U.S. Sailing Association or Wilderness Medical Associates. \nCertification is not a guarantee at our clinics. Instructors have sole responsibility in determining a candidate’s suitability for enrolling in a course and whether or not certification will be given or withheld\, according to the standards of the governing organization. Winona will abide by instructor decisions\, while assisting candidates to reach their goals. Most requirements for all courses are offered prior to\, after\, or within each course. Each course has a minimum number of participants required to conduct the course. \nNOTE: All swimming course (Lifeguard Instructor\, WSI) candidates are required to bring some type of wetsuit. This is in an effort to limit the problems caused by weather and pond temperature. Lifeguard and Lifeguard Instructors should also bring a mask and fins as they are a required part of the ARC Waterfront courses. All courses which have a CPR component will receive a new pocket mask as part of the course fees.
URL:https://www.acanewengland.org/event/sailing-course/
LOCATION:Winona Camps\, 35 Winona Rd\, Bridgton\, ME\, 04009
CATEGORIES:Education,Pre-Summer Trainings, Licenses, and Workshops
ATTACH;FMTTYPE=image/jpeg:https://www.acanewengland.org/wp-content/uploads/2019/11/OutdoorSkills-Mowglis-scaled-e1574277263546.jpg
ORGANIZER;CN="Winona Camps":MAILTO:information@winonacamps.com
END:VEVENT
END:VCALENDAR