BEGIN:VCALENDAR
VERSION:2.0
PRODID:-//American Camp Association New England - ECPv6.15.20//NONSGML v1.0//EN
CALSCALE:GREGORIAN
METHOD:PUBLISH
X-ORIGINAL-URL:https://www.acanewengland.org
X-WR-CALDESC:Events for American Camp Association New England
REFRESH-INTERVAL;VALUE=DURATION:PT1H
X-Robots-Tag:noindex
X-PUBLISHED-TTL:PT1H
BEGIN:VTIMEZONE
TZID:America/New_York
BEGIN:DAYLIGHT
TZOFFSETFROM:-0500
TZOFFSETTO:-0400
TZNAME:EDT
DTSTART:20210314T070000
END:DAYLIGHT
BEGIN:STANDARD
TZOFFSETFROM:-0400
TZOFFSETTO:-0500
TZNAME:EST
DTSTART:20211107T060000
END:STANDARD
BEGIN:DAYLIGHT
TZOFFSETFROM:-0500
TZOFFSETTO:-0400
TZNAME:EDT
DTSTART:20220313T070000
END:DAYLIGHT
BEGIN:STANDARD
TZOFFSETFROM:-0400
TZOFFSETTO:-0500
TZNAME:EST
DTSTART:20221106T060000
END:STANDARD
BEGIN:DAYLIGHT
TZOFFSETFROM:-0500
TZOFFSETTO:-0400
TZNAME:EDT
DTSTART:20230312T070000
END:DAYLIGHT
BEGIN:STANDARD
TZOFFSETFROM:-0400
TZOFFSETTO:-0500
TZNAME:EST
DTSTART:20231105T060000
END:STANDARD
END:VTIMEZONE
BEGIN:VEVENT
DTSTART;TZID=America/New_York:20220617T090000
DTEND;TZID=America/New_York:20220617T140000
DTSTAMP:20260424T131811
CREATED:20220512T190921Z
LAST-MODIFIED:20220602T175209Z
UID:7756-1655456400-1655474400@www.acanewengland.org
SUMMARY:Adult and Pediatric CPR/AED/First Aid
DESCRIPTION:The Adult and Pediatric CPR/AED course equips students to recognize and care for a variety of breathing and cardiac emergencies involving adults\, children and infants. This class is taught in an in person format. \nUpon successful completion\, a valid 2 year digital certificate for Adult and Pediatric CPR/AED is issued. \n  \n\n\n\n\n\n\n\n\n\nAdditional Information\n\nCourse will be held in person. \n\n\n\n\n\n\n\n\n\nContact Us\n\nQuestions? \nElizabeth Snell \n781-541-6080 \nelizabeth@acanewengland.org
URL:https://www.acanewengland.org/event/adult-and-pediatric-cpr-aed-first-aid/
LOCATION:ACA New England Office\, 80 Westview St\, Lexington\, MA\, 02421
CATEGORIES:Training,Education,Pre-Summer Trainings, Licenses, and Workshops
ATTACH;FMTTYPE=image/jpeg:https://www.acanewengland.org/wp-content/uploads/2019/11/OutdoorSkills-Mowglis-scaled-e1574277263546.jpg
ORGANIZER;CN="Elizabeth Snell":MAILTO:elizabeth@acanewengland.org
END:VEVENT
END:VCALENDAR