BEGIN:VCALENDAR
VERSION:2.0
PRODID:-//American Camp Association New England - ECPv6.15.20//NONSGML v1.0//EN
CALSCALE:GREGORIAN
METHOD:PUBLISH
X-WR-CALNAME:American Camp Association New England
X-ORIGINAL-URL:https://www.acanewengland.org
X-WR-CALDESC:Events for American Camp Association New England
REFRESH-INTERVAL;VALUE=DURATION:PT1H
X-Robots-Tag:noindex
X-PUBLISHED-TTL:PT1H
BEGIN:VTIMEZONE
TZID:America/New_York
BEGIN:DAYLIGHT
TZOFFSETFROM:-0500
TZOFFSETTO:-0400
TZNAME:EDT
DTSTART:20200308T070000
END:DAYLIGHT
BEGIN:STANDARD
TZOFFSETFROM:-0400
TZOFFSETTO:-0500
TZNAME:EST
DTSTART:20201101T060000
END:STANDARD
BEGIN:DAYLIGHT
TZOFFSETFROM:-0500
TZOFFSETTO:-0400
TZNAME:EDT
DTSTART:20210314T070000
END:DAYLIGHT
BEGIN:STANDARD
TZOFFSETFROM:-0400
TZOFFSETTO:-0500
TZNAME:EST
DTSTART:20211107T060000
END:STANDARD
BEGIN:DAYLIGHT
TZOFFSETFROM:-0500
TZOFFSETTO:-0400
TZNAME:EDT
DTSTART:20220313T070000
END:DAYLIGHT
BEGIN:STANDARD
TZOFFSETFROM:-0400
TZOFFSETTO:-0500
TZNAME:EST
DTSTART:20221106T060000
END:STANDARD
BEGIN:DAYLIGHT
TZOFFSETFROM:-0500
TZOFFSETTO:-0400
TZNAME:EDT
DTSTART:20230312T070000
END:DAYLIGHT
BEGIN:STANDARD
TZOFFSETFROM:-0400
TZOFFSETTO:-0500
TZNAME:EST
DTSTART:20231105T060000
END:STANDARD
BEGIN:DAYLIGHT
TZOFFSETFROM:-0500
TZOFFSETTO:-0400
TZNAME:EDT
DTSTART:20240310T070000
END:DAYLIGHT
BEGIN:STANDARD
TZOFFSETFROM:-0400
TZOFFSETTO:-0500
TZNAME:EST
DTSTART:20241103T060000
END:STANDARD
END:VTIMEZONE
BEGIN:VTIMEZONE
TZID:UTC
BEGIN:STANDARD
TZOFFSETFROM:+0000
TZOFFSETTO:+0000
TZNAME:UTC
DTSTART:20180101T000000
END:STANDARD
END:VTIMEZONE
BEGIN:VEVENT
DTSTART;VALUE=DATE:20230221
DTEND;VALUE=DATE:20230223
DTSTAMP:20260420T141654
CREATED:20221109T204605Z
LAST-MODIFIED:20221109T204605Z
UID:8571-1676937600-1677110399@www.acanewengland.org
SUMMARY:2023 Camp Health Symposium
DESCRIPTION:2023 Camp Health Symposium! \nThe Symposium is a stand out educational event for all individuals invested in camp health operations. This year will provide unique opportunities for networking\, discussions\, and engagement with one another. This will be an IN PERSON event in Orlando\, Florida! \nTuesday\, February 21st\,  we will host “Connecting Conversations” talks followed by small group discussions that are guided by content experts. Wednesday is a shared Alliance for Camp Health and American Camp Association day. ACH registrants may attend the healthcare sessions or any of the ACA sessions. \nSee registration details and hotel information HERE!
URL:https://www.acanewengland.org/event/2023camphealthsymposium/
LOCATION:Orlando\, FL
CATEGORIES:Education,Training - Non-ACA
ATTACH;FMTTYPE=image/jpeg:https://www.acanewengland.org/wp-content/uploads/2019/11/OutdoorSkills-Mowglis-scaled-e1574277263546.jpg
END:VEVENT
BEGIN:VEVENT
DTSTART;VALUE=DATE:20220620
DTEND;VALUE=DATE:20220622
DTSTAMP:20260420T141654
CREATED:20220517T180831Z
LAST-MODIFIED:20220517T180831Z
UID:7791-1655683200-1655855999@www.acanewengland.org
SUMMARY:Lifeguard Training & ARC Certification Course For Pools\, Waterfronts & Open Water
DESCRIPTION:For details\, see the following handout: Lifeguard Training & ARC Certification Course For Pools\, Waterfronts & Open Water
URL:https://www.acanewengland.org/event/lifeguard-training-arc-certification-course-for-pools-waterfronts-open-water/
LOCATION:Camp Quinebarge\, 100 Sibley Rd\, Moultonborough\, NH\, 03254
CATEGORIES:Education,Training - Non-ACA
ATTACH;FMTTYPE=image/jpeg:https://www.acanewengland.org/wp-content/uploads/2019/11/OutdoorSkills-Mowglis-scaled-e1574277263546.jpg
END:VEVENT
BEGIN:VEVENT
DTSTART;TZID=America/New_York:20220617T090000
DTEND;TZID=America/New_York:20220619T163000
DTSTAMP:20260420T141654
CREATED:20220517T181454Z
LAST-MODIFIED:20220517T181454Z
UID:7793-1655456400-1655656200@www.acanewengland.org
SUMMARY:Outdoor Living Skills Staff Workshop
DESCRIPTION:Camp staff who are teaching Outdoor Living Skills and Campcraft are encouraged to attend. Join us as we intertwine curriculum review of the skills and skill levels as introduced in the Art of Outdoor Living book published by The Maine Summer Camps (MSC) member organization.  Staff teaching curriculum for Junior Maine Woodsman\, Maine Woodsman and Junior Maine Guide will find this particularly helpful. \nWe will provide time for instruction and practice of skills to build instructor confidence and will cover teaching methods and some nature/natural history. Safety and proper care and use of equipment while used in the outdoors will be emphasized. For more details on skills covered and goals\, Click to view the WYO – 3 day OLS Clinic curriculum. \n \nThere will be one outdoor overnight campsite experience on the Wyonegonic property including outdoor cooking and encampment. Participants should bring their personal gear and their copy of The Art of Outdoor Living (books will be available for purchase at cost of $34). Food and group campsite materials including tents are provided. Canoeing and first aid skills are not included in this training. \nInstructors: Ginny Geyer and Katie Curtis. Both are Junior Maine Guide testers\, experienced instructors and Katie is a Registered Maine Guide. \nDates: Friday June 17 9:00am – Sunday June 19 4:30pm \nCost: $130.  (Books can be purchased for $34 for participants who do not have their own copy.) \nCertification: This is not a certification course.  At the end of the workshop\, participants will be provided with a checklist of skills covered and written feedback from the instructors that can be provided to Camp Directors.  This is an example of documentation that can be added to a participants documented experience and staff skills verification for specialized activities (ACA standards ST.8 and ST.33).
URL:https://www.acanewengland.org/event/outdoor-living-skills-staff-workshop/
LOCATION:Wyonegonic Camps\, 215 Wyonegonic Road\, Denmark\, ME\, 04022
CATEGORIES:Education,Training - Non-ACA
ATTACH;FMTTYPE=image/jpeg:https://www.acanewengland.org/wp-content/uploads/2019/11/OutdoorSkills-Mowglis-scaled-e1574277263546.jpg
ORGANIZER;CN="Wyonegonic Camps":MAILTO:https://wyonegonic.com/
END:VEVENT
BEGIN:VEVENT
DTSTART;TZID=America/New_York:20220616T083000
DTEND;TZID=America/New_York:20220617T190000
DTSTAMP:20260420T141654
CREATED:20220517T181826Z
LAST-MODIFIED:20220517T181826Z
UID:7798-1655368200-1655492400@www.acanewengland.org
SUMMARY:Archery: National Archery Association Level I Certification
DESCRIPTION:Instructor: Lucy Morris\,  New England School of Archery and Supplies \nPurpose: \n\nTo improve the safety and quality of archery instruction to individuals and small groups in a camp setting\nTo review archery techniques\nTo give instructors confidence in teaching\nTo learn to motivate and vary daily program\nTo care for equipment and make repairs\nTo comply with ACA Accreditation Standards and state licensing regulations.\n\nDates: \n\nArchery Course 1:  Thursday June 16th starting at 8:30am – ending by 7:00pm (or when testing is complete)\nArchery Course 2: Friday June 17th starting at 8:30am – ending by 7:00pm (or when testing is complete)\n\nCost: $220 \nPrerequisites: The minimum age for the Level I course is 15. However\, when conducting an archery class\, those under the age of 18 are required to have an adult (18+) supervision. \nCertification: National Archery Association – Level I. Valid for three years from date of issue. \nNote:  Full attendance and participation is required. Mandatory online coursework must be completed 2 days prior to attending the in person training.  Plan for anywhere from 3-8 hours to complete the pre-course work (time varies based on prior experience or familiarity with material).  We plan to release access to the online training 2-3 weeks prior to the in person training.
URL:https://www.acanewengland.org/event/archery-national-archery-association-level-i-certification/
LOCATION:Wyonegonic Camps\, 215 Wyonegonic Road\, Denmark\, ME\, 04022
CATEGORIES:Education,Training - Non-ACA
ATTACH;FMTTYPE=image/jpeg:https://www.acanewengland.org/wp-content/uploads/2019/11/OutdoorSkills-Mowglis-scaled-e1574277263546.jpg
ORGANIZER;CN="Wyonegonic Camps":MAILTO:https://wyonegonic.com/
END:VEVENT
BEGIN:VEVENT
DTSTART;VALUE=DATE:20220612
DTEND;VALUE=DATE:20220613
DTSTAMP:20260420T141654
CREATED:20220517T180231Z
LAST-MODIFIED:20220517T180544Z
UID:7783-1654992000-1655078399@www.acanewengland.org
SUMMARY:Water Safety & Swim Instruction Course
DESCRIPTION:For details\, see the following handout: Water Safety & Swim Instruction Course
URL:https://www.acanewengland.org/event/water-safety-swim-instruction-course/
LOCATION:Camp Quinebarge\, 100 Sibley Rd\, Moultonborough\, NH\, 03254
CATEGORIES:Education,Training - Non-ACA
ATTACH;FMTTYPE=image/jpeg:https://www.acanewengland.org/wp-content/uploads/2019/11/OutdoorSkills-Mowglis-scaled-e1574277263546.jpg
END:VEVENT
BEGIN:VEVENT
DTSTART;TZID=America/New_York:20220607T090000
DTEND;TZID=America/New_York:20220610T170000
DTSTAMP:20260420T141654
CREATED:20220517T182233Z
LAST-MODIFIED:20220517T182233Z
UID:7802-1654592400-1654880400@www.acanewengland.org
SUMMARY:American Canoe Association\, Level I Introduction to Canoeing Instructor
DESCRIPTION:We offer canoe instructor training through the American Canoe Association: Level 1 Introduction to Canoeing Instructor Certification Workshop (ICW\, ICE). Participants can choose to include a one day Introduction to Canoeing to help review paddle strokes before the intensive Instructor Workshop. This is strongly encouraged by the instructor. \nPlease note that all courses are physically demanding and occur in a fresh water lake. The temperatures in June can be extremely cold. We strongly recommend that you bring a wetsuit. Lifeguard Certification is highly recommended for anyone teaching children on the water. Refer to American Camp Association Accreditation Standards for appropriate water sport training requirements. \nInstructors:  American Canoe Association Instructor Trainers\, OLTOA Instructors \nAmerican Canoe  Association: Level 1 Canoe Instructor with Introduction to Canoeing \nPurpose: \n\nTo learn or review basic canoe strokes before moving into the instructor level course (includes Intro to Canoeing Skills Course on day 1.)  This is strongly recommended for all students and especially for those with minimal paddling experience.\nTo certify an individual to teach the American Canoe Association Level 1 Introduction to Canoeing curriculum\nTo gain knowledge of canoe safety\nTo strengthen teaching skills\nTo comply with ACA Accreditation Standards\n\nDate Options Intro and Instructor: \n\nOption 1: Canoe Instructor w/Intro Course: Friday June 3rd starting at 9am – Monday June 6th finishing at 5pm\nOption 2: Canoe Instructor w/Intro Course: Tuesday June 7th starting at 9am – Friday June 10th finishing at 5pm\n\nCost:  $485 (Intro and Instructor Course) \nPlease note that the Canoe Instructor training is a full time commitment\, including evening classes and coursework. \nPrerequisites: \n\nPlease note that COVID-19 Vaccination is required by the Canoe Instructors\nMinimum Age 18 for American Canoe Association Instructor requirements\nExcellent physical condition and strong swimming skills\nCurrent First Aid and CPR certification\nWe recommend you review the following ACA Instructor Criteria for the Level 1 Introduction to Canoeing Instructor\n\nCertifications: American Canoe Association\, Level I Introduction to Canoeing Instructor
URL:https://www.acanewengland.org/event/american-canoe-association-level-i-introduction-to-canoeing-instructor-2/
LOCATION:Wyonegonic Camps\, 215 Wyonegonic Road\, Denmark\, ME\, 04022
CATEGORIES:Education,Training - Non-ACA
ATTACH;FMTTYPE=image/jpeg:https://www.acanewengland.org/wp-content/uploads/2019/11/OutdoorSkills-Mowglis-scaled-e1574277263546.jpg
ORGANIZER;CN="Wyonegonic Camps":MAILTO:https://wyonegonic.com/
END:VEVENT
BEGIN:VEVENT
DTSTART;VALUE=DATE:20220606
DTEND;VALUE=DATE:20220614
DTSTAMP:20260420T141654
CREATED:20220517T182512Z
LAST-MODIFIED:20220517T182512Z
UID:7804-1654473600-1655164799@www.acanewengland.org
SUMMARY:Challenge Course Trainings
DESCRIPTION:Instructor:  Mike Barker – Adventure Mas \nThis course meets the American National Standards Institute (ANSI) for Ropes Facilitator Training. For more information please read this article. \nAll training also refers to American Camp Association (ACA) Accreditation Standards\, Association for Challenge Course Technology Standards (ACCT)\, Professional Ropes Course Association (PRCA) and Maine State Licensing Regulations. \nMike and his team at Adventure Mas are also available for building and inspections. \nLow Ropes Facilitator \nPurpose: Focus is on facilitation techniques for both element/initiative and non-element/initiative challenges as well as safety skills. \nDates: June 10th starting at 9am – June 12th finishing at 5pm \nCost: $335 \nCertification: Low Ropes Course Facilitator (2 years) \nHigh Ropes Facilitator \nPurpose: Learn facilitating techniques for various high elements including equipment\, belay skills\, safety and rescue techniques. Gain knowledge in risk and course management. \nDates: June 6th  starting at 9am – June 9th finishing at 5pm \nCost: $495 \nCertification: High Ropes Course Facilitator (2 years) \nChallenge Course Facilitator \nThere is a discount price if a participant enrolls in both the High and Low Ropes Facilitator Trainings back to back. \nCombined Dates: June 6th – June 12th High and Low Facilitator Training \nCost: $695 \nCertification:  Challenge Course Facilitator (2 years) \nPlease note that the Ropes training is a full time commitment\, including evening classes and coursework. \nClimbing Wall Facilitator \nPurpose:  Learn facilitation techniques\, belaying skills and safety for climbing wall structures. Gain knowledge in risk management. \nDates: June 13th starting at 9am finishing at 5pm \nCost: $90 \n\n\n\nOther Training
URL:https://www.acanewengland.org/event/challenge-course-trainings/
LOCATION:Wyonegonic Camps\, 215 Wyonegonic Road\, Denmark\, ME\, 04022
CATEGORIES:Education,Training - Non-ACA
ATTACH;FMTTYPE=image/jpeg:https://www.acanewengland.org/wp-content/uploads/2019/11/OutdoorSkills-Mowglis-scaled-e1574277263546.jpg
ORGANIZER;CN="Wyonegonic Camps":MAILTO:https://wyonegonic.com/
END:VEVENT
BEGIN:VEVENT
DTSTART;TZID=America/New_York:20220603T090000
DTEND;TZID=America/New_York:20220606T170000
DTSTAMP:20260420T141654
CREATED:20220517T182104Z
LAST-MODIFIED:20220517T182104Z
UID:7800-1654246800-1654534800@www.acanewengland.org
SUMMARY:American Canoe Association\, Level I Introduction to Canoeing Instructor
DESCRIPTION:We offer canoe instructor training through the American Canoe Association: Level 1 Introduction to Canoeing Instructor Certification Workshop (ICW\, ICE). Participants can choose to include a one day Introduction to Canoeing to help review paddle strokes before the intensive Instructor Workshop. This is strongly encouraged by the instructor. \nPlease note that all courses are physically demanding and occur in a fresh water lake. The temperatures in June can be extremely cold. We strongly recommend that you bring a wetsuit. Lifeguard Certification is highly recommended for anyone teaching children on the water. Refer to American Camp Association Accreditation Standards for appropriate water sport training requirements. \nInstructors:  American Canoe Association Instructor Trainers\, OLTOA Instructors \nAmerican Canoe  Association: Level 1 Canoe Instructor with Introduction to Canoeing \nPurpose: \n\nTo learn or review basic canoe strokes before moving into the instructor level course (includes Intro to Canoeing Skills Course on day 1.)  This is strongly recommended for all students and especially for those with minimal paddling experience.\nTo certify an individual to teach the American Canoe Association Level 1 Introduction to Canoeing curriculum\nTo gain knowledge of canoe safety\nTo strengthen teaching skills\nTo comply with ACA Accreditation Standards\n\nDate Options Intro and Instructor: \n\nOption 1: Canoe Instructor w/Intro Course: Friday June 3rd starting at 9am – Monday June 6th finishing at 5pm\nOption 2: Canoe Instructor w/Intro Course: Tuesday June 7th starting at 9am – Friday June 10th finishing at 5pm\n\nCost:  $485 (Intro and Instructor Course) \nPlease note that the Canoe Instructor training is a full time commitment\, including evening classes and coursework. \nPrerequisites: \n\nPlease note that COVID-19 Vaccination is required by the Canoe Instructors\nMinimum Age 18 for American Canoe Association Instructor requirements\nExcellent physical condition and strong swimming skills\nCurrent First Aid and CPR certification\nWe recommend you review the following ACA Instructor Criteria for the Level 1 Introduction to Canoeing Instructor\n\nCertifications: American Canoe Association\, Level I Introduction to Canoeing Instructor
URL:https://www.acanewengland.org/event/american-canoe-association-level-i-introduction-to-canoeing-instructor/
LOCATION:Wyonegonic Camps\, 215 Wyonegonic Road\, Denmark\, ME\, 04022
CATEGORIES:Education,Training - Non-ACA
ATTACH;FMTTYPE=image/jpeg:https://www.acanewengland.org/wp-content/uploads/2019/11/OutdoorSkills-Mowglis-scaled-e1574277263546.jpg
ORGANIZER;CN="Wyonegonic Camps":MAILTO:https://wyonegonic.com/
END:VEVENT
BEGIN:VEVENT
DTSTART;VALUE=DATE:20220524
DTEND;VALUE=DATE:20220526
DTSTAMP:20260420T141654
CREATED:20220517T174547Z
LAST-MODIFIED:20220517T174547Z
UID:7781-1653350400-1653523199@www.acanewengland.org
SUMMARY:SPOTTERS READY: LOW CHALLENGE COURSE ELEMENTS PROGRAMMING
DESCRIPTION:Visit High 5 for information and registration regarding this event through the following link: SPOTTERS READY: LOW CHALLENGE COURSE ELEMENTS PROGRAMMING
URL:https://www.acanewengland.org/event/spotters-ready-low-challenge-course-elements-programming/
LOCATION:High 5\, 130 Austine Dr # 170\, Brattleboro\, VT\, 05301
CATEGORIES:Education,Training - Non-ACA
ATTACH;FMTTYPE=image/jpeg:https://www.acanewengland.org/wp-content/uploads/2019/11/OutdoorSkills-Mowglis-scaled-e1574277263546.jpg
END:VEVENT
BEGIN:VEVENT
DTSTART;VALUE=DATE:20220523
DTEND;VALUE=DATE:20220524
DTSTAMP:20260420T141654
CREATED:20220517T174301Z
LAST-MODIFIED:20220517T174301Z
UID:7779-1653264000-1653350399@www.acanewengland.org
SUMMARY:LEVEL 2 CHALLENGE COURSE CERTIFICATION EXAM
DESCRIPTION:Visit High 5 for information and registration regarding this event through the following link: Level 2 Challenge Course Certification Exam
URL:https://www.acanewengland.org/event/level-2-challenge-course-certification-exam/
LOCATION:High 5\, 130 Austine Dr # 170\, Brattleboro\, VT\, 05301
CATEGORIES:Education,Training - Non-ACA
ATTACH;FMTTYPE=image/jpeg:https://www.acanewengland.org/wp-content/uploads/2019/11/OutdoorSkills-Mowglis-scaled-e1574277263546.jpg
END:VEVENT
BEGIN:VEVENT
DTSTART;VALUE=DATE:20220523
DTEND;VALUE=DATE:20220524
DTSTAMP:20260420T141654
CREATED:20220517T173946Z
LAST-MODIFIED:20220517T173946Z
UID:7763-1653264000-1653350399@www.acanewengland.org
SUMMARY:Level 1 Challenge Course Certification Exam
DESCRIPTION:Visit High 5 for information and registration regarding this event through the following link: Level 1 Challenge Course Certification Exam \n 
URL:https://www.acanewengland.org/event/level-1-challenge-course-certification-exam/
LOCATION:High 5\, 130 Austine Dr # 170\, Brattleboro\, VT\, 05301
CATEGORIES:Education,Training - Non-ACA
ATTACH;FMTTYPE=image/jpeg:https://www.acanewengland.org/wp-content/uploads/2019/11/OutdoorSkills-Mowglis-scaled-e1574277263546.jpg
END:VEVENT
BEGIN:VEVENT
DTSTART;VALUE=DATE:20210529
DTEND;VALUE=DATE:20210531
DTSTAMP:20260420T141654
CREATED:20210517T131036Z
LAST-MODIFIED:20210517T131542Z
UID:5515-1622246400-1622419199@www.acanewengland.org
SUMMARY:Wilderness First Aid
DESCRIPTION:Do you like to spend time outdoors? Accidents happen; if you or someone in your group got hurt\, would you know what to do? People get hurt\, sick\, or lost. Many back country emergencies are preventable and even when bad things happen\, sometimes the wrong care can make things worse. \nWilderness First Aid is the perfect course for the outdoor enthusiast or trip leader who wants more than basic level of first aid training for short trips with family\, friends\, and outdoor groups. The 16 hour long (two-day) program focuses on the skills of: Response and Assessment\, Musculoskeletal Injuries\, Environmental Emergencies\, Survival Skills\, Soft Tissue Injuries\, and Medical Emergencies. \nThose who complete the course and pass the written and practical skills will receive a Wilderness First Aid certification from SOLO which is valid for 2 years. SOLO is among the leaders in Wilderness Medicine Training and certification. Coffee and snacks will be provided each day. This course will be held at Wasserman Park in Merrimack\, NH. \nDue to COVID 19; we are capping class sizes to no more than 16 people. Classroom space will be setup to allow for students to remain 6ft apart during didactic lessons. \nFor practical work\, students are paired with one person\, and one person only. These people will work together during practical essions/assessments and otherwise will be expected to remain separated during class. The pair will remain the same from day one through day two. We will not be teaching group scenarios and will also only discuss certain components\, such as patient lifting and moving. \nParticipants are NOT required to hold a Valid CPR Certification Card\, but if you would like to get certified in Adult CPR ; a Course will be offered on Saturday evening for an additional fee of $45.00 \nSchedule \nSaturday 5/29 – 8:00AM – 5:00PM \nSunday 5/20 – 8:00AM – 5:00PM
URL:https://www.acanewengland.org/event/wilderness-first-aid/
LOCATION:Function Hall @ Wasserman Park\, 116 Naticook Rd\, Merrimack\, NH\, United States
CATEGORIES:Training,Education,Training - Non-ACA
ATTACH;FMTTYPE=image/jpeg:https://www.acanewengland.org/wp-content/uploads/2019/11/OutdoorSkills-Mowglis-scaled-e1574277263546.jpg
END:VEVENT
BEGIN:VEVENT
DTSTART;TZID=UTC:20191219T133000
DTEND;TZID=UTC:20191219T163000
DTSTAMP:20260420T141654
CREATED:20200222T233925Z
LAST-MODIFIED:20200602T001826Z
UID:549-1576762200-1576773000@www.acanewengland.org
SUMMARY:EPIC\, New England: Coffee and Collaboration
DESCRIPTION:Join fellow EPICs (Emerging Professionals in Camping) to network and discuss two of the most relevant topics facing our camps – Staffing and Mental Health. Come prepared to share and learn with other emerging professionals in camping\, enjoy a coffee and bagel break midway through the afternoon\, and talk through the topics that matter most to us here and now! As innovative and thought leaders in our industry\, come learn in these professionally facilitated sessions. \nTobie Feigenbaum\, a Licensed Clinical Social Worker and summer camp administrator will share her insights and guide our discussion around camper mental health. \nRyan Pelletier\, CIEE’s Camp Team Manager is strategically poised to lead us through a discussion about how to welcome first time staff\, integrate them into your camp’s culture\, and best prepare them for the job ahead. \nBrought to you by CIEE\, EPIC\, New England and ACA\, New England! See you there! \n\nAbout the Facilitators\n\n \n\nRyan is Manager of Camp Relations for CIEE’s Camp Exchange USA program\, connecting youth workers from around the globe with American summer camps. Since 1947\, CIEE’s mission is to help people gain understanding\, acquire knowledge\, and develop skills for living in a globally interdependent and culturally diverse world.  Ryan manages a team of Camp Consultants that work directly with camp representatives\, tailor matching international counselors and ensuring positive cultural exchange experiences. \nRyan is passionate about the camp experience and it’s capacity to transform lives. He spent 5 years as the Director of Environmental Education for Kieve-Wavus Education in Nobleboro\, Maine\, cultivating the next generation of environmental advocates. As an ardent environmentalist Ryan stays close to nature through recreation; surfing\, paddle boarding\, and hiking to name a few! He lives in Portland with wife Usha and dog Kona. \n  \n\n \n\nTobie has a BA in Sociology from the University of Delaware and a Masters in Social Work from UNH. She has worked in residential treatment through the Boys and Girls Clubs and for the last 15 years she has primarily worked as a Licensed Clinical Social Worker in schools. During the summers\, she is the Head Counselor at Camp Pinecliffe\, where her day to day tasks include checking in with high needs campers\, liaising with parents\, coaching staff on how to handle camper issues\, and working with therapists as needed. \nDuring the workshop\, Tobie will be discussing common themes in camper mental health\, ways we can support our camper populations\, and strategies for campers and staff alike. There will be time for group discussion so bring topics to discuss and ideas to share!
URL:https://www.acanewengland.org/event/epic-new-england-coffee-and-collaboration/
LOCATION:Council on International Education Exchange (CIEE) Office\, 300 Fore Street\, Portland\, ME\, 04101\, United States
CATEGORIES:Education,Training - Non-ACA
ATTACH;FMTTYPE=image/jpeg:https://www.acanewengland.org/wp-content/uploads/2019/11/OutdoorSkills-Mowglis-scaled-e1574277263546.jpg
ORGANIZER;CN="Anthony Pyatt":MAILTO:anthony@kampkohut.com
END:VEVENT
END:VCALENDAR