BEGIN:VCALENDAR
VERSION:2.0
PRODID:-//American Camp Association New England - ECPv6.15.20//NONSGML v1.0//EN
CALSCALE:GREGORIAN
METHOD:PUBLISH
X-WR-CALNAME:American Camp Association New England
X-ORIGINAL-URL:https://www.acanewengland.org
X-WR-CALDESC:Events for American Camp Association New England
REFRESH-INTERVAL;VALUE=DURATION:PT1H
X-Robots-Tag:noindex
X-PUBLISHED-TTL:PT1H
BEGIN:VTIMEZONE
TZID:America/New_York
BEGIN:DAYLIGHT
TZOFFSETFROM:-0500
TZOFFSETTO:-0400
TZNAME:EDT
DTSTART:20240310T070000
END:DAYLIGHT
BEGIN:STANDARD
TZOFFSETFROM:-0400
TZOFFSETTO:-0500
TZNAME:EST
DTSTART:20241103T060000
END:STANDARD
BEGIN:DAYLIGHT
TZOFFSETFROM:-0500
TZOFFSETTO:-0400
TZNAME:EDT
DTSTART:20250309T070000
END:DAYLIGHT
BEGIN:STANDARD
TZOFFSETFROM:-0400
TZOFFSETTO:-0500
TZNAME:EST
DTSTART:20251102T060000
END:STANDARD
BEGIN:DAYLIGHT
TZOFFSETFROM:-0500
TZOFFSETTO:-0400
TZNAME:EDT
DTSTART:20260308T070000
END:DAYLIGHT
BEGIN:STANDARD
TZOFFSETFROM:-0400
TZOFFSETTO:-0500
TZNAME:EST
DTSTART:20261101T060000
END:STANDARD
END:VTIMEZONE
BEGIN:VEVENT
DTSTART;TZID=America/New_York:20250514T100000
DTEND;TZID=America/New_York:20250514T110000
DTSTAMP:20260425T200902
CREATED:20250425T164015Z
LAST-MODIFIED:20250501T135802Z
UID:13765-1747216800-1747220400@www.acanewengland.org
SUMMARY:What’s the Buzz on Supporting International Staff this Summer? (Members only e-discussion)
DESCRIPTION:FREE for and limited to ACA members!  \nAs you all prepare for the arrival of your international staff coming on a J-1 Exchange Visitor Visa\, we know there is some uncertainty about what to expect and how to best support your staff as they arrive and spend the summer at your camp. \nACA\, Inc. is hosting a Webinar\, Navigating Immigration Enforcement Operations (ICE) and Exchange Visitor Visas (J-1) This Summer\, from 2:00 – 3:45 PM ET on May 13 (FREE for ACA members) and we encourage you to attend if this topic is of interest to you/your camp. \nFollowing this ACA\, Inc. hosted session\, we want to give New England camp professionals an opportunity to come together and reflect and share on this topic as well (attendance at the 5/13 webinar is not required to attend this session). Join us from 10 am – 11 am ET on Wednesday\, May 14 for an open forum discussion around how you and your camp are preparing for your international staff this summer. During this time\, we hope folks will: \n\nReflect on anything you may have heard during ACA\, Inc. Webinar on May 13 (attendance at that session NOT REQUIRED to participate in this Buzz On session);\nHave an opportunity to ask each other questions and hear perspectives from other camps; and\nShare examples of what you/your camp have done or are planning to do leading up to summer 2025 as it relates to your international staff.\n\nACA\, New England staff will be there to guide/facilitate the conversation\, but this will be a participant-led discussion. Please come prepared to have your videos on\, ask questions\, and engage in dialogue with your peers. \nBecause this session is based on real-time dialogue\, it will not be recorded. Please plan to join us live. \nQuestions? Contact Gillian Gold\, Events & Logistics Coordinator\, ACA\, New England\, gillian@acanewengland.org or 781-541-6080. \n 
URL:https://www.acanewengland.org/event/whats-the-buzz-on-supporting-international-staff-this-summer-members-only-e-discussion/
LOCATION:Zoom
CATEGORIES:Education,What's the Buzz
ATTACH;FMTTYPE=image/png:https://www.acanewengland.org/wp-content/uploads/2025/05/Whats-the-Buzz-on-Supporting-International-Staff-this-Summer-2-e1746107873225.png
ORGANIZER;CN="ACA%2C New England":MAILTO:camp@acanewengland.org
END:VEVENT
END:VCALENDAR