BEGIN:VCALENDAR
VERSION:2.0
PRODID:-//American Camp Association New England - ECPv6.15.20//NONSGML v1.0//EN
CALSCALE:GREGORIAN
METHOD:PUBLISH
X-WR-CALNAME:American Camp Association New England
X-ORIGINAL-URL:https://www.acanewengland.org
X-WR-CALDESC:Events for American Camp Association New England
REFRESH-INTERVAL;VALUE=DURATION:PT1H
X-Robots-Tag:noindex
X-PUBLISHED-TTL:PT1H
BEGIN:VTIMEZONE
TZID:America/New_York
BEGIN:DAYLIGHT
TZOFFSETFROM:-0500
TZOFFSETTO:-0400
TZNAME:EDT
DTSTART:20250309T070000
END:DAYLIGHT
BEGIN:STANDARD
TZOFFSETFROM:-0400
TZOFFSETTO:-0500
TZNAME:EST
DTSTART:20251102T060000
END:STANDARD
BEGIN:DAYLIGHT
TZOFFSETFROM:-0500
TZOFFSETTO:-0400
TZNAME:EDT
DTSTART:20260308T070000
END:DAYLIGHT
BEGIN:STANDARD
TZOFFSETFROM:-0400
TZOFFSETTO:-0500
TZNAME:EST
DTSTART:20261101T060000
END:STANDARD
BEGIN:DAYLIGHT
TZOFFSETFROM:-0500
TZOFFSETTO:-0400
TZNAME:EDT
DTSTART:20270314T070000
END:DAYLIGHT
BEGIN:STANDARD
TZOFFSETFROM:-0400
TZOFFSETTO:-0500
TZNAME:EST
DTSTART:20271107T060000
END:STANDARD
END:VTIMEZONE
BEGIN:VEVENT
DTSTART;TZID=America/New_York:20260305T100000
DTEND;TZID=America/New_York:20260305T113000
DTSTAMP:20260421T180313
CREATED:20251224T162939Z
LAST-MODIFIED:20260113T164152Z
UID:15190-1772704800-1772710200@www.acanewengland.org
SUMMARY:From Plan to Practice: An Emergency Response Tabletop E-Session that Actually Works
DESCRIPTION:Now more than ever\, camps are investing more resources into making sure their staffs are adequately prepared for any emergencies that may arise. But a comprehensive action plan isn’t enough. The real test of preparedness comes when the plan is put into action. Join Patrick Dollason\, founder and CEO of The Base Camp Initiative\, for a hands-on session to practice translating your emergency plans into practical tools that build confidence and empower your staff to act. \nBase Camp’s services are designed specifically for the camp environment and are grounded in FEMA and DHS principles. Through guided discussion and facilitated tabletop exercises\, participants will learn the actionable steps for creating their own tabletop exercises that they can in turn facilitate with their own staff teams. \nAbout the Instructor\n \nPatrick Dollason is a certified Emergency Management Specialist with the Charleston County Emergency Management Department and \nfounder of The Base Camp Initiative\, LLC\, a consulting practice helping camps build a culture of preparedness and resilience. He holds degrees in Disaster and Emergency Management and Organizational Leadership\, blending field expertise with academic insight into team development and organizational culture. As a Training and Exercise Coordinator\, Patrick designs and facilitates emergency exercises that identify gaps\, strengthen leadership\, and build resilience. He brings both professional experience and a passion for youth development to help camps protect what matters most. \n  \nWhen: Thursday\, March 5\, 2026; 10:00 – 11:30am (eastern) \nWhere: Zoom (meeting links will be sent prior to the start of the session) \nCost: 1st Person: Member $40; Non-member $55\, 2nd and Additional: Member: $30; Non-member $45 \nClick here to register!\nThis e-session will not be recorded. \nQuestions\, reach out Gillian Gold\, Events & Logistics Manager at gillian@acanewengland.org or 781-541-6080 ext. 106. \nUse of Images and Audio by ACA\, New England: Through my registration\, I give American Camp Association\, New England (ACANE) full rights and permissions with respect to any photographs\, video\, and audio recordings taken during the ACANE event. These images and recordings may be used by ACANE and its agents in any format or medium and for any lawful purpose. \n 
URL:https://www.acanewengland.org/event/from-plan-to-practice-a-virtual-tabletop-session-that-actually-works/
LOCATION:Zoom
CATEGORIES:Education
ATTACH;FMTTYPE=image/png:https://www.acanewengland.org/wp-content/uploads/2025/12/From-Plan-to-Practice-A-Virtual-Tabletop-Session-that-Actually-Works-450x450-graphic-2.png
ORGANIZER;CN="ACA%2C New England":MAILTO:camp@acanewengland.org
END:VEVENT
END:VCALENDAR