BEGIN:VCALENDAR
VERSION:2.0
PRODID:-//American Camp Association New England - ECPv6.15.20//NONSGML v1.0//EN
CALSCALE:GREGORIAN
METHOD:PUBLISH
X-ORIGINAL-URL:https://www.acanewengland.org
X-WR-CALDESC:Events for American Camp Association New England
REFRESH-INTERVAL;VALUE=DURATION:PT1H
X-Robots-Tag:noindex
X-PUBLISHED-TTL:PT1H
BEGIN:VTIMEZONE
TZID:America/New_York
BEGIN:DAYLIGHT
TZOFFSETFROM:-0500
TZOFFSETTO:-0400
TZNAME:EDT
DTSTART:20230312T070000
END:DAYLIGHT
BEGIN:STANDARD
TZOFFSETFROM:-0400
TZOFFSETTO:-0500
TZNAME:EST
DTSTART:20231105T060000
END:STANDARD
BEGIN:DAYLIGHT
TZOFFSETFROM:-0500
TZOFFSETTO:-0400
TZNAME:EDT
DTSTART:20240310T070000
END:DAYLIGHT
BEGIN:STANDARD
TZOFFSETFROM:-0400
TZOFFSETTO:-0500
TZNAME:EST
DTSTART:20241103T060000
END:STANDARD
BEGIN:DAYLIGHT
TZOFFSETFROM:-0500
TZOFFSETTO:-0400
TZNAME:EDT
DTSTART:20250309T070000
END:DAYLIGHT
BEGIN:STANDARD
TZOFFSETFROM:-0400
TZOFFSETTO:-0500
TZNAME:EST
DTSTART:20251102T060000
END:STANDARD
END:VTIMEZONE
BEGIN:VEVENT
DTSTART;TZID=America/New_York:20240501T130000
DTEND;TZID=America/New_York:20240501T160000
DTSTAMP:20260421T214804
CREATED:20240416T160853Z
LAST-MODIFIED:20240416T162621Z
UID:11842-1714568400-1714579200@www.acanewengland.org
SUMMARY:Summer Sendoff with EPIC\, New England - NH
DESCRIPTION:2024 EPIC\, New England Summer Sendoff – NH \nJoin EPIC and friends for on last gathering before we all set sail for summer. We’re congregating at Tuckerman Brewing for a few hours of good conversation about how we are preparing for summer\, any anticipated big changes\, what we are most excited about\, how we feel about staffing going into the summer\, etc. Meet some new people and see some old friends. Then\, have an EPIC camp season \nWhat – Gathering before we all part ways for the summer \nWho – EPICs\, friends of EPIC\, people curious about EPIC \nWhere – Tuckerman Brewing\, Conway\, NH \nWhen – 1pm – 4pm on Wednesday\, May 1 \nWhy – . The summer is long\, and you’re not alone. It’s important to remember that and reaffirm the hard but necessary work we’re all about to engage in throughout the camp season. \n\nEPIC\, New England\nEmerging Professionals In Camping (EPIC) is a kindred group within the American Camp Association for counselors\, staff\, and other camp professionals to connect and grow their careers in camping. \nIn January 2019\, a group of emerging professionals in New England camping gathered at the ACA\, New England office in Lexington\, MA. Since then\, EPIC\, New England has continued to provide support\, connections\, and opportunities for anyone making that move into a camp career or taking another step towards their goals in the industry. \nIf you are someone passionate about a career in camping or a current camp pro looking for more growth and development\, you are EPIC.
URL:https://www.acanewengland.org/event/summer-sendoff-with-epic-new-england/
LOCATION:Tuckerman Brewing\, 66 Hobbs St\, Conway\, NH\, 03818
CATEGORIES:Education,Emerging Professionals In Camping
ATTACH;FMTTYPE=image/png:https://www.acanewengland.org/wp-content/uploads/2023/09/EPIC-NEW-ENGLAND-BUD-LOGO.png
ORGANIZER;CN="Bud Copeland":MAILTO:bud@acanewengland.org
END:VEVENT
BEGIN:VEVENT
DTSTART;TZID=America/New_York:20240502T130000
DTEND;TZID=America/New_York:20240502T160000
DTSTAMP:20260421T214804
CREATED:20240416T161104Z
LAST-MODIFIED:20240416T162800Z
UID:11847-1714654800-1714665600@www.acanewengland.org
SUMMARY:Summer Sendoff with EPIC\, New England - ME
DESCRIPTION:2024 EPIC\, New England Summer Sendoff – ME \nJoin MSC Community Connections & EPIC (Emerging Professionals in Camp)  for a dog walk at Fernwood Cove.  Furry friends optional! We hope you can join us for our last gathering before summer 2024.  We will take a tour around Fernwood Cove and chat about how we are preparing for summer\, any anticipated big changes\, what we are most excited about\, how we feel about staffing going into the summer\, etc. \nWhat – Gathering before we all part ways for the summer \nWho – EPICs\, friends of EPIC\, people curious about EPIC \nWhere – Fernwood Cove\, 350 Island Pond Road\, Harrison ME \nWhen – 1pm – 4pm on Wednesday\, May 2 \nWhy – . The summer is long\, and you’re not alone. It’s important to remember that and reaffirm the hard but necessary work we’re all about to engage in throughout the camp season. \n\nEPIC\, New England\nEmerging Professionals In Camping (EPIC) is a kindred group within the American Camp Association for counselors\, staff\, and other camp professionals to connect and grow their careers in camping. \nIn January 2019\, a group of emerging professionals in New England camping gathered at the ACA\, New England office in Lexington\, MA. Since then\, EPIC\, New England has continued to provide support\, connections\, and opportunities for anyone making that move into a camp career or taking another step towards their goals in the industry. \nIf you are someone passionate about a career in camping or a current camp pro looking for more growth and development\, you are EPIC.
URL:https://www.acanewengland.org/event/11847/
LOCATION:Fernwood Cove\, 350 Island Pond Rd\, Harrison\, ME\, 04040
CATEGORIES:Education,Emerging Professionals In Camping
ATTACH;FMTTYPE=image/png:https://www.acanewengland.org/wp-content/uploads/2023/09/EPIC-NEW-ENGLAND-BUD-LOGO.png
ORGANIZER;CN="Bud Copeland":MAILTO:bud@acanewengland.org
END:VEVENT
BEGIN:VEVENT
DTSTART;TZID=America/New_York:20240506T143000
DTEND;TZID=America/New_York:20240506T153000
DTSTAMP:20260421T214804
CREATED:20240405T165322Z
LAST-MODIFIED:20240405T165641Z
UID:11787-1715005800-1715009400@www.acanewengland.org
SUMMARY:Hot Topics w/EPIC - May 2024
DESCRIPTION:Got Hot Topics you want to address? Questions you want to ask? Stories you want to share? email bud@acanewengland.org and we’ll get them on the agenda. \nThroughout the “off season”\, EPIC New England hosts monthly drop-ins for Emerging Professionals In Camping to connect and share thoughts\, questions\, information\, etc. around the topics that currently affect them in camping. \nWhile hosted by EPIC\, these conversations are open to anyone (EPIC\, full-time\, seasonal\, veteran\, etc.) who has insights or questions around the Hot Topic of the day. \n\nEPIC\, New England\nEmerging Professionals In Camping (EPIC) is a kindred group within the American Camp Association for counselors\, staff\, and other camp professionals to connect and grow their careers in camping. \nIn January 2019\, a group of emerging professionals in New England camping gathered at the ACA\, New England office in Lexington\, MA. Since then\, EPIC\, New England has continued to provide support\, connections\, and opportunities for anyone making that move into a camp career or taking another step towards their goals in the industry. \nIf you are someone passionate about a career in camping or a current camp pro looking for more growth and development\, you are EPIC.
URL:https://www.acanewengland.org/event/hot-topics-w-epic-may-2024/
LOCATION:Zoom
CATEGORIES:Education,Emerging Professionals In Camping
ATTACH;FMTTYPE=image/jpeg:https://www.acanewengland.org/wp-content/uploads/2023/09/EPIC-Hot-Topics-e1695912931319.jpg
ORGANIZER;CN="Bud Copeland":MAILTO:bud@acanewengland.org
END:VEVENT
BEGIN:VEVENT
DTSTART;TZID=America/New_York:20240516T160000
DTEND;TZID=America/New_York:20240516T170000
DTSTAMP:20260421T214804
CREATED:20240506T151824Z
LAST-MODIFIED:20240506T151933Z
UID:11909-1715875200-1715878800@www.acanewengland.org
SUMMARY:EPIC Summer Send Off – Campy Hour
DESCRIPTION:Our partners at ACA Inc. are hosting an online opportunity for EPICs to connect before the summer takes us in our various directions. Their invitation says: \n“Join EPIC for a fun Summer Send Off! You’ve put lots of time\, stress\, and energy into preparations for the upcoming summer season\, and now is a great time to celebrate what’s ahead. You will have the opportunity to make connections with others you can lean on during the summer. Join us with your favorite beverage to share\, learn\, and connect with other EPICs across the country!” \nGreat chance to meet some new friends and perhaps reconnect with some familiar faces! \n\nEPIC\, New England\nEmerging Professionals In Camping (EPIC) is a kindred group within the American Camp Association for counselors\, staff\, and other camp professionals to connect and grow their careers in camping. \nIn January 2019\, a group of emerging professionals in New England camping gathered at the ACA\, New England office in Lexington\, MA. Since then\, EPIC\, New England has continued to provide support\, connections\, and opportunities for anyone making that move into a camp career or taking another step towards their goals in the industry. \nIf you are someone passionate about a career in camping or a current camp pro looking for more growth and development\, you are EPIC.
URL:https://www.acanewengland.org/event/epic-summer-send-off-campy-hour/
LOCATION:Zoom
CATEGORIES:Education,Emerging Professionals In Camping
ATTACH;FMTTYPE=image/jpeg:https://www.acanewengland.org/wp-content/uploads/2024/05/EPIC_logo-e1715008521864.jpg
ORGANIZER;CN="American Camp Association%2C Inc":MAILTO:membership@acacamps.org
END:VEVENT
END:VCALENDAR