BEGIN:VCALENDAR
VERSION:2.0
PRODID:-//American Camp Association New England - ECPv6.15.20//NONSGML v1.0//EN
CALSCALE:GREGORIAN
METHOD:PUBLISH
X-WR-CALNAME:American Camp Association New England
X-ORIGINAL-URL:https://www.acanewengland.org
X-WR-CALDESC:Events for American Camp Association New England
REFRESH-INTERVAL;VALUE=DURATION:PT1H
X-Robots-Tag:noindex
X-PUBLISHED-TTL:PT1H
BEGIN:VTIMEZONE
TZID:America/New_York
BEGIN:DAYLIGHT
TZOFFSETFROM:-0500
TZOFFSETTO:-0400
TZNAME:EDT
DTSTART:20250309T070000
END:DAYLIGHT
BEGIN:STANDARD
TZOFFSETFROM:-0400
TZOFFSETTO:-0500
TZNAME:EST
DTSTART:20251102T060000
END:STANDARD
BEGIN:DAYLIGHT
TZOFFSETFROM:-0500
TZOFFSETTO:-0400
TZNAME:EDT
DTSTART:20260308T070000
END:DAYLIGHT
BEGIN:STANDARD
TZOFFSETFROM:-0400
TZOFFSETTO:-0500
TZNAME:EST
DTSTART:20261101T060000
END:STANDARD
BEGIN:DAYLIGHT
TZOFFSETFROM:-0500
TZOFFSETTO:-0400
TZNAME:EDT
DTSTART:20270314T070000
END:DAYLIGHT
BEGIN:STANDARD
TZOFFSETFROM:-0400
TZOFFSETTO:-0500
TZNAME:EST
DTSTART:20271107T060000
END:STANDARD
END:VTIMEZONE
BEGIN:VEVENT
DTSTART;TZID=America/New_York:20260506T100000
DTEND;TZID=America/New_York:20260506T113000
DTSTAMP:20260421T090829
CREATED:20260321T145022Z
LAST-MODIFIED:20260323T175021Z
UID:15834-1778061600-1778067000@www.acanewengland.org
SUMMARY:Learnings from the Field: Operationalizing DEI at Camp Presentations
DESCRIPTION:ACA\, New England has been running an ongoing resource community this year\, facilitated by Simone Gamble of OAAARS\, for a group of camp professionals dedicated to exploring what operationalizing DEI at their camp looks like. As part of this group\, participants have been working on an ongoing project related to this work. Join us for an e-session to hear about four of the projects have been working on. \nEach presenter will share about their project and then field Q&A from attendees. The presenters and topics will include: \n\nSupporting our Staff with Improved DEI Trainings\, Abby Griffith\, Assistant Director of Admissions & Lilly Bianchi\, Assistant Director of Leader Hiring)\, Overland Summers\,\nDiscovering the True Value of Camp Empathy Interviews\, Julie Bernson\, Director of Learning\, The Trustees\nShared Language Guide: Addressing Race-Based Harm with Care\, Clarity\, and Consistency\, Rachel Roberts\, Director of Staff Experience\, Camp Starfish\nShared Language Guide: Addressing Race-Based Harm with Care\, Clarity\, and Consistency\, Shawn Moriarty\, Camp Director/ Lead Education Coordinator\, Moose Hill Wildlife Sanctuary\, Mass Audubon\n\nThis offering is free for ACA members and $25 for non-members. \nPlease plan to join us live for these sessions! If you cannot join live\, please register and email kerry@acanewengland.org to request a copy of the recording\, which will be viewable for 30 days following the event. \nRegistration fees are non-refundable\, but may be transferred to another attendee from your camp/organization by emailing kerry@acanewengland.org before the start of the program.
URL:https://www.acanewengland.org/event/learnings-from-the-field-operationalizing-dei-at-camp-presentations/
LOCATION:Zoom
CATEGORIES:Education
ATTACH;FMTTYPE=image/png:https://www.acanewengland.org/wp-content/uploads/2026/03/Learnings-from-the-Field-Operationalizing-DEI-at-Camp-Presentations-450x450-1-1.png
ORGANIZER;CN="ACA%2C New England":MAILTO:camp@acanewengland.org
END:VEVENT
END:VCALENDAR