BEGIN:VCALENDAR
VERSION:2.0
PRODID:-//American Camp Association New England - ECPv6.15.20//NONSGML v1.0//EN
CALSCALE:GREGORIAN
METHOD:PUBLISH
X-ORIGINAL-URL:https://www.acanewengland.org
X-WR-CALDESC:Events for American Camp Association New England
REFRESH-INTERVAL;VALUE=DURATION:PT1H
X-Robots-Tag:noindex
X-PUBLISHED-TTL:PT1H
BEGIN:VTIMEZONE
TZID:America/New_York
BEGIN:DAYLIGHT
TZOFFSETFROM:-0500
TZOFFSETTO:-0400
TZNAME:EDT
DTSTART:20230312T070000
END:DAYLIGHT
BEGIN:STANDARD
TZOFFSETFROM:-0400
TZOFFSETTO:-0500
TZNAME:EST
DTSTART:20231105T060000
END:STANDARD
BEGIN:DAYLIGHT
TZOFFSETFROM:-0500
TZOFFSETTO:-0400
TZNAME:EDT
DTSTART:20240310T070000
END:DAYLIGHT
BEGIN:STANDARD
TZOFFSETFROM:-0400
TZOFFSETTO:-0500
TZNAME:EST
DTSTART:20241103T060000
END:STANDARD
BEGIN:DAYLIGHT
TZOFFSETFROM:-0500
TZOFFSETTO:-0400
TZNAME:EDT
DTSTART:20250309T070000
END:DAYLIGHT
BEGIN:STANDARD
TZOFFSETFROM:-0400
TZOFFSETTO:-0500
TZNAME:EST
DTSTART:20251102T060000
END:STANDARD
END:VTIMEZONE
BEGIN:VEVENT
DTSTART;VALUE=DATE:20241028
DTEND;VALUE=DATE:20241031
DTSTAMP:20260422T201920
CREATED:20241023T170402Z
LAST-MODIFIED:20241023T170458Z
UID:12509-1730073600-1730332799@www.acanewengland.org
SUMMARY:ACA Staffing Summit
DESCRIPTION:The 2024 Staffing Summit will feature critical learning\, speaker panels\, roundtables\, and engaging sessions spanning three days. The virtual delivery of the conference increases the benefits of convenience and value while preserving the great networking and timely information\, which are hallmarks of ACA conferences. We will share practical solutions addressing the staffing shortage\, innovative ways to recruit staff\, and best practices for staff retention. \nThe 2024 Staffing Summit will offer 45 sessions on out-of-the-box ways to connect with staff\, virtual job fairs and interviewing\, recruiting specialized staff\, and so much more. Session recordings will be available to attendees until December 1. Each day will have featured speakers\, keynote presentations from industry thought leaders\, and networking opportunities to share resources and ideas. Don’t miss one of the most important events of the season!
URL:https://www.acanewengland.org/event/aca-staffing-summit-2/
LOCATION:Online
CATEGORIES:Education
ATTACH;FMTTYPE=image/png:https://www.acanewengland.org/wp-content/uploads/2023/08/staffing-summit-23.png
ORGANIZER;CN="American Camp Association%2C Inc":MAILTO:membership@acacamps.org
END:VEVENT
END:VCALENDAR