BEGIN:VCALENDAR
VERSION:2.0
PRODID:-//American Camp Association New England - ECPv6.15.20//NONSGML v1.0//EN
CALSCALE:GREGORIAN
METHOD:PUBLISH
X-ORIGINAL-URL:https://www.acanewengland.org
X-WR-CALDESC:Events for American Camp Association New England
REFRESH-INTERVAL;VALUE=DURATION:PT1H
X-Robots-Tag:noindex
X-PUBLISHED-TTL:PT1H
BEGIN:VTIMEZONE
TZID:America/New_York
BEGIN:DAYLIGHT
TZOFFSETFROM:-0500
TZOFFSETTO:-0400
TZNAME:EDT
DTSTART:20220313T070000
END:DAYLIGHT
BEGIN:STANDARD
TZOFFSETFROM:-0400
TZOFFSETTO:-0500
TZNAME:EST
DTSTART:20221106T060000
END:STANDARD
BEGIN:DAYLIGHT
TZOFFSETFROM:-0500
TZOFFSETTO:-0400
TZNAME:EDT
DTSTART:20230312T070000
END:DAYLIGHT
BEGIN:STANDARD
TZOFFSETFROM:-0400
TZOFFSETTO:-0500
TZNAME:EST
DTSTART:20231105T060000
END:STANDARD
BEGIN:DAYLIGHT
TZOFFSETFROM:-0500
TZOFFSETTO:-0400
TZNAME:EDT
DTSTART:20240310T070000
END:DAYLIGHT
BEGIN:STANDARD
TZOFFSETFROM:-0400
TZOFFSETTO:-0500
TZNAME:EST
DTSTART:20241103T060000
END:STANDARD
END:VTIMEZONE
BEGIN:VEVENT
DTSTART;TZID=America/New_York:20230614T083000
DTEND;TZID=America/New_York:20230616T160000
DTSTAMP:20260423T014437
CREATED:20230505T193741Z
LAST-MODIFIED:20230505T193741Z
UID:9998-1686731400-1686931200@www.acanewengland.org
SUMMARY:Waterfront Lifeguard Training - American Red Cross
DESCRIPTION:American Red Cross WATERFRONT LIFEGUARD TRAINING\nBegins Wednesday\, June 14 at 8:30 AM \nEnds Friday\, June 16 at 4 PM or at the discretion of the instructor \nInstructor: TBD \nCourse Fee: $400.00 \n*Course includes American Red Cross CPR for the Professional and American Red Cross First Aid \nPlease mail the registration along with a check payable to William Lawrence Camp to the address at the top of the registration form. An acknowledgement\, with directions and course information\, will be sent upon receipt of registration. If you have any questions\, please contact us at (603) 569-3698 or knoll@wlcamp.org \n\nPlease register prior to May 31\, 2023. Courses that do not meet minimum enrollment are subject to cancellation. \nROOM AND BOARD: All Course Fees include room and board. Bring a sleeping bag and pillow and stay in one of our cabins. We will provide three meals a day. Participants will be responsible for their own clean-up. \nPlease note that we will expect guests to follow ‘generally accepted camp rules\,’ such as no alcohol or tobacco. All those attending certification courses must be COVID vaccinated. We ask that all those staying with us remain in camp until the completion of their course. Our intent in providing these courses is as a service to our camping community.
URL:https://www.acanewengland.org/event/waterfront-lifeguard-training-american-red-cross/
LOCATION:William Lawrence Camp\, 139 Federal Corner Rd\, Center Tuftonboro\, NH\, 03816
CATEGORIES:Education,Pre-Summer Trainings, Licenses, and Workshops
ATTACH;FMTTYPE=image/jpeg:https://www.acanewengland.org/wp-content/uploads/2019/11/OutdoorSkills-Mowglis-scaled-e1574277263546.jpg
ORGANIZER;CN="William Lawrence Camp":MAILTO:knoll@wlcamp.org
END:VEVENT
BEGIN:VEVENT
DTSTART;TZID=America/New_York:20230614T100000
DTEND;TZID=America/New_York:20230616T170000
DTSTAMP:20260423T014437
CREATED:20230425T144406Z
LAST-MODIFIED:20230425T144406Z
UID:9910-1686736800-1686934800@www.acanewengland.org
SUMMARY:LIFEGUARD TRAINING - Blended Learning with Waterfront Module (r.17) (ARC) (Includes First Aid\, CPR for PR\, AED) Updated 2017
DESCRIPTION:LIFEGUARD TRAINING – Blended Learning with Waterfront Module (r.17) (ARC) (Includes First Aid\, CPR for PR\, AED) Updated 2017  \nWednesday\, June 14th (10:00 AM) – Friday\, June 16th (5:00 PM) \nThis course provides instruction in the necessary skills for an individual to qualify as a lifeguard. \nRequires -Minimum age: 15; excellent physical condition and endurance – Pre-course swim test will take place in the POND: distance swim; timed swim / surface dive with brick retrieval; submerged swim. \nTHIS COURSE REQUIRES ONLINE WORK PRIOR TO ARRIVAL \nPrice: $395 \n\nWINONA TRAINING CLINICS INFORMATION  \nCourse certifications document that a candidate successfully passed the requirements set forth by the American Red Cross (ARC)\, American Heart Association (AHA)\, the State of Maine\, U.S. Sailing Association or Wilderness Medical Associates. \nCertification is not a guarantee at our clinics. Instructors have sole responsibility in determining a candidate’s suitability for enrolling in a course and whether or not certification will be given or withheld\, according to the standards of the governing organization. Winona will abide by instructor decisions\, while assisting candidates to reach their goals. Most requirements for all courses are offered prior to\, after\, or within each course. Each course has a minimum number of participants required to conduct the course. \nNOTE: All swimming course (Lifeguard Instructor\, WSI) candidates are required to bring some type of wetsuit. This is in an effort to limit the problems caused by weather and pond temperature. Lifeguard and Lifeguard Instructors should also bring a mask and fins as they are a required part of the ARC Waterfront courses. All courses which have a CPR component will receive a new pocket mask as part of the course fees.
URL:https://www.acanewengland.org/event/lifeguard-training-blended-learning-with-waterfront-module-r-17-arc-includes-first-aid-cpr-for-pr-aed-updated-2017/
LOCATION:Winona Camps\, 35 Winona Rd\, Bridgton\, ME\, 04009
CATEGORIES:Education,Pre-Summer Trainings, Licenses, and Workshops
ATTACH;FMTTYPE=image/jpeg:https://www.acanewengland.org/wp-content/uploads/2019/11/OutdoorSkills-Mowglis-scaled-e1574277263546.jpg
ORGANIZER;CN="Winona Camps":MAILTO:information@winonacamps.com
END:VEVENT
BEGIN:VEVENT
DTSTART;TZID=America/New_York:20230615T080000
DTEND;TZID=America/New_York:20230616T170000
DTSTAMP:20260423T014437
CREATED:20230425T143137Z
LAST-MODIFIED:20230425T143137Z
UID:9906-1686816000-1686934800@www.acanewengland.org
SUMMARY:WILDERNESS FIRST AID
DESCRIPTION:WILDERNESS FIRST AID (Wilderness Medical Associates) \nSaturday\, June 15th (8:00 AM) – Sunday\, June 16th (5:00 PM) \nThis course trains counselors\, especially trip leaders\, in emergency first aid in wilderness environments. Basic ideas for medicine for the field\, emphasis on practical skills\, and realistic simulation exercises are included. This course includes Wilderness Medical Associates (WMA) Adult CPR. \nRequires-Minimum age: 18 (ages 16 & 17 may participate with written parental permission). REQUIRES ONLINE REGISTRATION WITH WMA. WINONA WILL PROVIDE LINK. SPECIAL NOTES: This course meets ACA mandatory Standard: HW-1C. \nPrice: $225 \n\nWINONA TRAINING CLINICS INFORMATION  \nCourse certifications document that a candidate successfully passed the requirements set forth by the American Red Cross (ARC)\, American Heart Association (AHA)\, the State of Maine\, U.S. Sailing Association or Wilderness Medical Associates. \nCertification is not a guarantee at our clinics. Instructors have sole responsibility in determining a candidate’s suitability for enrolling in a course and whether or not certification will be given or withheld\, according to the standards of the governing organization. Winona will abide by instructor decisions\, while assisting candidates to reach their goals. Most requirements for all courses are offered prior to\, after\, or within each course. Each course has a minimum number of participants required to conduct the course. \nNOTE: All swimming course (Lifeguard Instructor\, WSI) candidates are required to bring some type of wetsuit. This is in an effort to limit the problems caused by weather and pond temperature. Lifeguard and Lifeguard Instructors should also bring a mask and fins as they are a required part of the ARC Waterfront courses. All courses which have a CPR component will receive a new pocket mask as part of the course fees.
URL:https://www.acanewengland.org/event/wilderness-first-aid-3/
LOCATION:Winona Camps\, 35 Winona Rd\, Bridgton\, ME\, 04009
CATEGORIES:Education,Pre-Summer Trainings, Licenses, and Workshops
ATTACH;FMTTYPE=image/jpeg:https://www.acanewengland.org/wp-content/uploads/2019/11/OutdoorSkills-Mowglis-scaled-e1574277263546.jpg
ORGANIZER;CN="Winona Camps":MAILTO:information@winonacamps.com
END:VEVENT
END:VCALENDAR