BEGIN:VCALENDAR
VERSION:2.0
PRODID:-//American Camp Association New England - ECPv6.15.20//NONSGML v1.0//EN
CALSCALE:GREGORIAN
METHOD:PUBLISH
X-ORIGINAL-URL:https://www.acanewengland.org
X-WR-CALDESC:Events for American Camp Association New England
REFRESH-INTERVAL;VALUE=DURATION:PT1H
X-Robots-Tag:noindex
X-PUBLISHED-TTL:PT1H
BEGIN:VTIMEZONE
TZID:America/New_York
BEGIN:DAYLIGHT
TZOFFSETFROM:-0500
TZOFFSETTO:-0400
TZNAME:EDT
DTSTART:20220313T070000
END:DAYLIGHT
BEGIN:STANDARD
TZOFFSETFROM:-0400
TZOFFSETTO:-0500
TZNAME:EST
DTSTART:20221106T060000
END:STANDARD
BEGIN:DAYLIGHT
TZOFFSETFROM:-0500
TZOFFSETTO:-0400
TZNAME:EDT
DTSTART:20230312T070000
END:DAYLIGHT
BEGIN:STANDARD
TZOFFSETFROM:-0400
TZOFFSETTO:-0500
TZNAME:EST
DTSTART:20231105T060000
END:STANDARD
BEGIN:DAYLIGHT
TZOFFSETFROM:-0500
TZOFFSETTO:-0400
TZNAME:EDT
DTSTART:20240310T070000
END:DAYLIGHT
BEGIN:STANDARD
TZOFFSETFROM:-0400
TZOFFSETTO:-0500
TZNAME:EST
DTSTART:20241103T060000
END:STANDARD
END:VTIMEZONE
BEGIN:VEVENT
DTSTART;TZID=America/New_York:20230421T090000
DTEND;TZID=America/New_York:20230421T180000
DTSTAMP:20260423T014437
CREATED:20221123T153612Z
LAST-MODIFIED:20221205T200743Z
UID:8677-1682067600-1682100000@www.acanewengland.org
SUMMARY:NE Associate Visitor Course Spring 2023
DESCRIPTION:Join an amazing team of volunteers!\nThis course is an in-person training. Participants must attend all learning sessions over the timeframe to successfully become an accreditation volunteer. This course requires active participation and engagement. \nACA’s accreditation program is the only national peer review program of its kind for the camp industry. Being an ACA visitor provides you with the experience to build your network\, polish your skills in observation and risk management\, and develop mentoring opportunities for both you and the camps you work with. As much as you give to this experience\, you’ll gain from new ideas\, perspectives\, and approaches to the mission-driven work of the camp industry. \n\n\n\n\n\n\n\n\n\nAdditional Information \n\nThere is a pre-course as part of this course.   \nThe pre-course will need to be completed no later then April 14\, 2023
URL:https://www.acanewengland.org/event/ne-associate-visitor-course-spring-2023/
LOCATION:Camp Hazen YMCA\, 204 W Main St\, Chester\, CT\, 06412
CATEGORIES:Education,Associate Visitor Course
ATTACH;FMTTYPE=image/jpeg:https://www.acanewengland.org/wp-content/uploads/2019/11/OutdoorSkills-Mowglis-scaled-e1574277263546.jpg
ORGANIZER;CN="Elizabeth Snell":MAILTO:elizabeth@acanewengland.org
END:VEVENT
END:VCALENDAR