BEGIN:VCALENDAR
VERSION:2.0
PRODID:-//American Camp Association New England - ECPv6.15.20//NONSGML v1.0//EN
CALSCALE:GREGORIAN
METHOD:PUBLISH
X-ORIGINAL-URL:https://www.acanewengland.org
X-WR-CALDESC:Events for American Camp Association New England
REFRESH-INTERVAL;VALUE=DURATION:PT1H
X-Robots-Tag:noindex
X-PUBLISHED-TTL:PT1H
BEGIN:VTIMEZONE
TZID:America/New_York
BEGIN:DAYLIGHT
TZOFFSETFROM:-0500
TZOFFSETTO:-0400
TZNAME:EDT
DTSTART:20220313T070000
END:DAYLIGHT
BEGIN:STANDARD
TZOFFSETFROM:-0400
TZOFFSETTO:-0500
TZNAME:EST
DTSTART:20221106T060000
END:STANDARD
BEGIN:DAYLIGHT
TZOFFSETFROM:-0500
TZOFFSETTO:-0400
TZNAME:EDT
DTSTART:20230312T070000
END:DAYLIGHT
BEGIN:STANDARD
TZOFFSETFROM:-0400
TZOFFSETTO:-0500
TZNAME:EST
DTSTART:20231105T060000
END:STANDARD
BEGIN:DAYLIGHT
TZOFFSETFROM:-0500
TZOFFSETTO:-0400
TZNAME:EDT
DTSTART:20240310T070000
END:DAYLIGHT
BEGIN:STANDARD
TZOFFSETFROM:-0400
TZOFFSETTO:-0500
TZNAME:EST
DTSTART:20241103T060000
END:STANDARD
END:VTIMEZONE
BEGIN:VEVENT
DTSTART;TZID=America/New_York:20230206T110000
DTEND;TZID=America/New_York:20230206T120000
DTSTAMP:20260423T173201
CREATED:20230117T195617Z
LAST-MODIFIED:20230119T210327Z
UID:9074-1675681200-1675684800@www.acanewengland.org
SUMMARY:Google Ad Grants 101: From Application to Launch
DESCRIPTION:Google Ad Grants 101: From Application to Launch\nQualifying nonprofits can access up to $10\,000 per month in search ads shown on Google.com. In this session\, Holly and Jennifer will walk you through the application process\, explain some of the fine print and share tips on Ad Grant best practices. \nWhat to bring with you to the session: \n\nYour nonprofit EIN\nYour camp’s business address associated with your EIN\nYour TechSoup account information. If you don’t have one already\, create an account before the session\nAccess to the main email address associated with your camp (This is to receive communication from Google about the Ad Grant request. Info@ or admin@ emails are usually good. We advise against using a personal email because it can lead to access issues in the future if there are staff changes.)\n\nWhen: Monday\, February 6\, 11 am – 12 pm ET \nWhere: Zoom \nCost: $20 for members; $30 for non-members \nRegister for more than one of the Online Tools series (Google Ads on 2/6\, Indeed on 2/13\, and TikTok and Reels on 2/27) and receive 25% off using code NE23ONLINE at check-out. \nRegistration Link \nThe session will be recorded and available for 30 days if you are unable to join us live. \nAbout the Presenters:  \nHolly Hearn is an Account Manager who joined the Social Summer Camp (SSC) team in 2019. Her educational background is in digital media\, and she has found an interest in ad strategy development since joining SSC. She is skilled in ppc marketing\, social media marketing\, conversion tracking\, creative development and copywriting. Holly’s home base is Austin\, Texas but you will often find her working remotely around the country. She enjoys climbing\, skiing\, meeting new friends\, and spending time with her dog\, Charlie. \nJennifer Raimondo joined Social Summer Camp as a Social Media Associate in February 2022. Now as an Account Manager\, she looks forward to creating ad campaigns and helping clients achieve their enrollment and engagement goals. Jennifer graduated from the State University of New York at New Paltz with a B.A. in English Education. Prior to Social Summer Camp\, Jennifer taught English in the United States and Costa Rica. She discovered her passion for digital marketing while managing and creating content for her school’s social media accounts. Due to her background in education\, Jennifer has a keen awareness of what parents want for their children and uses that knowledge to produce engaging content and effective ads. \nQuestions? Contact Kerry Salvo\, Director of Education and Professional Development at ACA\, New England\, kerry@acanewengland.org or 781-541-6080. \nRegistrations are non-refundable\, but may be transferred to another participant from your camp/organization. \n\nOnline Tools to Boost Your Camp (series of three e-sessions)\nJoin ACA\, New England for a series of three fast-paced e-sessions on Online Tools to Boost Your Camp in February 2023! \n\nGoogle Ad Grants 101: From Application to Launch (2/6)\nIndeed & How to Hire Online in 2023 (2/13)\nTikTok & Instagram Reels: How to Boost Your Social Media Presence (2/27)\n\nEach 45-60-minute session will take folks through a trend or tool that we think can be useful for our camps! The Google Ad session is specifically for non-profits and the other sessions are for anyone. If you can’t join us live\, session recordings will be available for 30 days. \nRegister for one session or multiple sessions. If you register at least one person from your camp/organization for more than one session\, use code NE23ONLINE during check-out to get 25% off your registration fees for each session you sign up for. \nThat means if you’re an ACA member\, you can sign up for all three sessions for just $45! \nSession presenters Holly Hearn\, Jennifer Raimondo\, Angela Bersani\, and Breanna Roiz are all with Social Summer Camp\, a company focused on providing the tools and expertise that summer camps and schools need to build\, manage\, and monetize social media campaigns.
URL:https://www.acanewengland.org/event/googleadgrants101/
LOCATION:Zoom
CATEGORIES:Education
ATTACH;FMTTYPE=image/png:https://www.acanewengland.org/wp-content/uploads/2023/01/online-tools-26-213-227-1.png
ORGANIZER;CN="Kerry Salvo":MAILTO:kerry@acanewengland.org
END:VEVENT
END:VCALENDAR