BEGIN:VCALENDAR
VERSION:2.0
PRODID:-//American Camp Association New England - ECPv6.15.20//NONSGML v1.0//EN
CALSCALE:GREGORIAN
METHOD:PUBLISH
X-ORIGINAL-URL:https://www.acanewengland.org
X-WR-CALDESC:Events for American Camp Association New England
REFRESH-INTERVAL;VALUE=DURATION:PT1H
X-Robots-Tag:noindex
X-PUBLISHED-TTL:PT1H
BEGIN:VTIMEZONE
TZID:America/New_York
BEGIN:DAYLIGHT
TZOFFSETFROM:-0500
TZOFFSETTO:-0400
TZNAME:EDT
DTSTART:20210314T070000
END:DAYLIGHT
BEGIN:STANDARD
TZOFFSETFROM:-0400
TZOFFSETTO:-0500
TZNAME:EST
DTSTART:20211107T060000
END:STANDARD
BEGIN:DAYLIGHT
TZOFFSETFROM:-0500
TZOFFSETTO:-0400
TZNAME:EDT
DTSTART:20220313T070000
END:DAYLIGHT
BEGIN:STANDARD
TZOFFSETFROM:-0400
TZOFFSETTO:-0500
TZNAME:EST
DTSTART:20221106T060000
END:STANDARD
BEGIN:DAYLIGHT
TZOFFSETFROM:-0500
TZOFFSETTO:-0400
TZNAME:EDT
DTSTART:20230312T070000
END:DAYLIGHT
BEGIN:STANDARD
TZOFFSETFROM:-0400
TZOFFSETTO:-0500
TZNAME:EST
DTSTART:20231105T060000
END:STANDARD
END:VTIMEZONE
BEGIN:VEVENT
DTSTART;TZID=America/New_York:20220512T130000
DTEND;TZID=America/New_York:20220512T140000
DTSTAMP:20260422T194350
CREATED:20220506T183929Z
LAST-MODIFIED:20220523T100659Z
UID:7727-1652360400-1652364000@www.acanewengland.org
SUMMARY:Hot Topics
DESCRIPTION:Thursdays in May from 1:00pm – 2:00pm ET\, EPIC\, New England is gonna pop open a Zoom room for anyone with burning questions\, hot topics\, or those who just want to commiserate with fellow EPICs as summer approaches. \nStaffing – Testing – Vans – Beds – Programming – Health Center – Camper profiles – Etc.\nRegistration is required by punctuality is a moveable feast. We’ll be there the whole time so drop-in when/if you can. \nAnd if you can’t make the Hot Topics session\, stay connected with EPIC\, New England by signing up for our mailing list below. \n\n\n\n\nSubscribe\n* indicates required\nEmail Address *\n\n\nFirst Name \n\nLast Name \n\nOrganization \n\n\n\n\n\n \n\n\n\n \n \n\n\n\n\n\n\n \n\nEmerging Professionals in Camping\nStarted in 2004 through the ACA\, New York Affiliate Office\, Emerging Professionals In Camping is a community of camp people who want to grow a career in the camp industry or folks who may have other year-round jobs but are life-long camp professionals. There are no official requirements to participate in EPIC. If you’re making the jump from seasonal to year-round or part-time to full-time; if you’re transitioning into camping from another career; and/or if you’re looking for a network of camp colleagues who together are seeking resources\, education\, opportunities and growth for themselves and for camp\, give EPIC a try. \nIn January 2019\, a group of emerging professionals in New England camping gathered at the ACA\, New England office in Lexington\, MA. Since then\, EPIC\, New England has continued to provide opportunities for anyone making that move into a camp career or taking that next step towards their goals in the industry. \n 
URL:https://www.acanewengland.org/event/hot-topics-for-summer-camp-staff/2022-05-12/
LOCATION:Zoom
CATEGORIES:Education,Emerging Professionals In Camping
ATTACH;FMTTYPE=image/jpeg:https://www.acanewengland.org/wp-content/uploads/2019/11/OutdoorSkills-Mowglis-scaled-e1574277263546.jpg
ORGANIZER;CN="Bud Copeland":MAILTO:bud@acanewengland.org
END:VEVENT
END:VCALENDAR