BEGIN:VCALENDAR
VERSION:2.0
PRODID:-//American Camp Association New England - ECPv6.15.20//NONSGML v1.0//EN
CALSCALE:GREGORIAN
METHOD:PUBLISH
X-WR-CALNAME:American Camp Association New England
X-ORIGINAL-URL:https://www.acanewengland.org
X-WR-CALDESC:Events for American Camp Association New England
REFRESH-INTERVAL;VALUE=DURATION:PT1H
X-Robots-Tag:noindex
X-PUBLISHED-TTL:PT1H
BEGIN:VTIMEZONE
TZID:America/New_York
BEGIN:DAYLIGHT
TZOFFSETFROM:-0500
TZOFFSETTO:-0400
TZNAME:EDT
DTSTART:20190310T070000
END:DAYLIGHT
BEGIN:STANDARD
TZOFFSETFROM:-0400
TZOFFSETTO:-0500
TZNAME:EST
DTSTART:20191103T060000
END:STANDARD
BEGIN:DAYLIGHT
TZOFFSETFROM:-0500
TZOFFSETTO:-0400
TZNAME:EDT
DTSTART:20200308T070000
END:DAYLIGHT
BEGIN:STANDARD
TZOFFSETFROM:-0400
TZOFFSETTO:-0500
TZNAME:EST
DTSTART:20201101T060000
END:STANDARD
BEGIN:DAYLIGHT
TZOFFSETFROM:-0500
TZOFFSETTO:-0400
TZNAME:EDT
DTSTART:20210314T070000
END:DAYLIGHT
BEGIN:STANDARD
TZOFFSETFROM:-0400
TZOFFSETTO:-0500
TZNAME:EST
DTSTART:20211107T060000
END:STANDARD
END:VTIMEZONE
BEGIN:VEVENT
DTSTART;TZID=America/New_York:20201117T093000
DTEND;TZID=America/New_York:20201119T120000
DTSTAMP:20260423T050621
CREATED:20201030T170541Z
LAST-MODIFIED:20201106T112742Z
UID:4355-1605605400-1605787200@www.acanewengland.org
SUMMARY:Associate Visitor Course - New England
DESCRIPTION:ACA New England needs YOU as a visitor! Join us for our next Associate Visitor Course.\nThis course is a blended learning course with the first portion completed virtually followed by an in person session.   \n\n\n\n\n\n\n\n\nPreregistration for this course is required. \nRegistration Deadline November 16\, 2020 \nVirtual Sessions to be held: November 17  (9:30AM – 12:00PM) AND November 19 (9:30AM-12:00PM)\nIn person mock visits dates will be announced at the course. \nParticipants must attend BOTH sessions (one registration through button above).  
URL:https://www.acanewengland.org/event/associate-visitor-course-new-england/2020-11-17/
LOCATION:Zoom
CATEGORIES:Education,Associate Visitor Course,Training
ATTACH;FMTTYPE=image/jpeg:https://www.acanewengland.org/wp-content/uploads/2019/11/OutdoorSkills-Mowglis-scaled-e1574277263546.jpg
ORGANIZER;CN="Elizabeth Snell":MAILTO:elizabeth@acanewengland.org
END:VEVENT
END:VCALENDAR